BEGIN:VCALENDAR
VERSION:2.0
PRODID:-//Laurel Magazine - ECPv6.15.16//NONSGML v1.0//EN
CALSCALE:GREGORIAN
METHOD:PUBLISH
X-WR-CALNAME:Laurel Magazine
X-ORIGINAL-URL:https://thelaurelmagazine.com
X-WR-CALDESC:Events for Laurel Magazine
REFRESH-INTERVAL;VALUE=DURATION:PT1H
X-Robots-Tag:noindex
X-PUBLISHED-TTL:PT1H
BEGIN:VTIMEZONE
TZID:America/New_York
BEGIN:DAYLIGHT
TZOFFSETFROM:-0500
TZOFFSETTO:-0400
TZNAME:EDT
DTSTART:20250309T070000
END:DAYLIGHT
BEGIN:STANDARD
TZOFFSETFROM:-0400
TZOFFSETTO:-0500
TZNAME:EST
DTSTART:20251102T060000
END:STANDARD
BEGIN:DAYLIGHT
TZOFFSETFROM:-0500
TZOFFSETTO:-0400
TZNAME:EDT
DTSTART:20260308T070000
END:DAYLIGHT
BEGIN:STANDARD
TZOFFSETFROM:-0400
TZOFFSETTO:-0500
TZNAME:EST
DTSTART:20261101T060000
END:STANDARD
BEGIN:DAYLIGHT
TZOFFSETFROM:-0500
TZOFFSETTO:-0400
TZNAME:EDT
DTSTART:20270314T070000
END:DAYLIGHT
BEGIN:STANDARD
TZOFFSETFROM:-0400
TZOFFSETTO:-0500
TZNAME:EST
DTSTART:20271107T060000
END:STANDARD
BEGIN:DAYLIGHT
TZOFFSETFROM:-0500
TZOFFSETTO:-0400
TZNAME:EDT
DTSTART:20280312T070000
END:DAYLIGHT
BEGIN:STANDARD
TZOFFSETFROM:-0400
TZOFFSETTO:-0500
TZNAME:EST
DTSTART:20281105T060000
END:STANDARD
BEGIN:DAYLIGHT
TZOFFSETFROM:-0500
TZOFFSETTO:-0400
TZNAME:EDT
DTSTART:20290311T070000
END:DAYLIGHT
BEGIN:STANDARD
TZOFFSETFROM:-0400
TZOFFSETTO:-0500
TZNAME:EST
DTSTART:20291104T060000
END:STANDARD
END:VTIMEZONE
BEGIN:VEVENT
DTSTART;TZID=America/New_York:20260926T100000
DTEND;TZID=America/New_York:20260926T120000
DTSTAMP:20260423T061922
CREATED:20250731T142921Z
LAST-MODIFIED:20250731T142921Z
UID:110746-1790416800-1790424000@thelaurelmagazine.com
SUMMARY:Fiber Club at The Bascom
DESCRIPTION:The Bascom’s Fiber Club is made up of an enthusiastic community of fiber artists who come together weekly to share patterns and stories at The Bascom. Meetings take place on the Terrace. \nIn inclement weather\, the group moves inside to the Library\, but their enthusiasm is never dampened. \nFavorites Count: 0
URL:https://thelaurelmagazine.com/local-event/fiber-club-at-the-bascom-2/2026-09-26
LOCATION:The Bascom\, 323 Franklin Rd\, Highlands\, NC\, 28741\, United States
CATEGORIES:Community,Visual Arts
ATTACH;FMTTYPE=image/jpeg:https://thelaurelmagazine.com/wp-content/uploads/2025/07/highlands-nc-bascom-fiber-club-1.jpg
END:VEVENT
BEGIN:VEVENT
DTSTART;TZID=America/New_York:20270116T100000
DTEND;TZID=America/New_York:20270116T120000
DTSTAMP:20260423T061922
CREATED:20250731T142921Z
LAST-MODIFIED:20250731T142921Z
UID:110762-1800093600-1800100800@thelaurelmagazine.com
SUMMARY:Fiber Club at The Bascom
DESCRIPTION:The Bascom’s Fiber Club is made up of an enthusiastic community of fiber artists who come together weekly to share patterns and stories at The Bascom. Meetings take place on the Terrace. \nIn inclement weather\, the group moves inside to the Library\, but their enthusiasm is never dampened. \nFavorites Count: 0
URL:https://thelaurelmagazine.com/local-event/fiber-club-at-the-bascom-2/2027-01-16
LOCATION:The Bascom\, 323 Franklin Rd\, Highlands\, NC\, 28741\, United States
CATEGORIES:Community,Visual Arts
ATTACH;FMTTYPE=image/jpeg:https://thelaurelmagazine.com/wp-content/uploads/2025/07/highlands-nc-bascom-fiber-club-1.jpg
END:VEVENT
BEGIN:VEVENT
DTSTART;TZID=America/New_York:20270508T100000
DTEND;TZID=America/New_York:20270508T120000
DTSTAMP:20260423T061922
CREATED:20250731T142921Z
LAST-MODIFIED:20250731T142921Z
UID:110778-1809770400-1809777600@thelaurelmagazine.com
SUMMARY:Fiber Club at The Bascom
DESCRIPTION:The Bascom’s Fiber Club is made up of an enthusiastic community of fiber artists who come together weekly to share patterns and stories at The Bascom. Meetings take place on the Terrace. \nIn inclement weather\, the group moves inside to the Library\, but their enthusiasm is never dampened. \nFavorites Count: 0
URL:https://thelaurelmagazine.com/local-event/fiber-club-at-the-bascom-2/2027-05-08
LOCATION:The Bascom\, 323 Franklin Rd\, Highlands\, NC\, 28741\, United States
CATEGORIES:Community,Visual Arts
ATTACH;FMTTYPE=image/jpeg:https://thelaurelmagazine.com/wp-content/uploads/2025/07/highlands-nc-bascom-fiber-club-1.jpg
END:VEVENT
BEGIN:VEVENT
DTSTART;TZID=America/New_York:20260523T100000
DTEND;TZID=America/New_York:20260523T120000
DTSTAMP:20260423T061922
CREATED:20250731T142921Z
LAST-MODIFIED:20260113T192427Z
UID:110728-1779530400-1779537600@thelaurelmagazine.com
SUMMARY:Fiber Club at The Bascom
DESCRIPTION:The Bascom’s Fiber Club is made up of an enthusiastic community of fiber artists who come together weekly to share patterns and stories at The Bascom. Meetings take place on the Terrace. \nIn inclement weather\, the group moves inside to the Library\, but their enthusiasm is never dampened. \nFavorites Count: 0
URL:https://thelaurelmagazine.com/local-event/fiber-club-at-the-bascom-2/2026-05-23
LOCATION:The Bascom\, 323 Franklin Rd\, Highlands\, NC\, 28741\, United States
CATEGORIES:Community,Visual Arts
ATTACH;FMTTYPE=image/jpeg:https://thelaurelmagazine.com/wp-content/uploads/2025/07/highlands-nc-bascom-fiber-club-1.jpg
END:VEVENT
BEGIN:VEVENT
DTSTART;TZID=America/New_York:20271009T100000
DTEND;TZID=America/New_York:20271009T120000
DTSTAMP:20260423T061922
CREATED:20250731T142921Z
LAST-MODIFIED:20250731T142921Z
UID:103569-1823076000-1823083200@thelaurelmagazine.com
SUMMARY:Fiber Club at The Bascom
DESCRIPTION:The Bascom’s Fiber Club is made up of an enthusiastic community of fiber artists who come together weekly to share patterns and stories at The Bascom. Meetings take place on the Terrace. \nIn inclement weather\, the group moves inside to the Library\, but their enthusiasm is never dampened. \nFavorites Count: 0
URL:https://thelaurelmagazine.com/local-event/fiber-club-at-the-bascom-2/2027-10-09
LOCATION:The Bascom\, 323 Franklin Rd\, Highlands\, NC\, 28741\, United States
CATEGORIES:Community,Visual Arts
ATTACH;FMTTYPE=image/jpeg:https://thelaurelmagazine.com/wp-content/uploads/2025/07/highlands-nc-bascom-fiber-club-1.jpg
END:VEVENT
BEGIN:VEVENT
DTSTART;TZID=America/New_York:20260613T100000
DTEND;TZID=America/New_York:20260613T120000
DTSTAMP:20260423T061922
CREATED:20250731T142921Z
LAST-MODIFIED:20250731T142921Z
UID:110731-1781344800-1781352000@thelaurelmagazine.com
SUMMARY:Fiber Club at The Bascom
DESCRIPTION:The Bascom’s Fiber Club is made up of an enthusiastic community of fiber artists who come together weekly to share patterns and stories at The Bascom. Meetings take place on the Terrace. \nIn inclement weather\, the group moves inside to the Library\, but their enthusiasm is never dampened. \nFavorites Count: 0
URL:https://thelaurelmagazine.com/local-event/fiber-club-at-the-bascom-2/2026-06-13
LOCATION:The Bascom\, 323 Franklin Rd\, Highlands\, NC\, 28741\, United States
CATEGORIES:Community,Visual Arts
ATTACH;FMTTYPE=image/jpeg:https://thelaurelmagazine.com/wp-content/uploads/2025/07/highlands-nc-bascom-fiber-club-1.jpg
END:VEVENT
BEGIN:VEVENT
DTSTART;TZID=America/New_York:20261003T100000
DTEND;TZID=America/New_York:20261003T120000
DTSTAMP:20260423T061922
CREATED:20250731T142921Z
LAST-MODIFIED:20250731T142921Z
UID:110747-1791021600-1791028800@thelaurelmagazine.com
SUMMARY:Fiber Club at The Bascom
DESCRIPTION:The Bascom’s Fiber Club is made up of an enthusiastic community of fiber artists who come together weekly to share patterns and stories at The Bascom. Meetings take place on the Terrace. \nIn inclement weather\, the group moves inside to the Library\, but their enthusiasm is never dampened. \nFavorites Count: 0
URL:https://thelaurelmagazine.com/local-event/fiber-club-at-the-bascom-2/2026-10-03
LOCATION:The Bascom\, 323 Franklin Rd\, Highlands\, NC\, 28741\, United States
CATEGORIES:Community,Visual Arts
ATTACH;FMTTYPE=image/jpeg:https://thelaurelmagazine.com/wp-content/uploads/2025/07/highlands-nc-bascom-fiber-club-1.jpg
END:VEVENT
BEGIN:VEVENT
DTSTART;TZID=America/New_York:20270123T100000
DTEND;TZID=America/New_York:20270123T120000
DTSTAMP:20260423T061922
CREATED:20250731T142921Z
LAST-MODIFIED:20250731T142921Z
UID:110763-1800698400-1800705600@thelaurelmagazine.com
SUMMARY:Fiber Club at The Bascom
DESCRIPTION:The Bascom’s Fiber Club is made up of an enthusiastic community of fiber artists who come together weekly to share patterns and stories at The Bascom. Meetings take place on the Terrace. \nIn inclement weather\, the group moves inside to the Library\, but their enthusiasm is never dampened. \nFavorites Count: 0
URL:https://thelaurelmagazine.com/local-event/fiber-club-at-the-bascom-2/2027-01-23
LOCATION:The Bascom\, 323 Franklin Rd\, Highlands\, NC\, 28741\, United States
CATEGORIES:Community,Visual Arts
ATTACH;FMTTYPE=image/jpeg:https://thelaurelmagazine.com/wp-content/uploads/2025/07/highlands-nc-bascom-fiber-club-1.jpg
END:VEVENT
BEGIN:VEVENT
DTSTART;TZID=America/New_York:20270515T100000
DTEND;TZID=America/New_York:20270515T120000
DTSTAMP:20260423T061922
CREATED:20250731T142921Z
LAST-MODIFIED:20250731T142921Z
UID:110779-1810375200-1810382400@thelaurelmagazine.com
SUMMARY:Fiber Club at The Bascom
DESCRIPTION:The Bascom’s Fiber Club is made up of an enthusiastic community of fiber artists who come together weekly to share patterns and stories at The Bascom. Meetings take place on the Terrace. \nIn inclement weather\, the group moves inside to the Library\, but their enthusiasm is never dampened. \nFavorites Count: 0
URL:https://thelaurelmagazine.com/local-event/fiber-club-at-the-bascom-2/2027-05-15
LOCATION:The Bascom\, 323 Franklin Rd\, Highlands\, NC\, 28741\, United States
CATEGORIES:Community,Visual Arts
ATTACH;FMTTYPE=image/jpeg:https://thelaurelmagazine.com/wp-content/uploads/2025/07/highlands-nc-bascom-fiber-club-1.jpg
END:VEVENT
BEGIN:VEVENT
DTSTART;TZID=America/New_York:20280115T100000
DTEND;TZID=America/New_York:20280115T120000
DTSTAMP:20260423T061922
CREATED:20250731T142921Z
LAST-MODIFIED:20250731T142921Z
UID:111012-1831543200-1831550400@thelaurelmagazine.com
SUMMARY:Fiber Club at The Bascom
DESCRIPTION:The Bascom’s Fiber Club is made up of an enthusiastic community of fiber artists who come together weekly to share patterns and stories at The Bascom. Meetings take place on the Terrace. \nIn inclement weather\, the group moves inside to the Library\, but their enthusiasm is never dampened. \nFavorites Count: 0
URL:https://thelaurelmagazine.com/local-event/fiber-club-at-the-bascom-2/2028-01-15
LOCATION:The Bascom\, 323 Franklin Rd\, Highlands\, NC\, 28741\, United States
CATEGORIES:Community,Visual Arts
ATTACH;FMTTYPE=image/jpeg:https://thelaurelmagazine.com/wp-content/uploads/2025/07/highlands-nc-bascom-fiber-club-1.jpg
END:VEVENT
BEGIN:VEVENT
DTSTART;TZID=America/New_York:20280205T100000
DTEND;TZID=America/New_York:20280205T120000
DTSTAMP:20260423T061922
CREATED:20250731T142921Z
LAST-MODIFIED:20250731T142921Z
UID:114603-1833357600-1833364800@thelaurelmagazine.com
SUMMARY:Fiber Club at The Bascom
DESCRIPTION:The Bascom’s Fiber Club is made up of an enthusiastic community of fiber artists who come together weekly to share patterns and stories at The Bascom. Meetings take place on the Terrace. \nIn inclement weather\, the group moves inside to the Library\, but their enthusiasm is never dampened. \nFavorites Count: 0
URL:https://thelaurelmagazine.com/local-event/fiber-club-at-the-bascom-2/2028-02-05
LOCATION:The Bascom\, 323 Franklin Rd\, Highlands\, NC\, 28741\, United States
CATEGORIES:Community,Visual Arts
ATTACH;FMTTYPE=image/jpeg:https://thelaurelmagazine.com/wp-content/uploads/2025/07/highlands-nc-bascom-fiber-club-1.jpg
END:VEVENT
BEGIN:VEVENT
DTSTART;TZID=America/New_York:20280401T100000
DTEND;TZID=America/New_York:20280401T120000
DTSTAMP:20260423T061922
CREATED:20250731T142921Z
LAST-MODIFIED:20250731T142921Z
UID:116737-1838196000-1838203200@thelaurelmagazine.com
SUMMARY:Fiber Club at The Bascom
DESCRIPTION:The Bascom’s Fiber Club is made up of an enthusiastic community of fiber artists who come together weekly to share patterns and stories at The Bascom. Meetings take place on the Terrace. \nIn inclement weather\, the group moves inside to the Library\, but their enthusiasm is never dampened. \nFavorites Count: 0
URL:https://thelaurelmagazine.com/local-event/fiber-club-at-the-bascom-2/2028-04-01
LOCATION:The Bascom\, 323 Franklin Rd\, Highlands\, NC\, 28741\, United States
CATEGORIES:Community,Visual Arts
ATTACH;FMTTYPE=image/jpeg:https://thelaurelmagazine.com/wp-content/uploads/2025/07/highlands-nc-bascom-fiber-club-1.jpg
END:VEVENT
BEGIN:VEVENT
DTSTART;TZID=America/New_York:20271016T100000
DTEND;TZID=America/New_York:20271016T120000
DTSTAMP:20260423T061922
CREATED:20250731T142921Z
LAST-MODIFIED:20250731T142921Z
UID:103939-1823680800-1823688000@thelaurelmagazine.com
SUMMARY:Fiber Club at The Bascom
DESCRIPTION:The Bascom’s Fiber Club is made up of an enthusiastic community of fiber artists who come together weekly to share patterns and stories at The Bascom. Meetings take place on the Terrace. \nIn inclement weather\, the group moves inside to the Library\, but their enthusiasm is never dampened. \nFavorites Count: 0
URL:https://thelaurelmagazine.com/local-event/fiber-club-at-the-bascom-2/2027-10-16
LOCATION:The Bascom\, 323 Franklin Rd\, Highlands\, NC\, 28741\, United States
CATEGORIES:Community,Visual Arts
ATTACH;FMTTYPE=image/jpeg:https://thelaurelmagazine.com/wp-content/uploads/2025/07/highlands-nc-bascom-fiber-club-1.jpg
END:VEVENT
BEGIN:VEVENT
DTSTART;TZID=America/New_York:20260620T100000
DTEND;TZID=America/New_York:20260620T120000
DTSTAMP:20260423T061922
CREATED:20250731T142921Z
LAST-MODIFIED:20250731T142921Z
UID:110732-1781949600-1781956800@thelaurelmagazine.com
SUMMARY:Fiber Club at The Bascom
DESCRIPTION:The Bascom’s Fiber Club is made up of an enthusiastic community of fiber artists who come together weekly to share patterns and stories at The Bascom. Meetings take place on the Terrace. \nIn inclement weather\, the group moves inside to the Library\, but their enthusiasm is never dampened. \nFavorites Count: 0
URL:https://thelaurelmagazine.com/local-event/fiber-club-at-the-bascom-2/2026-06-20
LOCATION:The Bascom\, 323 Franklin Rd\, Highlands\, NC\, 28741\, United States
CATEGORIES:Community,Visual Arts
ATTACH;FMTTYPE=image/jpeg:https://thelaurelmagazine.com/wp-content/uploads/2025/07/highlands-nc-bascom-fiber-club-1.jpg
END:VEVENT
BEGIN:VEVENT
DTSTART;TZID=America/New_York:20261010T100000
DTEND;TZID=America/New_York:20261010T120000
DTSTAMP:20260423T061922
CREATED:20250731T142921Z
LAST-MODIFIED:20250731T142921Z
UID:110748-1791626400-1791633600@thelaurelmagazine.com
SUMMARY:Fiber Club at The Bascom
DESCRIPTION:The Bascom’s Fiber Club is made up of an enthusiastic community of fiber artists who come together weekly to share patterns and stories at The Bascom. Meetings take place on the Terrace. \nIn inclement weather\, the group moves inside to the Library\, but their enthusiasm is never dampened. \nFavorites Count: 0
URL:https://thelaurelmagazine.com/local-event/fiber-club-at-the-bascom-2/2026-10-10
LOCATION:The Bascom\, 323 Franklin Rd\, Highlands\, NC\, 28741\, United States
CATEGORIES:Community,Visual Arts
ATTACH;FMTTYPE=image/jpeg:https://thelaurelmagazine.com/wp-content/uploads/2025/07/highlands-nc-bascom-fiber-club-1.jpg
END:VEVENT
BEGIN:VEVENT
DTSTART;TZID=America/New_York:20270130T100000
DTEND;TZID=America/New_York:20270130T120000
DTSTAMP:20260423T061922
CREATED:20250731T142921Z
LAST-MODIFIED:20250731T142921Z
UID:110764-1801303200-1801310400@thelaurelmagazine.com
SUMMARY:Fiber Club at The Bascom
DESCRIPTION:The Bascom’s Fiber Club is made up of an enthusiastic community of fiber artists who come together weekly to share patterns and stories at The Bascom. Meetings take place on the Terrace. \nIn inclement weather\, the group moves inside to the Library\, but their enthusiasm is never dampened. \nFavorites Count: 0
URL:https://thelaurelmagazine.com/local-event/fiber-club-at-the-bascom-2/2027-01-30
LOCATION:The Bascom\, 323 Franklin Rd\, Highlands\, NC\, 28741\, United States
CATEGORIES:Community,Visual Arts
ATTACH;FMTTYPE=image/jpeg:https://thelaurelmagazine.com/wp-content/uploads/2025/07/highlands-nc-bascom-fiber-club-1.jpg
END:VEVENT
BEGIN:VEVENT
DTSTART;TZID=America/New_York:20270522T100000
DTEND;TZID=America/New_York:20270522T120000
DTSTAMP:20260423T061922
CREATED:20250731T142921Z
LAST-MODIFIED:20250731T142921Z
UID:110780-1810980000-1810987200@thelaurelmagazine.com
SUMMARY:Fiber Club at The Bascom
DESCRIPTION:The Bascom’s Fiber Club is made up of an enthusiastic community of fiber artists who come together weekly to share patterns and stories at The Bascom. Meetings take place on the Terrace. \nIn inclement weather\, the group moves inside to the Library\, but their enthusiasm is never dampened. \nFavorites Count: 0
URL:https://thelaurelmagazine.com/local-event/fiber-club-at-the-bascom-2/2027-05-22
LOCATION:The Bascom\, 323 Franklin Rd\, Highlands\, NC\, 28741\, United States
CATEGORIES:Community,Visual Arts
ATTACH;FMTTYPE=image/jpeg:https://thelaurelmagazine.com/wp-content/uploads/2025/07/highlands-nc-bascom-fiber-club-1.jpg
END:VEVENT
BEGIN:VEVENT
DTSTART;TZID=America/New_York:20280122T100000
DTEND;TZID=America/New_York:20280122T120000
DTSTAMP:20260423T061922
CREATED:20250731T142921Z
LAST-MODIFIED:20250731T142921Z
UID:111317-1832148000-1832155200@thelaurelmagazine.com
SUMMARY:Fiber Club at The Bascom
DESCRIPTION:The Bascom’s Fiber Club is made up of an enthusiastic community of fiber artists who come together weekly to share patterns and stories at The Bascom. Meetings take place on the Terrace. \nIn inclement weather\, the group moves inside to the Library\, but their enthusiasm is never dampened. \nFavorites Count: 0
URL:https://thelaurelmagazine.com/local-event/fiber-club-at-the-bascom-2/2028-01-22
LOCATION:The Bascom\, 323 Franklin Rd\, Highlands\, NC\, 28741\, United States
CATEGORIES:Community,Visual Arts
ATTACH;FMTTYPE=image/jpeg:https://thelaurelmagazine.com/wp-content/uploads/2025/07/highlands-nc-bascom-fiber-club-1.jpg
END:VEVENT
BEGIN:VEVENT
DTSTART;TZID=America/New_York:20271023T100000
DTEND;TZID=America/New_York:20271023T120000
DTSTAMP:20260423T061922
CREATED:20250731T142921Z
LAST-MODIFIED:20250731T142921Z
UID:104247-1824285600-1824292800@thelaurelmagazine.com
SUMMARY:Fiber Club at The Bascom
DESCRIPTION:The Bascom’s Fiber Club is made up of an enthusiastic community of fiber artists who come together weekly to share patterns and stories at The Bascom. Meetings take place on the Terrace. \nIn inclement weather\, the group moves inside to the Library\, but their enthusiasm is never dampened. \nFavorites Count: 0
URL:https://thelaurelmagazine.com/local-event/fiber-club-at-the-bascom-2/2027-10-23
LOCATION:The Bascom\, 323 Franklin Rd\, Highlands\, NC\, 28741\, United States
CATEGORIES:Community,Visual Arts
ATTACH;FMTTYPE=image/jpeg:https://thelaurelmagazine.com/wp-content/uploads/2025/07/highlands-nc-bascom-fiber-club-1.jpg
END:VEVENT
BEGIN:VEVENT
DTSTART;TZID=America/New_York:20260627T100000
DTEND;TZID=America/New_York:20260627T120000
DTSTAMP:20260423T061922
CREATED:20250731T142921Z
LAST-MODIFIED:20250731T142921Z
UID:110733-1782554400-1782561600@thelaurelmagazine.com
SUMMARY:Fiber Club at The Bascom
DESCRIPTION:The Bascom’s Fiber Club is made up of an enthusiastic community of fiber artists who come together weekly to share patterns and stories at The Bascom. Meetings take place on the Terrace. \nIn inclement weather\, the group moves inside to the Library\, but their enthusiasm is never dampened. \nFavorites Count: 0
URL:https://thelaurelmagazine.com/local-event/fiber-club-at-the-bascom-2/2026-06-27
LOCATION:The Bascom\, 323 Franklin Rd\, Highlands\, NC\, 28741\, United States
CATEGORIES:Community,Visual Arts
ATTACH;FMTTYPE=image/jpeg:https://thelaurelmagazine.com/wp-content/uploads/2025/07/highlands-nc-bascom-fiber-club-1.jpg
END:VEVENT
BEGIN:VEVENT
DTSTART;TZID=America/New_York:20261017T100000
DTEND;TZID=America/New_York:20261017T120000
DTSTAMP:20260423T061922
CREATED:20250731T142921Z
LAST-MODIFIED:20250731T142921Z
UID:110749-1792231200-1792238400@thelaurelmagazine.com
SUMMARY:Fiber Club at The Bascom
DESCRIPTION:The Bascom’s Fiber Club is made up of an enthusiastic community of fiber artists who come together weekly to share patterns and stories at The Bascom. Meetings take place on the Terrace. \nIn inclement weather\, the group moves inside to the Library\, but their enthusiasm is never dampened. \nFavorites Count: 0
URL:https://thelaurelmagazine.com/local-event/fiber-club-at-the-bascom-2/2026-10-17
LOCATION:The Bascom\, 323 Franklin Rd\, Highlands\, NC\, 28741\, United States
CATEGORIES:Community,Visual Arts
ATTACH;FMTTYPE=image/jpeg:https://thelaurelmagazine.com/wp-content/uploads/2025/07/highlands-nc-bascom-fiber-club-1.jpg
END:VEVENT
BEGIN:VEVENT
DTSTART;TZID=America/New_York:20270206T100000
DTEND;TZID=America/New_York:20270206T120000
DTSTAMP:20260423T061922
CREATED:20250731T142921Z
LAST-MODIFIED:20250731T142921Z
UID:110765-1801908000-1801915200@thelaurelmagazine.com
SUMMARY:Fiber Club at The Bascom
DESCRIPTION:The Bascom’s Fiber Club is made up of an enthusiastic community of fiber artists who come together weekly to share patterns and stories at The Bascom. Meetings take place on the Terrace. \nIn inclement weather\, the group moves inside to the Library\, but their enthusiasm is never dampened. \nFavorites Count: 0
URL:https://thelaurelmagazine.com/local-event/fiber-club-at-the-bascom-2/2027-02-06
LOCATION:The Bascom\, 323 Franklin Rd\, Highlands\, NC\, 28741\, United States
CATEGORIES:Community,Visual Arts
ATTACH;FMTTYPE=image/jpeg:https://thelaurelmagazine.com/wp-content/uploads/2025/07/highlands-nc-bascom-fiber-club-1.jpg
END:VEVENT
BEGIN:VEVENT
DTSTART;TZID=America/New_York:20270529T100000
DTEND;TZID=America/New_York:20270529T120000
DTSTAMP:20260423T061922
CREATED:20250731T142921Z
LAST-MODIFIED:20250731T142921Z
UID:110781-1811584800-1811592000@thelaurelmagazine.com
SUMMARY:Fiber Club at The Bascom
DESCRIPTION:The Bascom’s Fiber Club is made up of an enthusiastic community of fiber artists who come together weekly to share patterns and stories at The Bascom. Meetings take place on the Terrace. \nIn inclement weather\, the group moves inside to the Library\, but their enthusiasm is never dampened. \nFavorites Count: 0
URL:https://thelaurelmagazine.com/local-event/fiber-club-at-the-bascom-2/2027-05-29
LOCATION:The Bascom\, 323 Franklin Rd\, Highlands\, NC\, 28741\, United States
CATEGORIES:Community,Visual Arts
ATTACH;FMTTYPE=image/jpeg:https://thelaurelmagazine.com/wp-content/uploads/2025/07/highlands-nc-bascom-fiber-club-1.jpg
END:VEVENT
BEGIN:VEVENT
DTSTART;TZID=America/New_York:20280212T100000
DTEND;TZID=America/New_York:20280212T120000
DTSTAMP:20260423T061922
CREATED:20250731T142921Z
LAST-MODIFIED:20250731T142921Z
UID:114797-1833962400-1833969600@thelaurelmagazine.com
SUMMARY:Fiber Club at The Bascom
DESCRIPTION:The Bascom’s Fiber Club is made up of an enthusiastic community of fiber artists who come together weekly to share patterns and stories at The Bascom. Meetings take place on the Terrace. \nIn inclement weather\, the group moves inside to the Library\, but their enthusiasm is never dampened. \nFavorites Count: 0
URL:https://thelaurelmagazine.com/local-event/fiber-club-at-the-bascom-2/2028-02-12
LOCATION:The Bascom\, 323 Franklin Rd\, Highlands\, NC\, 28741\, United States
CATEGORIES:Community,Visual Arts
ATTACH;FMTTYPE=image/jpeg:https://thelaurelmagazine.com/wp-content/uploads/2025/07/highlands-nc-bascom-fiber-club-1.jpg
END:VEVENT
BEGIN:VEVENT
DTSTART;TZID=America/New_York:20280408T100000
DTEND;TZID=America/New_York:20280408T120000
DTSTAMP:20260423T061922
CREATED:20250731T142921Z
LAST-MODIFIED:20250731T142921Z
UID:116990-1838800800-1838808000@thelaurelmagazine.com
SUMMARY:Fiber Club at The Bascom
DESCRIPTION:The Bascom’s Fiber Club is made up of an enthusiastic community of fiber artists who come together weekly to share patterns and stories at The Bascom. Meetings take place on the Terrace. \nIn inclement weather\, the group moves inside to the Library\, but their enthusiasm is never dampened. \nFavorites Count: 0
URL:https://thelaurelmagazine.com/local-event/fiber-club-at-the-bascom-2/2028-04-08
LOCATION:The Bascom\, 323 Franklin Rd\, Highlands\, NC\, 28741\, United States
CATEGORIES:Community,Visual Arts
ATTACH;FMTTYPE=image/jpeg:https://thelaurelmagazine.com/wp-content/uploads/2025/07/highlands-nc-bascom-fiber-club-1.jpg
END:VEVENT
BEGIN:VEVENT
DTSTART;TZID=America/New_York:20271030T100000
DTEND;TZID=America/New_York:20271030T120000
DTSTAMP:20260423T061922
CREATED:20250731T142921Z
LAST-MODIFIED:20250731T142921Z
UID:104947-1824890400-1824897600@thelaurelmagazine.com
SUMMARY:Fiber Club at The Bascom
DESCRIPTION:The Bascom’s Fiber Club is made up of an enthusiastic community of fiber artists who come together weekly to share patterns and stories at The Bascom. Meetings take place on the Terrace. \nIn inclement weather\, the group moves inside to the Library\, but their enthusiasm is never dampened. \nFavorites Count: 0
URL:https://thelaurelmagazine.com/local-event/fiber-club-at-the-bascom-2/2027-10-30
LOCATION:The Bascom\, 323 Franklin Rd\, Highlands\, NC\, 28741\, United States
CATEGORIES:Community,Visual Arts
ATTACH;FMTTYPE=image/jpeg:https://thelaurelmagazine.com/wp-content/uploads/2025/07/highlands-nc-bascom-fiber-club-1.jpg
END:VEVENT
BEGIN:VEVENT
DTSTART;TZID=America/New_York:20260704T100000
DTEND;TZID=America/New_York:20260704T120000
DTSTAMP:20260423T061922
CREATED:20250731T142921Z
LAST-MODIFIED:20250731T142921Z
UID:110734-1783159200-1783166400@thelaurelmagazine.com
SUMMARY:Fiber Club at The Bascom
DESCRIPTION:The Bascom’s Fiber Club is made up of an enthusiastic community of fiber artists who come together weekly to share patterns and stories at The Bascom. Meetings take place on the Terrace. \nIn inclement weather\, the group moves inside to the Library\, but their enthusiasm is never dampened. \nFavorites Count: 0
URL:https://thelaurelmagazine.com/local-event/fiber-club-at-the-bascom-2/2026-07-04
LOCATION:The Bascom\, 323 Franklin Rd\, Highlands\, NC\, 28741\, United States
CATEGORIES:Community,Visual Arts
ATTACH;FMTTYPE=image/jpeg:https://thelaurelmagazine.com/wp-content/uploads/2025/07/highlands-nc-bascom-fiber-club-1.jpg
END:VEVENT
BEGIN:VEVENT
DTSTART;TZID=America/New_York:20261024T100000
DTEND;TZID=America/New_York:20261024T120000
DTSTAMP:20260423T061922
CREATED:20250731T142921Z
LAST-MODIFIED:20250731T142921Z
UID:110750-1792836000-1792843200@thelaurelmagazine.com
SUMMARY:Fiber Club at The Bascom
DESCRIPTION:The Bascom’s Fiber Club is made up of an enthusiastic community of fiber artists who come together weekly to share patterns and stories at The Bascom. Meetings take place on the Terrace. \nIn inclement weather\, the group moves inside to the Library\, but their enthusiasm is never dampened. \nFavorites Count: 0
URL:https://thelaurelmagazine.com/local-event/fiber-club-at-the-bascom-2/2026-10-24
LOCATION:The Bascom\, 323 Franklin Rd\, Highlands\, NC\, 28741\, United States
CATEGORIES:Community,Visual Arts
ATTACH;FMTTYPE=image/jpeg:https://thelaurelmagazine.com/wp-content/uploads/2025/07/highlands-nc-bascom-fiber-club-1.jpg
END:VEVENT
BEGIN:VEVENT
DTSTART;TZID=America/New_York:20270213T100000
DTEND;TZID=America/New_York:20270213T120000
DTSTAMP:20260423T061922
CREATED:20250731T142921Z
LAST-MODIFIED:20250731T142921Z
UID:110766-1802512800-1802520000@thelaurelmagazine.com
SUMMARY:Fiber Club at The Bascom
DESCRIPTION:The Bascom’s Fiber Club is made up of an enthusiastic community of fiber artists who come together weekly to share patterns and stories at The Bascom. Meetings take place on the Terrace. \nIn inclement weather\, the group moves inside to the Library\, but their enthusiasm is never dampened. \nFavorites Count: 0
URL:https://thelaurelmagazine.com/local-event/fiber-club-at-the-bascom-2/2027-02-13
LOCATION:The Bascom\, 323 Franklin Rd\, Highlands\, NC\, 28741\, United States
CATEGORIES:Community,Visual Arts
ATTACH;FMTTYPE=image/jpeg:https://thelaurelmagazine.com/wp-content/uploads/2025/07/highlands-nc-bascom-fiber-club-1.jpg
END:VEVENT
BEGIN:VEVENT
DTSTART;TZID=America/New_York:20270605T100000
DTEND;TZID=America/New_York:20270605T120000
DTSTAMP:20260423T061922
CREATED:20250731T142921Z
LAST-MODIFIED:20250731T142921Z
UID:110782-1812189600-1812196800@thelaurelmagazine.com
SUMMARY:Fiber Club at The Bascom
DESCRIPTION:The Bascom’s Fiber Club is made up of an enthusiastic community of fiber artists who come together weekly to share patterns and stories at The Bascom. Meetings take place on the Terrace. \nIn inclement weather\, the group moves inside to the Library\, but their enthusiasm is never dampened. \nFavorites Count: 0
URL:https://thelaurelmagazine.com/local-event/fiber-club-at-the-bascom-2/2027-06-05
LOCATION:The Bascom\, 323 Franklin Rd\, Highlands\, NC\, 28741\, United States
CATEGORIES:Community,Visual Arts
ATTACH;FMTTYPE=image/jpeg:https://thelaurelmagazine.com/wp-content/uploads/2025/07/highlands-nc-bascom-fiber-club-1.jpg
END:VEVENT
END:VCALENDAR