BEGIN:VCALENDAR
VERSION:2.0
PRODID:-//Laurel Magazine - ECPv6.15.16//NONSGML v1.0//EN
CALSCALE:GREGORIAN
METHOD:PUBLISH
X-ORIGINAL-URL:https://thelaurelmagazine.com
X-WR-CALDESC:Events for Laurel Magazine
REFRESH-INTERVAL;VALUE=DURATION:PT1H
X-Robots-Tag:noindex
X-PUBLISHED-TTL:PT1H
BEGIN:VTIMEZONE
TZID:America/New_York
BEGIN:DAYLIGHT
TZOFFSETFROM:-0500
TZOFFSETTO:-0400
TZNAME:EDT
DTSTART:20250309T070000
END:DAYLIGHT
BEGIN:STANDARD
TZOFFSETFROM:-0400
TZOFFSETTO:-0500
TZNAME:EST
DTSTART:20251102T060000
END:STANDARD
BEGIN:DAYLIGHT
TZOFFSETFROM:-0500
TZOFFSETTO:-0400
TZNAME:EDT
DTSTART:20260308T070000
END:DAYLIGHT
BEGIN:STANDARD
TZOFFSETFROM:-0400
TZOFFSETTO:-0500
TZNAME:EST
DTSTART:20261101T060000
END:STANDARD
BEGIN:DAYLIGHT
TZOFFSETFROM:-0500
TZOFFSETTO:-0400
TZNAME:EDT
DTSTART:20270314T070000
END:DAYLIGHT
BEGIN:STANDARD
TZOFFSETFROM:-0400
TZOFFSETTO:-0500
TZNAME:EST
DTSTART:20271107T060000
END:STANDARD
BEGIN:DAYLIGHT
TZOFFSETFROM:-0500
TZOFFSETTO:-0400
TZNAME:EDT
DTSTART:20280312T070000
END:DAYLIGHT
BEGIN:STANDARD
TZOFFSETFROM:-0400
TZOFFSETTO:-0500
TZNAME:EST
DTSTART:20281105T060000
END:STANDARD
BEGIN:DAYLIGHT
TZOFFSETFROM:-0500
TZOFFSETTO:-0400
TZNAME:EDT
DTSTART:20290311T070000
END:DAYLIGHT
BEGIN:STANDARD
TZOFFSETFROM:-0400
TZOFFSETTO:-0500
TZNAME:EST
DTSTART:20291104T060000
END:STANDARD
END:VTIMEZONE
BEGIN:VEVENT
DTSTART;TZID=America/New_York:20270201T100000
DTEND;TZID=America/New_York:20270201T130000
DTSTAMP:20260421T122632
CREATED:20250731T141805Z
LAST-MODIFIED:20260127T205048Z
UID:102762-1801476000-1801486800@thelaurelmagazine.com
SUMMARY:Studio Alive at The Bascom
DESCRIPTION:Studio Alive is a group of dedicated artists that share a passion for drawing from live models. \nThe group meets in The Bascom’s Adult Studio on select Mondays\, year-round. \nFavorites Count: 0
URL:https://thelaurelmagazine.com/local-event/studio-alive-at-the-bascom-2/2027-02-01
LOCATION:The Bascom\, 323 Franklin Rd\, Highlands\, NC\, 28741\, United States
CATEGORIES:Visual Arts
ATTACH;FMTTYPE=image/jpeg:https://thelaurelmagazine.com/wp-content/uploads/2025/07/highlands-nc-visual-arts-bascom-studio-alive.jpg
END:VEVENT
BEGIN:VEVENT
DTSTART;TZID=America/New_York:20270524T100000
DTEND;TZID=America/New_York:20270524T130000
DTSTAMP:20260421T122632
CREATED:20250731T141805Z
LAST-MODIFIED:20260127T205053Z
UID:102778-1811152800-1811163600@thelaurelmagazine.com
SUMMARY:Studio Alive at The Bascom
DESCRIPTION:Studio Alive is a group of dedicated artists that share a passion for drawing from live models. \nThe group meets in The Bascom’s Adult Studio on select Mondays\, year-round. \nFavorites Count: 0
URL:https://thelaurelmagazine.com/local-event/studio-alive-at-the-bascom-2/2027-05-24
LOCATION:The Bascom\, 323 Franklin Rd\, Highlands\, NC\, 28741\, United States
CATEGORIES:Visual Arts
ATTACH;FMTTYPE=image/jpeg:https://thelaurelmagazine.com/wp-content/uploads/2025/07/highlands-nc-visual-arts-bascom-studio-alive.jpg
END:VEVENT
BEGIN:VEVENT
DTSTART;TZID=America/New_York:20270913T100000
DTEND;TZID=America/New_York:20270913T130000
DTSTAMP:20260421T122632
CREATED:20250731T141805Z
LAST-MODIFIED:20260127T205103Z
UID:97206-1820829600-1820840400@thelaurelmagazine.com
SUMMARY:Studio Alive at The Bascom
DESCRIPTION:Studio Alive is a group of dedicated artists that share a passion for drawing from live models. \nThe group meets in The Bascom’s Adult Studio on select Mondays\, year-round. \nFavorites Count: 0
URL:https://thelaurelmagazine.com/local-event/studio-alive-at-the-bascom-2/2027-09-13
LOCATION:The Bascom\, 323 Franklin Rd\, Highlands\, NC\, 28741\, United States
CATEGORIES:Visual Arts
ATTACH;FMTTYPE=image/jpeg:https://thelaurelmagazine.com/wp-content/uploads/2025/07/highlands-nc-visual-arts-bascom-studio-alive.jpg
END:VEVENT
BEGIN:VEVENT
DTSTART;TZID=America/New_York:20280103T100000
DTEND;TZID=America/New_York:20280103T130000
DTSTAMP:20260421T122632
CREATED:20250731T141805Z
LAST-MODIFIED:20260127T205107Z
UID:110343-1830506400-1830517200@thelaurelmagazine.com
SUMMARY:Studio Alive at The Bascom
DESCRIPTION:Studio Alive is a group of dedicated artists that share a passion for drawing from live models. \nThe group meets in The Bascom’s Adult Studio on select Mondays\, year-round. \nFavorites Count: 0
URL:https://thelaurelmagazine.com/local-event/studio-alive-at-the-bascom-2/2028-01-03
LOCATION:The Bascom\, 323 Franklin Rd\, Highlands\, NC\, 28741\, United States
CATEGORIES:Visual Arts
ATTACH;FMTTYPE=image/jpeg:https://thelaurelmagazine.com/wp-content/uploads/2025/07/highlands-nc-visual-arts-bascom-studio-alive.jpg
END:VEVENT
BEGIN:VEVENT
DTSTART;TZID=America/New_York:20260629T100000
DTEND;TZID=America/New_York:20260629T130000
DTSTAMP:20260421T122632
CREATED:20250731T141805Z
LAST-MODIFIED:20260127T205028Z
UID:102731-1782727200-1782738000@thelaurelmagazine.com
SUMMARY:Studio Alive at The Bascom
DESCRIPTION:Studio Alive is a group of dedicated artists that share a passion for drawing from live models. \nThe group meets in The Bascom’s Adult Studio on select Mondays\, year-round. \nFavorites Count: 0
URL:https://thelaurelmagazine.com/local-event/studio-alive-at-the-bascom-2/2026-06-29
LOCATION:The Bascom\, 323 Franklin Rd\, Highlands\, NC\, 28741\, United States
CATEGORIES:Visual Arts
ATTACH;FMTTYPE=image/jpeg:https://thelaurelmagazine.com/wp-content/uploads/2025/07/highlands-nc-visual-arts-bascom-studio-alive.jpg
END:VEVENT
BEGIN:VEVENT
DTSTART;TZID=America/New_York:20261019T100000
DTEND;TZID=America/New_York:20261019T130000
DTSTAMP:20260421T122632
CREATED:20250731T141805Z
LAST-MODIFIED:20260127T205036Z
UID:102747-1792404000-1792414800@thelaurelmagazine.com
SUMMARY:Studio Alive at The Bascom
DESCRIPTION:Studio Alive is a group of dedicated artists that share a passion for drawing from live models. \nThe group meets in The Bascom’s Adult Studio on select Mondays\, year-round. \nFavorites Count: 0
URL:https://thelaurelmagazine.com/local-event/studio-alive-at-the-bascom-2/2026-10-19
LOCATION:The Bascom\, 323 Franklin Rd\, Highlands\, NC\, 28741\, United States
CATEGORIES:Visual Arts
ATTACH;FMTTYPE=image/jpeg:https://thelaurelmagazine.com/wp-content/uploads/2025/07/highlands-nc-visual-arts-bascom-studio-alive.jpg
END:VEVENT
BEGIN:VEVENT
DTSTART;TZID=America/New_York:20270208T100000
DTEND;TZID=America/New_York:20270208T130000
DTSTAMP:20260421T122632
CREATED:20250731T141805Z
LAST-MODIFIED:20260127T205048Z
UID:102763-1802080800-1802091600@thelaurelmagazine.com
SUMMARY:Studio Alive at The Bascom
DESCRIPTION:Studio Alive is a group of dedicated artists that share a passion for drawing from live models. \nThe group meets in The Bascom’s Adult Studio on select Mondays\, year-round. \nFavorites Count: 0
URL:https://thelaurelmagazine.com/local-event/studio-alive-at-the-bascom-2/2027-02-08
LOCATION:The Bascom\, 323 Franklin Rd\, Highlands\, NC\, 28741\, United States
CATEGORIES:Visual Arts
ATTACH;FMTTYPE=image/jpeg:https://thelaurelmagazine.com/wp-content/uploads/2025/07/highlands-nc-visual-arts-bascom-studio-alive.jpg
END:VEVENT
BEGIN:VEVENT
DTSTART;TZID=America/New_York:20270531T100000
DTEND;TZID=America/New_York:20270531T130000
DTSTAMP:20260421T122632
CREATED:20250731T141805Z
LAST-MODIFIED:20260127T205053Z
UID:102779-1811757600-1811768400@thelaurelmagazine.com
SUMMARY:Studio Alive at The Bascom
DESCRIPTION:Studio Alive is a group of dedicated artists that share a passion for drawing from live models. \nThe group meets in The Bascom’s Adult Studio on select Mondays\, year-round. \nFavorites Count: 0
URL:https://thelaurelmagazine.com/local-event/studio-alive-at-the-bascom-2/2027-05-31
LOCATION:The Bascom\, 323 Franklin Rd\, Highlands\, NC\, 28741\, United States
CATEGORIES:Visual Arts
ATTACH;FMTTYPE=image/jpeg:https://thelaurelmagazine.com/wp-content/uploads/2025/07/highlands-nc-visual-arts-bascom-studio-alive.jpg
END:VEVENT
BEGIN:VEVENT
DTSTART;TZID=America/New_York:20270920T100000
DTEND;TZID=America/New_York:20270920T130000
DTSTAMP:20260421T122632
CREATED:20250731T141805Z
LAST-MODIFIED:20260127T205103Z
UID:97464-1821434400-1821445200@thelaurelmagazine.com
SUMMARY:Studio Alive at The Bascom
DESCRIPTION:Studio Alive is a group of dedicated artists that share a passion for drawing from live models. \nThe group meets in The Bascom’s Adult Studio on select Mondays\, year-round. \nFavorites Count: 0
URL:https://thelaurelmagazine.com/local-event/studio-alive-at-the-bascom-2/2027-09-20
LOCATION:The Bascom\, 323 Franklin Rd\, Highlands\, NC\, 28741\, United States
CATEGORIES:Visual Arts
ATTACH;FMTTYPE=image/jpeg:https://thelaurelmagazine.com/wp-content/uploads/2025/07/highlands-nc-visual-arts-bascom-studio-alive.jpg
END:VEVENT
BEGIN:VEVENT
DTSTART;TZID=America/New_York:20280110T100000
DTEND;TZID=America/New_York:20280110T130000
DTSTAMP:20260421T122632
CREATED:20250731T141805Z
LAST-MODIFIED:20260127T205109Z
UID:110483-1831111200-1831122000@thelaurelmagazine.com
SUMMARY:Studio Alive at The Bascom
DESCRIPTION:Studio Alive is a group of dedicated artists that share a passion for drawing from live models. \nThe group meets in The Bascom’s Adult Studio on select Mondays\, year-round. \nFavorites Count: 0
URL:https://thelaurelmagazine.com/local-event/studio-alive-at-the-bascom-2/2028-01-10
LOCATION:The Bascom\, 323 Franklin Rd\, Highlands\, NC\, 28741\, United States
CATEGORIES:Visual Arts
ATTACH;FMTTYPE=image/jpeg:https://thelaurelmagazine.com/wp-content/uploads/2025/07/highlands-nc-visual-arts-bascom-studio-alive.jpg
END:VEVENT
BEGIN:VEVENT
DTSTART;TZID=America/New_York:20280313T100000
DTEND;TZID=America/New_York:20280313T130000
DTSTAMP:20260421T122632
CREATED:20250731T141805Z
LAST-MODIFIED:20250731T141805Z
UID:116076-1836554400-1836565200@thelaurelmagazine.com
SUMMARY:Studio Alive at The Bascom
DESCRIPTION:Studio Alive is a group of dedicated artists that share a passion for drawing from live models. \nThe group meets in The Bascom’s Adult Studio on select Mondays\, year-round. \nFavorites Count: 0
URL:https://thelaurelmagazine.com/local-event/studio-alive-at-the-bascom-2/2028-03-13
LOCATION:The Bascom\, 323 Franklin Rd\, Highlands\, NC\, 28741\, United States
CATEGORIES:Visual Arts
ATTACH;FMTTYPE=image/jpeg:https://thelaurelmagazine.com/wp-content/uploads/2025/07/highlands-nc-visual-arts-bascom-studio-alive.jpg
END:VEVENT
BEGIN:VEVENT
DTSTART;TZID=America/New_York:20260706T100000
DTEND;TZID=America/New_York:20260706T130000
DTSTAMP:20260421T122632
CREATED:20250731T141805Z
LAST-MODIFIED:20260127T205029Z
UID:102732-1783332000-1783342800@thelaurelmagazine.com
SUMMARY:Studio Alive at The Bascom
DESCRIPTION:Studio Alive is a group of dedicated artists that share a passion for drawing from live models. \nThe group meets in The Bascom’s Adult Studio on select Mondays\, year-round. \nFavorites Count: 0
URL:https://thelaurelmagazine.com/local-event/studio-alive-at-the-bascom-2/2026-07-06
LOCATION:The Bascom\, 323 Franklin Rd\, Highlands\, NC\, 28741\, United States
CATEGORIES:Visual Arts
ATTACH;FMTTYPE=image/jpeg:https://thelaurelmagazine.com/wp-content/uploads/2025/07/highlands-nc-visual-arts-bascom-studio-alive.jpg
END:VEVENT
BEGIN:VEVENT
DTSTART;TZID=America/New_York:20261026T100000
DTEND;TZID=America/New_York:20261026T130000
DTSTAMP:20260421T122632
CREATED:20250731T141805Z
LAST-MODIFIED:20260127T205036Z
UID:102748-1793008800-1793019600@thelaurelmagazine.com
SUMMARY:Studio Alive at The Bascom
DESCRIPTION:Studio Alive is a group of dedicated artists that share a passion for drawing from live models. \nThe group meets in The Bascom’s Adult Studio on select Mondays\, year-round. \nFavorites Count: 0
URL:https://thelaurelmagazine.com/local-event/studio-alive-at-the-bascom-2/2026-10-26
LOCATION:The Bascom\, 323 Franklin Rd\, Highlands\, NC\, 28741\, United States
CATEGORIES:Visual Arts
ATTACH;FMTTYPE=image/jpeg:https://thelaurelmagazine.com/wp-content/uploads/2025/07/highlands-nc-visual-arts-bascom-studio-alive.jpg
END:VEVENT
BEGIN:VEVENT
DTSTART;TZID=America/New_York:20270215T100000
DTEND;TZID=America/New_York:20270215T130000
DTSTAMP:20260421T122632
CREATED:20250731T141805Z
LAST-MODIFIED:20260127T205049Z
UID:102764-1802685600-1802696400@thelaurelmagazine.com
SUMMARY:Studio Alive at The Bascom
DESCRIPTION:Studio Alive is a group of dedicated artists that share a passion for drawing from live models. \nThe group meets in The Bascom’s Adult Studio on select Mondays\, year-round. \nFavorites Count: 0
URL:https://thelaurelmagazine.com/local-event/studio-alive-at-the-bascom-2/2027-02-15
LOCATION:The Bascom\, 323 Franklin Rd\, Highlands\, NC\, 28741\, United States
CATEGORIES:Visual Arts
ATTACH;FMTTYPE=image/jpeg:https://thelaurelmagazine.com/wp-content/uploads/2025/07/highlands-nc-visual-arts-bascom-studio-alive.jpg
END:VEVENT
BEGIN:VEVENT
DTSTART;TZID=America/New_York:20270607T100000
DTEND;TZID=America/New_York:20270607T130000
DTSTAMP:20260421T122632
CREATED:20250731T141805Z
LAST-MODIFIED:20260127T205053Z
UID:102780-1812362400-1812373200@thelaurelmagazine.com
SUMMARY:Studio Alive at The Bascom
DESCRIPTION:Studio Alive is a group of dedicated artists that share a passion for drawing from live models. \nThe group meets in The Bascom’s Adult Studio on select Mondays\, year-round. \nFavorites Count: 0
URL:https://thelaurelmagazine.com/local-event/studio-alive-at-the-bascom-2/2027-06-07
LOCATION:The Bascom\, 323 Franklin Rd\, Highlands\, NC\, 28741\, United States
CATEGORIES:Visual Arts
ATTACH;FMTTYPE=image/jpeg:https://thelaurelmagazine.com/wp-content/uploads/2025/07/highlands-nc-visual-arts-bascom-studio-alive.jpg
END:VEVENT
BEGIN:VEVENT
DTSTART;TZID=America/New_York:20270927T100000
DTEND;TZID=America/New_York:20270927T130000
DTSTAMP:20260421T122632
CREATED:20250731T141805Z
LAST-MODIFIED:20260127T205104Z
UID:97697-1822039200-1822050000@thelaurelmagazine.com
SUMMARY:Studio Alive at The Bascom
DESCRIPTION:Studio Alive is a group of dedicated artists that share a passion for drawing from live models. \nThe group meets in The Bascom’s Adult Studio on select Mondays\, year-round. \nFavorites Count: 0
URL:https://thelaurelmagazine.com/local-event/studio-alive-at-the-bascom-2/2027-09-27
LOCATION:The Bascom\, 323 Franklin Rd\, Highlands\, NC\, 28741\, United States
CATEGORIES:Visual Arts
ATTACH;FMTTYPE=image/jpeg:https://thelaurelmagazine.com/wp-content/uploads/2025/07/highlands-nc-visual-arts-bascom-studio-alive.jpg
END:VEVENT
BEGIN:VEVENT
DTSTART;TZID=America/New_York:20280117T100000
DTEND;TZID=America/New_York:20280117T130000
DTSTAMP:20260421T122632
CREATED:20250731T141805Z
LAST-MODIFIED:20260127T205110Z
UID:111023-1831716000-1831726800@thelaurelmagazine.com
SUMMARY:Studio Alive at The Bascom
DESCRIPTION:Studio Alive is a group of dedicated artists that share a passion for drawing from live models. \nThe group meets in The Bascom’s Adult Studio on select Mondays\, year-round. \nFavorites Count: 0
URL:https://thelaurelmagazine.com/local-event/studio-alive-at-the-bascom-2/2028-01-17
LOCATION:The Bascom\, 323 Franklin Rd\, Highlands\, NC\, 28741\, United States
CATEGORIES:Visual Arts
ATTACH;FMTTYPE=image/jpeg:https://thelaurelmagazine.com/wp-content/uploads/2025/07/highlands-nc-visual-arts-bascom-studio-alive.jpg
END:VEVENT
BEGIN:VEVENT
DTSTART;TZID=America/New_York:20260713T100000
DTEND;TZID=America/New_York:20260713T130000
DTSTAMP:20260421T122632
CREATED:20250731T141805Z
LAST-MODIFIED:20260127T205029Z
UID:102733-1783936800-1783947600@thelaurelmagazine.com
SUMMARY:Studio Alive at The Bascom
DESCRIPTION:Studio Alive is a group of dedicated artists that share a passion for drawing from live models. \nThe group meets in The Bascom’s Adult Studio on select Mondays\, year-round. \nFavorites Count: 0
URL:https://thelaurelmagazine.com/local-event/studio-alive-at-the-bascom-2/2026-07-13
LOCATION:The Bascom\, 323 Franklin Rd\, Highlands\, NC\, 28741\, United States
CATEGORIES:Visual Arts
ATTACH;FMTTYPE=image/jpeg:https://thelaurelmagazine.com/wp-content/uploads/2025/07/highlands-nc-visual-arts-bascom-studio-alive.jpg
END:VEVENT
BEGIN:VEVENT
DTSTART;TZID=America/New_York:20261102T100000
DTEND;TZID=America/New_York:20261102T130000
DTSTAMP:20260421T122632
CREATED:20250731T141805Z
LAST-MODIFIED:20260127T205036Z
UID:102749-1793613600-1793624400@thelaurelmagazine.com
SUMMARY:Studio Alive at The Bascom
DESCRIPTION:Studio Alive is a group of dedicated artists that share a passion for drawing from live models. \nThe group meets in The Bascom’s Adult Studio on select Mondays\, year-round. \nFavorites Count: 0
URL:https://thelaurelmagazine.com/local-event/studio-alive-at-the-bascom-2/2026-11-02
LOCATION:The Bascom\, 323 Franklin Rd\, Highlands\, NC\, 28741\, United States
CATEGORIES:Visual Arts
ATTACH;FMTTYPE=image/jpeg:https://thelaurelmagazine.com/wp-content/uploads/2025/07/highlands-nc-visual-arts-bascom-studio-alive.jpg
END:VEVENT
BEGIN:VEVENT
DTSTART;TZID=America/New_York:20270222T100000
DTEND;TZID=America/New_York:20270222T130000
DTSTAMP:20260421T122632
CREATED:20250731T141805Z
LAST-MODIFIED:20260127T205049Z
UID:102765-1803290400-1803301200@thelaurelmagazine.com
SUMMARY:Studio Alive at The Bascom
DESCRIPTION:Studio Alive is a group of dedicated artists that share a passion for drawing from live models. \nThe group meets in The Bascom’s Adult Studio on select Mondays\, year-round. \nFavorites Count: 0
URL:https://thelaurelmagazine.com/local-event/studio-alive-at-the-bascom-2/2027-02-22
LOCATION:The Bascom\, 323 Franklin Rd\, Highlands\, NC\, 28741\, United States
CATEGORIES:Visual Arts
ATTACH;FMTTYPE=image/jpeg:https://thelaurelmagazine.com/wp-content/uploads/2025/07/highlands-nc-visual-arts-bascom-studio-alive.jpg
END:VEVENT
BEGIN:VEVENT
DTSTART;TZID=America/New_York:20270614T100000
DTEND;TZID=America/New_York:20270614T130000
DTSTAMP:20260421T122632
CREATED:20250731T141805Z
LAST-MODIFIED:20260127T205055Z
UID:102781-1812967200-1812978000@thelaurelmagazine.com
SUMMARY:Studio Alive at The Bascom
DESCRIPTION:Studio Alive is a group of dedicated artists that share a passion for drawing from live models. \nThe group meets in The Bascom’s Adult Studio on select Mondays\, year-round. \nFavorites Count: 0
URL:https://thelaurelmagazine.com/local-event/studio-alive-at-the-bascom-2/2027-06-14
LOCATION:The Bascom\, 323 Franklin Rd\, Highlands\, NC\, 28741\, United States
CATEGORIES:Visual Arts
ATTACH;FMTTYPE=image/jpeg:https://thelaurelmagazine.com/wp-content/uploads/2025/07/highlands-nc-visual-arts-bascom-studio-alive.jpg
END:VEVENT
BEGIN:VEVENT
DTSTART;TZID=America/New_York:20271004T100000
DTEND;TZID=America/New_York:20271004T130000
DTSTAMP:20260421T122632
CREATED:20250731T141805Z
LAST-MODIFIED:20260127T205104Z
UID:102790-1822644000-1822654800@thelaurelmagazine.com
SUMMARY:Studio Alive at The Bascom
DESCRIPTION:Studio Alive is a group of dedicated artists that share a passion for drawing from live models. \nThe group meets in The Bascom’s Adult Studio on select Mondays\, year-round. \nFavorites Count: 0
URL:https://thelaurelmagazine.com/local-event/studio-alive-at-the-bascom-2/2027-10-04
LOCATION:The Bascom\, 323 Franklin Rd\, Highlands\, NC\, 28741\, United States
CATEGORIES:Visual Arts
ATTACH;FMTTYPE=image/jpeg:https://thelaurelmagazine.com/wp-content/uploads/2025/07/highlands-nc-visual-arts-bascom-studio-alive.jpg
END:VEVENT
BEGIN:VEVENT
DTSTART;TZID=America/New_York:20280124T100000
DTEND;TZID=America/New_York:20280124T130000
DTSTAMP:20260421T122632
CREATED:20250731T141805Z
LAST-MODIFIED:20260127T205110Z
UID:111386-1832320800-1832331600@thelaurelmagazine.com
SUMMARY:Studio Alive at The Bascom
DESCRIPTION:Studio Alive is a group of dedicated artists that share a passion for drawing from live models. \nThe group meets in The Bascom’s Adult Studio on select Mondays\, year-round. \nFavorites Count: 0
URL:https://thelaurelmagazine.com/local-event/studio-alive-at-the-bascom-2/2028-01-24
LOCATION:The Bascom\, 323 Franklin Rd\, Highlands\, NC\, 28741\, United States
CATEGORIES:Visual Arts
ATTACH;FMTTYPE=image/jpeg:https://thelaurelmagazine.com/wp-content/uploads/2025/07/highlands-nc-visual-arts-bascom-studio-alive.jpg
END:VEVENT
BEGIN:VEVENT
DTSTART;TZID=America/New_York:20280320T100000
DTEND;TZID=America/New_York:20280320T130000
DTSTAMP:20260421T122632
CREATED:20250731T141805Z
LAST-MODIFIED:20250731T141805Z
UID:116189-1837159200-1837170000@thelaurelmagazine.com
SUMMARY:Studio Alive at The Bascom
DESCRIPTION:Studio Alive is a group of dedicated artists that share a passion for drawing from live models. \nThe group meets in The Bascom’s Adult Studio on select Mondays\, year-round. \nFavorites Count: 0
URL:https://thelaurelmagazine.com/local-event/studio-alive-at-the-bascom-2/2028-03-20
LOCATION:The Bascom\, 323 Franklin Rd\, Highlands\, NC\, 28741\, United States
CATEGORIES:Visual Arts
ATTACH;FMTTYPE=image/jpeg:https://thelaurelmagazine.com/wp-content/uploads/2025/07/highlands-nc-visual-arts-bascom-studio-alive.jpg
END:VEVENT
BEGIN:VEVENT
DTSTART;TZID=America/New_York:20260720T100000
DTEND;TZID=America/New_York:20260720T130000
DTSTAMP:20260421T122632
CREATED:20250731T141805Z
LAST-MODIFIED:20260127T205029Z
UID:102734-1784541600-1784552400@thelaurelmagazine.com
SUMMARY:Studio Alive at The Bascom
DESCRIPTION:Studio Alive is a group of dedicated artists that share a passion for drawing from live models. \nThe group meets in The Bascom’s Adult Studio on select Mondays\, year-round. \nFavorites Count: 0
URL:https://thelaurelmagazine.com/local-event/studio-alive-at-the-bascom-2/2026-07-20
LOCATION:The Bascom\, 323 Franklin Rd\, Highlands\, NC\, 28741\, United States
CATEGORIES:Visual Arts
ATTACH;FMTTYPE=image/jpeg:https://thelaurelmagazine.com/wp-content/uploads/2025/07/highlands-nc-visual-arts-bascom-studio-alive.jpg
END:VEVENT
BEGIN:VEVENT
DTSTART;TZID=America/New_York:20261109T100000
DTEND;TZID=America/New_York:20261109T130000
DTSTAMP:20260421T122632
CREATED:20250731T141805Z
LAST-MODIFIED:20260127T205037Z
UID:102750-1794218400-1794229200@thelaurelmagazine.com
SUMMARY:Studio Alive at The Bascom
DESCRIPTION:Studio Alive is a group of dedicated artists that share a passion for drawing from live models. \nThe group meets in The Bascom’s Adult Studio on select Mondays\, year-round. \nFavorites Count: 0
URL:https://thelaurelmagazine.com/local-event/studio-alive-at-the-bascom-2/2026-11-09
LOCATION:The Bascom\, 323 Franklin Rd\, Highlands\, NC\, 28741\, United States
CATEGORIES:Visual Arts
ATTACH;FMTTYPE=image/jpeg:https://thelaurelmagazine.com/wp-content/uploads/2025/07/highlands-nc-visual-arts-bascom-studio-alive.jpg
END:VEVENT
BEGIN:VEVENT
DTSTART;TZID=America/New_York:20270301T100000
DTEND;TZID=America/New_York:20270301T130000
DTSTAMP:20260421T122632
CREATED:20250731T141805Z
LAST-MODIFIED:20260127T205049Z
UID:102766-1803895200-1803906000@thelaurelmagazine.com
SUMMARY:Studio Alive at The Bascom
DESCRIPTION:Studio Alive is a group of dedicated artists that share a passion for drawing from live models. \nThe group meets in The Bascom’s Adult Studio on select Mondays\, year-round. \nFavorites Count: 0
URL:https://thelaurelmagazine.com/local-event/studio-alive-at-the-bascom-2/2027-03-01
LOCATION:The Bascom\, 323 Franklin Rd\, Highlands\, NC\, 28741\, United States
CATEGORIES:Visual Arts
ATTACH;FMTTYPE=image/jpeg:https://thelaurelmagazine.com/wp-content/uploads/2025/07/highlands-nc-visual-arts-bascom-studio-alive.jpg
END:VEVENT
BEGIN:VEVENT
DTSTART;TZID=America/New_York:20270621T100000
DTEND;TZID=America/New_York:20270621T130000
DTSTAMP:20260421T122632
CREATED:20250731T141805Z
LAST-MODIFIED:20260127T205055Z
UID:102782-1813572000-1813582800@thelaurelmagazine.com
SUMMARY:Studio Alive at The Bascom
DESCRIPTION:Studio Alive is a group of dedicated artists that share a passion for drawing from live models. \nThe group meets in The Bascom’s Adult Studio on select Mondays\, year-round. \nFavorites Count: 0
URL:https://thelaurelmagazine.com/local-event/studio-alive-at-the-bascom-2/2027-06-21
LOCATION:The Bascom\, 323 Franklin Rd\, Highlands\, NC\, 28741\, United States
CATEGORIES:Visual Arts
ATTACH;FMTTYPE=image/jpeg:https://thelaurelmagazine.com/wp-content/uploads/2025/07/highlands-nc-visual-arts-bascom-studio-alive.jpg
END:VEVENT
BEGIN:VEVENT
DTSTART;TZID=America/New_York:20271011T100000
DTEND;TZID=America/New_York:20271011T130000
DTSTAMP:20260421T122632
CREATED:20250731T141805Z
LAST-MODIFIED:20260127T205104Z
UID:103900-1823248800-1823259600@thelaurelmagazine.com
SUMMARY:Studio Alive at The Bascom
DESCRIPTION:Studio Alive is a group of dedicated artists that share a passion for drawing from live models. \nThe group meets in The Bascom’s Adult Studio on select Mondays\, year-round. \nFavorites Count: 0
URL:https://thelaurelmagazine.com/local-event/studio-alive-at-the-bascom-2/2027-10-11
LOCATION:The Bascom\, 323 Franklin Rd\, Highlands\, NC\, 28741\, United States
CATEGORIES:Visual Arts
ATTACH;FMTTYPE=image/jpeg:https://thelaurelmagazine.com/wp-content/uploads/2025/07/highlands-nc-visual-arts-bascom-studio-alive.jpg
END:VEVENT
BEGIN:VEVENT
DTSTART;TZID=America/New_York:20260727T100000
DTEND;TZID=America/New_York:20260727T130000
DTSTAMP:20260421T122632
CREATED:20250731T141805Z
LAST-MODIFIED:20260127T205029Z
UID:102735-1785146400-1785157200@thelaurelmagazine.com
SUMMARY:Studio Alive at The Bascom
DESCRIPTION:Studio Alive is a group of dedicated artists that share a passion for drawing from live models. \nThe group meets in The Bascom’s Adult Studio on select Mondays\, year-round. \nFavorites Count: 0
URL:https://thelaurelmagazine.com/local-event/studio-alive-at-the-bascom-2/2026-07-27
LOCATION:The Bascom\, 323 Franklin Rd\, Highlands\, NC\, 28741\, United States
CATEGORIES:Visual Arts
ATTACH;FMTTYPE=image/jpeg:https://thelaurelmagazine.com/wp-content/uploads/2025/07/highlands-nc-visual-arts-bascom-studio-alive.jpg
END:VEVENT
END:VCALENDAR