BEGIN:VCALENDAR
VERSION:2.0
PRODID:-//Laurel Magazine - ECPv6.15.16//NONSGML v1.0//EN
CALSCALE:GREGORIAN
METHOD:PUBLISH
X-ORIGINAL-URL:https://thelaurelmagazine.com
X-WR-CALDESC:Events for Laurel Magazine
REFRESH-INTERVAL;VALUE=DURATION:PT1H
X-Robots-Tag:noindex
X-PUBLISHED-TTL:PT1H
BEGIN:VTIMEZONE
TZID:America/New_York
BEGIN:DAYLIGHT
TZOFFSETFROM:-0500
TZOFFSETTO:-0400
TZNAME:EDT
DTSTART:20250309T070000
END:DAYLIGHT
BEGIN:STANDARD
TZOFFSETFROM:-0400
TZOFFSETTO:-0500
TZNAME:EST
DTSTART:20251102T060000
END:STANDARD
BEGIN:DAYLIGHT
TZOFFSETFROM:-0500
TZOFFSETTO:-0400
TZNAME:EDT
DTSTART:20260308T070000
END:DAYLIGHT
BEGIN:STANDARD
TZOFFSETFROM:-0400
TZOFFSETTO:-0500
TZNAME:EST
DTSTART:20261101T060000
END:STANDARD
BEGIN:DAYLIGHT
TZOFFSETFROM:-0500
TZOFFSETTO:-0400
TZNAME:EDT
DTSTART:20270314T070000
END:DAYLIGHT
BEGIN:STANDARD
TZOFFSETFROM:-0400
TZOFFSETTO:-0500
TZNAME:EST
DTSTART:20271107T060000
END:STANDARD
END:VTIMEZONE
BEGIN:VEVENT
DTSTART;TZID=America/New_York:20260617T110000
DTEND;TZID=America/New_York:20260617T110000
DTSTAMP:20260422T233631
CREATED:20260422T181414Z
LAST-MODIFIED:20260422T181414Z
UID:117358-1781694000-1781694000@thelaurelmagazine.com
SUMMARY:Tinker Time for Tots at The Literacy & Learning Center
DESCRIPTION:Little hands\, big imagination! \nJoin us for Tinker Time for Tots — a free\, playful hour designed for toddlers and their caregivers. \nEach session sparks creativity through hands-on activities that build curiosity and connection. \nFavorites Count: 0
URL:https://thelaurelmagazine.com/local-event/tinker-time-for-tots-at-the-literacy-learning-center/2026-06-17
LOCATION:The Literacy & Learning Center\, 675 S 4th Street\, Highlands\, NC\, 28741\, United States
CATEGORIES:Education
ATTACH;FMTTYPE=image/jpeg:https://thelaurelmagazine.com/wp-content/uploads/2026/04/highlands-nc-education-literacy-learning-center-tinker-time-for-tots.jpg
END:VEVENT
BEGIN:VEVENT
DTSTART;TZID=America/New_York:20260701T110000
DTEND;TZID=America/New_York:20260701T110000
DTSTAMP:20260422T233631
CREATED:20260422T181414Z
LAST-MODIFIED:20260422T181414Z
UID:117359-1782903600-1782903600@thelaurelmagazine.com
SUMMARY:Tinker Time for Tots at The Literacy & Learning Center
DESCRIPTION:Little hands\, big imagination! \nJoin us for Tinker Time for Tots — a free\, playful hour designed for toddlers and their caregivers. \nEach session sparks creativity through hands-on activities that build curiosity and connection. \nFavorites Count: 0
URL:https://thelaurelmagazine.com/local-event/tinker-time-for-tots-at-the-literacy-learning-center/2026-07-01
LOCATION:The Literacy & Learning Center\, 675 S 4th Street\, Highlands\, NC\, 28741\, United States
CATEGORIES:Education
ATTACH;FMTTYPE=image/jpeg:https://thelaurelmagazine.com/wp-content/uploads/2026/04/highlands-nc-education-literacy-learning-center-tinker-time-for-tots.jpg
END:VEVENT
BEGIN:VEVENT
DTSTART;TZID=America/New_York:20260715T110000
DTEND;TZID=America/New_York:20260715T110000
DTSTAMP:20260422T233631
CREATED:20260422T181414Z
LAST-MODIFIED:20260422T181414Z
UID:117360-1784113200-1784113200@thelaurelmagazine.com
SUMMARY:Tinker Time for Tots at The Literacy & Learning Center
DESCRIPTION:Little hands\, big imagination! \nJoin us for Tinker Time for Tots — a free\, playful hour designed for toddlers and their caregivers. \nEach session sparks creativity through hands-on activities that build curiosity and connection. \nFavorites Count: 0
URL:https://thelaurelmagazine.com/local-event/tinker-time-for-tots-at-the-literacy-learning-center/2026-07-15
LOCATION:The Literacy & Learning Center\, 675 S 4th Street\, Highlands\, NC\, 28741\, United States
CATEGORIES:Education
ATTACH;FMTTYPE=image/jpeg:https://thelaurelmagazine.com/wp-content/uploads/2026/04/highlands-nc-education-literacy-learning-center-tinker-time-for-tots.jpg
END:VEVENT
BEGIN:VEVENT
DTSTART;TZID=America/New_York:20260729T110000
DTEND;TZID=America/New_York:20260729T110000
DTSTAMP:20260422T233631
CREATED:20260422T181414Z
LAST-MODIFIED:20260422T181414Z
UID:117361-1785322800-1785322800@thelaurelmagazine.com
SUMMARY:Tinker Time for Tots at The Literacy & Learning Center
DESCRIPTION:Little hands\, big imagination! \nJoin us for Tinker Time for Tots — a free\, playful hour designed for toddlers and their caregivers. \nEach session sparks creativity through hands-on activities that build curiosity and connection. \nFavorites Count: 0
URL:https://thelaurelmagazine.com/local-event/tinker-time-for-tots-at-the-literacy-learning-center/2026-07-29
LOCATION:The Literacy & Learning Center\, 675 S 4th Street\, Highlands\, NC\, 28741\, United States
CATEGORIES:Education
ATTACH;FMTTYPE=image/jpeg:https://thelaurelmagazine.com/wp-content/uploads/2026/04/highlands-nc-education-literacy-learning-center-tinker-time-for-tots.jpg
END:VEVENT
END:VCALENDAR