BEGIN:VCALENDAR
VERSION:2.0
PRODID:-//Laurel Magazine - ECPv6.15.16//NONSGML v1.0//EN
CALSCALE:GREGORIAN
METHOD:PUBLISH
X-WR-CALNAME:Laurel Magazine
X-ORIGINAL-URL:https://thelaurelmagazine.com
X-WR-CALDESC:Events for Laurel Magazine
REFRESH-INTERVAL;VALUE=DURATION:PT1H
X-Robots-Tag:noindex
X-PUBLISHED-TTL:PT1H
BEGIN:VTIMEZONE
TZID:America/New_York
BEGIN:DAYLIGHT
TZOFFSETFROM:-0500
TZOFFSETTO:-0400
TZNAME:EDT
DTSTART:20240310T070000
END:DAYLIGHT
BEGIN:STANDARD
TZOFFSETFROM:-0400
TZOFFSETTO:-0500
TZNAME:EST
DTSTART:20241103T060000
END:STANDARD
BEGIN:DAYLIGHT
TZOFFSETFROM:-0500
TZOFFSETTO:-0400
TZNAME:EDT
DTSTART:20250309T070000
END:DAYLIGHT
BEGIN:STANDARD
TZOFFSETFROM:-0400
TZOFFSETTO:-0500
TZNAME:EST
DTSTART:20251102T060000
END:STANDARD
BEGIN:DAYLIGHT
TZOFFSETFROM:-0500
TZOFFSETTO:-0400
TZNAME:EDT
DTSTART:20260308T070000
END:DAYLIGHT
BEGIN:STANDARD
TZOFFSETFROM:-0400
TZOFFSETTO:-0500
TZNAME:EST
DTSTART:20261101T060000
END:STANDARD
BEGIN:DAYLIGHT
TZOFFSETFROM:-0500
TZOFFSETTO:-0400
TZNAME:EDT
DTSTART:20270314T070000
END:DAYLIGHT
BEGIN:STANDARD
TZOFFSETFROM:-0400
TZOFFSETTO:-0500
TZNAME:EST
DTSTART:20271107T060000
END:STANDARD
END:VTIMEZONE
BEGIN:VEVENT
DTSTART;TZID=America/New_York:20250603T130000
DTEND;TZID=America/New_York:20250603T160000
DTSTAMP:20260421T182445
CREATED:20250611T180041Z
LAST-MODIFIED:20250611T180041Z
UID:91034-1748955600-1748966400@thelaurelmagazine.com
SUMMARY:Youth Craft Camp at The Literacy & Learning Center
DESCRIPTION:3rd – 5th Graders \nCraft Camp is a fun and creative experience where kids can explore different art projects and express their creativity! This session\, led by Kara Long\, will feature tissue paper flowers and clay crafts\, allowing campers to experiment with color\, texture\, and design while making their own unique creations \nFavorites Count: 0
URL:https://thelaurelmagazine.com/local-event/youth-craft-camp-at-the-literacy-learning-center/2025-06-03
LOCATION:The Literacy & Learning Center\, 675 S 4th Street\, Highlands\, NC\, 28741\, United States
CATEGORIES:Community
END:VEVENT
BEGIN:VEVENT
DTSTART;TZID=America/New_York:20250604T130000
DTEND;TZID=America/New_York:20250604T160000
DTSTAMP:20260421T182445
CREATED:20250611T180041Z
LAST-MODIFIED:20250611T180041Z
UID:91035-1749042000-1749052800@thelaurelmagazine.com
SUMMARY:Youth Craft Camp at The Literacy & Learning Center
DESCRIPTION:3rd – 5th Graders \nCraft Camp is a fun and creative experience where kids can explore different art projects and express their creativity! This session\, led by Kara Long\, will feature tissue paper flowers and clay crafts\, allowing campers to experiment with color\, texture\, and design while making their own unique creations \nFavorites Count: 0
URL:https://thelaurelmagazine.com/local-event/youth-craft-camp-at-the-literacy-learning-center/2025-06-04
LOCATION:The Literacy & Learning Center\, 675 S 4th Street\, Highlands\, NC\, 28741\, United States
CATEGORIES:Community
END:VEVENT
BEGIN:VEVENT
DTSTART;TZID=America/New_York:20250605T130000
DTEND;TZID=America/New_York:20250605T160000
DTSTAMP:20260421T182445
CREATED:20250611T180041Z
LAST-MODIFIED:20250611T180041Z
UID:91036-1749128400-1749139200@thelaurelmagazine.com
SUMMARY:Youth Craft Camp at The Literacy & Learning Center
DESCRIPTION:3rd – 5th Graders \nCraft Camp is a fun and creative experience where kids can explore different art projects and express their creativity! This session\, led by Kara Long\, will feature tissue paper flowers and clay crafts\, allowing campers to experiment with color\, texture\, and design while making their own unique creations \nFavorites Count: 0
URL:https://thelaurelmagazine.com/local-event/youth-craft-camp-at-the-literacy-learning-center/2025-06-05
LOCATION:The Literacy & Learning Center\, 675 S 4th Street\, Highlands\, NC\, 28741\, United States
CATEGORIES:Community
END:VEVENT
BEGIN:VEVENT
DTSTART;TZID=America/New_York:20250606T130000
DTEND;TZID=America/New_York:20250606T160000
DTSTAMP:20260421T182445
CREATED:20250611T180041Z
LAST-MODIFIED:20250611T180041Z
UID:91037-1749214800-1749225600@thelaurelmagazine.com
SUMMARY:Youth Craft Camp at The Literacy & Learning Center
DESCRIPTION:3rd – 5th Graders \nCraft Camp is a fun and creative experience where kids can explore different art projects and express their creativity! This session\, led by Kara Long\, will feature tissue paper flowers and clay crafts\, allowing campers to experiment with color\, texture\, and design while making their own unique creations \nFavorites Count: 0
URL:https://thelaurelmagazine.com/local-event/youth-craft-camp-at-the-literacy-learning-center/2025-06-06
LOCATION:The Literacy & Learning Center\, 675 S 4th Street\, Highlands\, NC\, 28741\, United States
CATEGORIES:Community
END:VEVENT
BEGIN:VEVENT
DTSTART;TZID=America/New_York:20251118T180000
DTEND;TZID=America/New_York:20251118T190000
DTSTAMP:20260421T182445
CREATED:20250611T174026Z
LAST-MODIFIED:20260204T151016Z
UID:103589-1763488800-1763492400@thelaurelmagazine.com
SUMMARY:Free ESL Classes at The Literacy and Learning Center
DESCRIPTION:Join us for free ESL classes at The Literacy & Learning Center!  \nTuesdays\n6 – 7 pm \nAt The Literacy & Learning Center \nFavorites Count: 0
URL:https://thelaurelmagazine.com/local-event/free-esl-online-classes-with-the-literacy-and-learning-center/2025-11-18
LOCATION:The Literacy & Learning Center\, 675 S 4th Street\, Highlands\, NC\, 28741\, United States
CATEGORIES:Education
ATTACH;FMTTYPE=image/jpeg:https://thelaurelmagazine.com/wp-content/uploads/2025/06/highlands-nc-community-education-literacy-learning-center-logo.jpg
END:VEVENT
BEGIN:VEVENT
DTSTART;TZID=America/New_York:20260310T180000
DTEND;TZID=America/New_York:20260310T190000
DTSTAMP:20260421T182445
CREATED:20250611T174026Z
LAST-MODIFIED:20260204T151112Z
UID:103605-1773165600-1773169200@thelaurelmagazine.com
SUMMARY:Free ESL Classes at The Literacy and Learning Center
DESCRIPTION:Join us for free ESL classes at The Literacy & Learning Center!  \nTuesdays\n6 – 7 pm \nAt The Literacy & Learning Center \nFavorites Count: 0
URL:https://thelaurelmagazine.com/local-event/free-esl-online-classes-with-the-literacy-and-learning-center/2026-03-10
LOCATION:The Literacy & Learning Center\, 675 S 4th Street\, Highlands\, NC\, 28741\, United States
CATEGORIES:Education
ATTACH;FMTTYPE=image/jpeg:https://thelaurelmagazine.com/wp-content/uploads/2025/06/highlands-nc-community-education-literacy-learning-center-logo.jpg
END:VEVENT
BEGIN:VEVENT
DTSTART;TZID=America/New_York:20251125T180000
DTEND;TZID=America/New_York:20251125T190000
DTSTAMP:20260421T182445
CREATED:20250611T174026Z
LAST-MODIFIED:20260204T151016Z
UID:103590-1764093600-1764097200@thelaurelmagazine.com
SUMMARY:Free ESL Classes at The Literacy and Learning Center
DESCRIPTION:Join us for free ESL classes at The Literacy & Learning Center!  \nTuesdays\n6 – 7 pm \nAt The Literacy & Learning Center \nFavorites Count: 0
URL:https://thelaurelmagazine.com/local-event/free-esl-online-classes-with-the-literacy-and-learning-center/2025-11-25
LOCATION:The Literacy & Learning Center\, 675 S 4th Street\, Highlands\, NC\, 28741\, United States
CATEGORIES:Education
ATTACH;FMTTYPE=image/jpeg:https://thelaurelmagazine.com/wp-content/uploads/2025/06/highlands-nc-community-education-literacy-learning-center-logo.jpg
END:VEVENT
BEGIN:VEVENT
DTSTART;TZID=America/New_York:20260317T180000
DTEND;TZID=America/New_York:20260317T190000
DTSTAMP:20260421T182445
CREATED:20250611T174026Z
LAST-MODIFIED:20260204T151112Z
UID:103606-1773770400-1773774000@thelaurelmagazine.com
SUMMARY:Free ESL Classes at The Literacy and Learning Center
DESCRIPTION:Join us for free ESL classes at The Literacy & Learning Center!  \nTuesdays\n6 – 7 pm \nAt The Literacy & Learning Center \nFavorites Count: 0
URL:https://thelaurelmagazine.com/local-event/free-esl-online-classes-with-the-literacy-and-learning-center/2026-03-17
LOCATION:The Literacy & Learning Center\, 675 S 4th Street\, Highlands\, NC\, 28741\, United States
CATEGORIES:Education
ATTACH;FMTTYPE=image/jpeg:https://thelaurelmagazine.com/wp-content/uploads/2025/06/highlands-nc-community-education-literacy-learning-center-logo.jpg
END:VEVENT
BEGIN:VEVENT
DTSTART;TZID=America/New_York:20251007T180000
DTEND;TZID=America/New_York:20251007T190000
DTSTAMP:20260421T182445
CREATED:20250611T174026Z
LAST-MODIFIED:20260204T151014Z
UID:90986-1759860000-1759863600@thelaurelmagazine.com
SUMMARY:Free ESL Classes at The Literacy and Learning Center
DESCRIPTION:Join us for free ESL classes at The Literacy & Learning Center!  \nTuesdays\n6 – 7 pm \nAt The Literacy & Learning Center \nFavorites Count: 0
URL:https://thelaurelmagazine.com/local-event/free-esl-online-classes-with-the-literacy-and-learning-center/2025-10-07
LOCATION:The Literacy & Learning Center\, 675 S 4th Street\, Highlands\, NC\, 28741\, United States
CATEGORIES:Education
ATTACH;FMTTYPE=image/jpeg:https://thelaurelmagazine.com/wp-content/uploads/2025/06/highlands-nc-community-education-literacy-learning-center-logo.jpg
END:VEVENT
BEGIN:VEVENT
DTSTART;TZID=America/New_York:20251202T180000
DTEND;TZID=America/New_York:20251202T190000
DTSTAMP:20260421T182445
CREATED:20250611T174026Z
LAST-MODIFIED:20260204T151016Z
UID:103591-1764698400-1764702000@thelaurelmagazine.com
SUMMARY:Free ESL Classes at The Literacy and Learning Center
DESCRIPTION:Join us for free ESL classes at The Literacy & Learning Center!  \nTuesdays\n6 – 7 pm \nAt The Literacy & Learning Center \nFavorites Count: 0
URL:https://thelaurelmagazine.com/local-event/free-esl-online-classes-with-the-literacy-and-learning-center/2025-12-02
LOCATION:The Literacy & Learning Center\, 675 S 4th Street\, Highlands\, NC\, 28741\, United States
CATEGORIES:Education
ATTACH;FMTTYPE=image/jpeg:https://thelaurelmagazine.com/wp-content/uploads/2025/06/highlands-nc-community-education-literacy-learning-center-logo.jpg
END:VEVENT
BEGIN:VEVENT
DTSTART;TZID=America/New_York:20260324T180000
DTEND;TZID=America/New_York:20260324T190000
DTSTAMP:20260421T182445
CREATED:20250611T174026Z
LAST-MODIFIED:20260204T151112Z
UID:103607-1774375200-1774378800@thelaurelmagazine.com
SUMMARY:Free ESL Classes at The Literacy and Learning Center
DESCRIPTION:Join us for free ESL classes at The Literacy & Learning Center!  \nTuesdays\n6 – 7 pm \nAt The Literacy & Learning Center \nFavorites Count: 0
URL:https://thelaurelmagazine.com/local-event/free-esl-online-classes-with-the-literacy-and-learning-center/2026-03-24
LOCATION:The Literacy & Learning Center\, 675 S 4th Street\, Highlands\, NC\, 28741\, United States
CATEGORIES:Education
ATTACH;FMTTYPE=image/jpeg:https://thelaurelmagazine.com/wp-content/uploads/2025/06/highlands-nc-community-education-literacy-learning-center-logo.jpg
END:VEVENT
BEGIN:VEVENT
DTSTART;TZID=America/New_York:20251209T180000
DTEND;TZID=America/New_York:20251209T190000
DTSTAMP:20260421T182445
CREATED:20250611T174026Z
LAST-MODIFIED:20260204T151016Z
UID:103592-1765303200-1765306800@thelaurelmagazine.com
SUMMARY:Free ESL Classes at The Literacy and Learning Center
DESCRIPTION:Join us for free ESL classes at The Literacy & Learning Center!  \nTuesdays\n6 – 7 pm \nAt The Literacy & Learning Center \nFavorites Count: 0
URL:https://thelaurelmagazine.com/local-event/free-esl-online-classes-with-the-literacy-and-learning-center/2025-12-09
LOCATION:The Literacy & Learning Center\, 675 S 4th Street\, Highlands\, NC\, 28741\, United States
CATEGORIES:Education
ATTACH;FMTTYPE=image/jpeg:https://thelaurelmagazine.com/wp-content/uploads/2025/06/highlands-nc-community-education-literacy-learning-center-logo.jpg
END:VEVENT
BEGIN:VEVENT
DTSTART;TZID=America/New_York:20260331T180000
DTEND;TZID=America/New_York:20260331T190000
DTSTAMP:20260421T182445
CREATED:20250611T174026Z
LAST-MODIFIED:20260204T151113Z
UID:103608-1774980000-1774983600@thelaurelmagazine.com
SUMMARY:Free ESL Classes at The Literacy and Learning Center
DESCRIPTION:Join us for free ESL classes at The Literacy & Learning Center!  \nTuesdays\n6 – 7 pm \nAt The Literacy & Learning Center \nFavorites Count: 0
URL:https://thelaurelmagazine.com/local-event/free-esl-online-classes-with-the-literacy-and-learning-center/2026-03-31
LOCATION:The Literacy & Learning Center\, 675 S 4th Street\, Highlands\, NC\, 28741\, United States
CATEGORIES:Education
ATTACH;FMTTYPE=image/jpeg:https://thelaurelmagazine.com/wp-content/uploads/2025/06/highlands-nc-community-education-literacy-learning-center-logo.jpg
END:VEVENT
BEGIN:VEVENT
DTSTART;TZID=America/New_York:20251216T180000
DTEND;TZID=America/New_York:20251216T190000
DTSTAMP:20260421T182445
CREATED:20250611T174026Z
LAST-MODIFIED:20260204T151016Z
UID:103593-1765908000-1765911600@thelaurelmagazine.com
SUMMARY:Free ESL Classes at The Literacy and Learning Center
DESCRIPTION:Join us for free ESL classes at The Literacy & Learning Center!  \nTuesdays\n6 – 7 pm \nAt The Literacy & Learning Center \nFavorites Count: 0
URL:https://thelaurelmagazine.com/local-event/free-esl-online-classes-with-the-literacy-and-learning-center/2025-12-16
LOCATION:The Literacy & Learning Center\, 675 S 4th Street\, Highlands\, NC\, 28741\, United States
CATEGORIES:Education
ATTACH;FMTTYPE=image/jpeg:https://thelaurelmagazine.com/wp-content/uploads/2025/06/highlands-nc-community-education-literacy-learning-center-logo.jpg
END:VEVENT
BEGIN:VEVENT
DTSTART;TZID=America/New_York:20260407T180000
DTEND;TZID=America/New_York:20260407T190000
DTSTAMP:20260421T182445
CREATED:20250611T174026Z
LAST-MODIFIED:20260204T151113Z
UID:103609-1775584800-1775588400@thelaurelmagazine.com
SUMMARY:Free ESL Classes at The Literacy and Learning Center
DESCRIPTION:Join us for free ESL classes at The Literacy & Learning Center!  \nTuesdays\n6 – 7 pm \nAt The Literacy & Learning Center \nFavorites Count: 0
URL:https://thelaurelmagazine.com/local-event/free-esl-online-classes-with-the-literacy-and-learning-center/2026-04-07
LOCATION:The Literacy & Learning Center\, 675 S 4th Street\, Highlands\, NC\, 28741\, United States
CATEGORIES:Education
ATTACH;FMTTYPE=image/jpeg:https://thelaurelmagazine.com/wp-content/uploads/2025/06/highlands-nc-community-education-literacy-learning-center-logo.jpg
END:VEVENT
BEGIN:VEVENT
DTSTART;TZID=America/New_York:20251223T180000
DTEND;TZID=America/New_York:20251223T190000
DTSTAMP:20260421T182445
CREATED:20250611T174026Z
LAST-MODIFIED:20260204T151103Z
UID:103594-1766512800-1766516400@thelaurelmagazine.com
SUMMARY:Free ESL Classes at The Literacy and Learning Center
DESCRIPTION:Join us for free ESL classes at The Literacy & Learning Center!  \nTuesdays\n6 – 7 pm \nAt The Literacy & Learning Center \nFavorites Count: 0
URL:https://thelaurelmagazine.com/local-event/free-esl-online-classes-with-the-literacy-and-learning-center/2025-12-23
LOCATION:The Literacy & Learning Center\, 675 S 4th Street\, Highlands\, NC\, 28741\, United States
CATEGORIES:Education
ATTACH;FMTTYPE=image/jpeg:https://thelaurelmagazine.com/wp-content/uploads/2025/06/highlands-nc-community-education-literacy-learning-center-logo.jpg
END:VEVENT
BEGIN:VEVENT
DTSTART;TZID=America/New_York:20260414T180000
DTEND;TZID=America/New_York:20260414T190000
DTSTAMP:20260421T182445
CREATED:20250611T174026Z
LAST-MODIFIED:20260204T151113Z
UID:103610-1776189600-1776193200@thelaurelmagazine.com
SUMMARY:Free ESL Classes at The Literacy and Learning Center
DESCRIPTION:Join us for free ESL classes at The Literacy & Learning Center!  \nTuesdays\n6 – 7 pm \nAt The Literacy & Learning Center \nFavorites Count: 0
URL:https://thelaurelmagazine.com/local-event/free-esl-online-classes-with-the-literacy-and-learning-center/2026-04-14
LOCATION:The Literacy & Learning Center\, 675 S 4th Street\, Highlands\, NC\, 28741\, United States
CATEGORIES:Education
ATTACH;FMTTYPE=image/jpeg:https://thelaurelmagazine.com/wp-content/uploads/2025/06/highlands-nc-community-education-literacy-learning-center-logo.jpg
END:VEVENT
BEGIN:VEVENT
DTSTART;TZID=America/New_York:20251230T180000
DTEND;TZID=America/New_York:20251230T190000
DTSTAMP:20260421T182446
CREATED:20250611T174026Z
LAST-MODIFIED:20260204T151103Z
UID:103595-1767117600-1767121200@thelaurelmagazine.com
SUMMARY:Free ESL Classes at The Literacy and Learning Center
DESCRIPTION:Join us for free ESL classes at The Literacy & Learning Center!  \nTuesdays\n6 – 7 pm \nAt The Literacy & Learning Center \nFavorites Count: 0
URL:https://thelaurelmagazine.com/local-event/free-esl-online-classes-with-the-literacy-and-learning-center/2025-12-30
LOCATION:The Literacy & Learning Center\, 675 S 4th Street\, Highlands\, NC\, 28741\, United States
CATEGORIES:Education
ATTACH;FMTTYPE=image/jpeg:https://thelaurelmagazine.com/wp-content/uploads/2025/06/highlands-nc-community-education-literacy-learning-center-logo.jpg
END:VEVENT
BEGIN:VEVENT
DTSTART;TZID=America/New_York:20260106T180000
DTEND;TZID=America/New_York:20260106T190000
DTSTAMP:20260421T182446
CREATED:20250611T174026Z
LAST-MODIFIED:20260204T151103Z
UID:103596-1767722400-1767726000@thelaurelmagazine.com
SUMMARY:Free ESL Classes at The Literacy and Learning Center
DESCRIPTION:Join us for free ESL classes at The Literacy & Learning Center!  \nTuesdays\n6 – 7 pm \nAt The Literacy & Learning Center \nFavorites Count: 0
URL:https://thelaurelmagazine.com/local-event/free-esl-online-classes-with-the-literacy-and-learning-center/2026-01-06
LOCATION:The Literacy & Learning Center\, 675 S 4th Street\, Highlands\, NC\, 28741\, United States
CATEGORIES:Education
ATTACH;FMTTYPE=image/jpeg:https://thelaurelmagazine.com/wp-content/uploads/2025/06/highlands-nc-community-education-literacy-learning-center-logo.jpg
END:VEVENT
BEGIN:VEVENT
DTSTART;TZID=America/New_York:20260113T180000
DTEND;TZID=America/New_York:20260113T190000
DTSTAMP:20260421T182446
CREATED:20250611T174026Z
LAST-MODIFIED:20260204T151103Z
UID:103597-1768327200-1768330800@thelaurelmagazine.com
SUMMARY:Free ESL Classes at The Literacy and Learning Center
DESCRIPTION:Join us for free ESL classes at The Literacy & Learning Center!  \nTuesdays\n6 – 7 pm \nAt The Literacy & Learning Center \nFavorites Count: 0
URL:https://thelaurelmagazine.com/local-event/free-esl-online-classes-with-the-literacy-and-learning-center/2026-01-13
LOCATION:The Literacy & Learning Center\, 675 S 4th Street\, Highlands\, NC\, 28741\, United States
CATEGORIES:Education
ATTACH;FMTTYPE=image/jpeg:https://thelaurelmagazine.com/wp-content/uploads/2025/06/highlands-nc-community-education-literacy-learning-center-logo.jpg
END:VEVENT
BEGIN:VEVENT
DTSTART;TZID=America/New_York:20260120T180000
DTEND;TZID=America/New_York:20260120T190000
DTSTAMP:20260421T182446
CREATED:20250611T174026Z
LAST-MODIFIED:20260204T151104Z
UID:103598-1768932000-1768935600@thelaurelmagazine.com
SUMMARY:Free ESL Classes at The Literacy and Learning Center
DESCRIPTION:Join us for free ESL classes at The Literacy & Learning Center!  \nTuesdays\n6 – 7 pm \nAt The Literacy & Learning Center \nFavorites Count: 0
URL:https://thelaurelmagazine.com/local-event/free-esl-online-classes-with-the-literacy-and-learning-center/2026-01-20
LOCATION:The Literacy & Learning Center\, 675 S 4th Street\, Highlands\, NC\, 28741\, United States
CATEGORIES:Education
ATTACH;FMTTYPE=image/jpeg:https://thelaurelmagazine.com/wp-content/uploads/2025/06/highlands-nc-community-education-literacy-learning-center-logo.jpg
END:VEVENT
BEGIN:VEVENT
DTSTART;TZID=America/New_York:20260127T180000
DTEND;TZID=America/New_York:20260127T190000
DTSTAMP:20260421T182446
CREATED:20250611T174026Z
LAST-MODIFIED:20260204T151104Z
UID:103599-1769536800-1769540400@thelaurelmagazine.com
SUMMARY:Free ESL Classes at The Literacy and Learning Center
DESCRIPTION:Join us for free ESL classes at The Literacy & Learning Center!  \nTuesdays\n6 – 7 pm \nAt The Literacy & Learning Center \nFavorites Count: 0
URL:https://thelaurelmagazine.com/local-event/free-esl-online-classes-with-the-literacy-and-learning-center/2026-01-27
LOCATION:The Literacy & Learning Center\, 675 S 4th Street\, Highlands\, NC\, 28741\, United States
CATEGORIES:Education
ATTACH;FMTTYPE=image/jpeg:https://thelaurelmagazine.com/wp-content/uploads/2025/06/highlands-nc-community-education-literacy-learning-center-logo.jpg
END:VEVENT
BEGIN:VEVENT
DTSTART;TZID=America/New_York:20251014T180000
DTEND;TZID=America/New_York:20251014T190000
DTSTAMP:20260421T182446
CREATED:20250611T174026Z
LAST-MODIFIED:20260204T151014Z
UID:103584-1760464800-1760468400@thelaurelmagazine.com
SUMMARY:Free ESL Classes at The Literacy and Learning Center
DESCRIPTION:Join us for free ESL classes at The Literacy & Learning Center!  \nTuesdays\n6 – 7 pm \nAt The Literacy & Learning Center \nFavorites Count: 0
URL:https://thelaurelmagazine.com/local-event/free-esl-online-classes-with-the-literacy-and-learning-center/2025-10-14
LOCATION:The Literacy & Learning Center\, 675 S 4th Street\, Highlands\, NC\, 28741\, United States
CATEGORIES:Education
ATTACH;FMTTYPE=image/jpeg:https://thelaurelmagazine.com/wp-content/uploads/2025/06/highlands-nc-community-education-literacy-learning-center-logo.jpg
END:VEVENT
BEGIN:VEVENT
DTSTART;TZID=America/New_York:20260203T180000
DTEND;TZID=America/New_York:20260203T190000
DTSTAMP:20260421T182446
CREATED:20250611T174026Z
LAST-MODIFIED:20260204T151104Z
UID:103600-1770141600-1770145200@thelaurelmagazine.com
SUMMARY:Free ESL Classes at The Literacy and Learning Center
DESCRIPTION:Join us for free ESL classes at The Literacy & Learning Center!  \nTuesdays\n6 – 7 pm \nAt The Literacy & Learning Center \nFavorites Count: 0
URL:https://thelaurelmagazine.com/local-event/free-esl-online-classes-with-the-literacy-and-learning-center/2026-02-03
LOCATION:The Literacy & Learning Center\, 675 S 4th Street\, Highlands\, NC\, 28741\, United States
CATEGORIES:Education
ATTACH;FMTTYPE=image/jpeg:https://thelaurelmagazine.com/wp-content/uploads/2025/06/highlands-nc-community-education-literacy-learning-center-logo.jpg
END:VEVENT
BEGIN:VEVENT
DTSTART;TZID=America/New_York:20251021T180000
DTEND;TZID=America/New_York:20251021T190000
DTSTAMP:20260421T182446
CREATED:20250611T174026Z
LAST-MODIFIED:20260204T151015Z
UID:103585-1761069600-1761073200@thelaurelmagazine.com
SUMMARY:Free ESL Classes at The Literacy and Learning Center
DESCRIPTION:Join us for free ESL classes at The Literacy & Learning Center!  \nTuesdays\n6 – 7 pm \nAt The Literacy & Learning Center \nFavorites Count: 0
URL:https://thelaurelmagazine.com/local-event/free-esl-online-classes-with-the-literacy-and-learning-center/2025-10-21
LOCATION:The Literacy & Learning Center\, 675 S 4th Street\, Highlands\, NC\, 28741\, United States
CATEGORIES:Education
ATTACH;FMTTYPE=image/jpeg:https://thelaurelmagazine.com/wp-content/uploads/2025/06/highlands-nc-community-education-literacy-learning-center-logo.jpg
END:VEVENT
BEGIN:VEVENT
DTSTART;TZID=America/New_York:20260210T180000
DTEND;TZID=America/New_York:20260210T190000
DTSTAMP:20260421T182446
CREATED:20250611T174026Z
LAST-MODIFIED:20260204T151104Z
UID:103601-1770746400-1770750000@thelaurelmagazine.com
SUMMARY:Free ESL Classes at The Literacy and Learning Center
DESCRIPTION:Join us for free ESL classes at The Literacy & Learning Center!  \nTuesdays\n6 – 7 pm \nAt The Literacy & Learning Center \nFavorites Count: 0
URL:https://thelaurelmagazine.com/local-event/free-esl-online-classes-with-the-literacy-and-learning-center/2026-02-10
LOCATION:The Literacy & Learning Center\, 675 S 4th Street\, Highlands\, NC\, 28741\, United States
CATEGORIES:Education
ATTACH;FMTTYPE=image/jpeg:https://thelaurelmagazine.com/wp-content/uploads/2025/06/highlands-nc-community-education-literacy-learning-center-logo.jpg
END:VEVENT
BEGIN:VEVENT
DTSTART;TZID=America/New_York:20251028T180000
DTEND;TZID=America/New_York:20251028T190000
DTSTAMP:20260421T182446
CREATED:20250611T174026Z
LAST-MODIFIED:20260204T151015Z
UID:103586-1761674400-1761678000@thelaurelmagazine.com
SUMMARY:Free ESL Classes at The Literacy and Learning Center
DESCRIPTION:Join us for free ESL classes at The Literacy & Learning Center!  \nTuesdays\n6 – 7 pm \nAt The Literacy & Learning Center \nFavorites Count: 0
URL:https://thelaurelmagazine.com/local-event/free-esl-online-classes-with-the-literacy-and-learning-center/2025-10-28
LOCATION:The Literacy & Learning Center\, 675 S 4th Street\, Highlands\, NC\, 28741\, United States
CATEGORIES:Education
ATTACH;FMTTYPE=image/jpeg:https://thelaurelmagazine.com/wp-content/uploads/2025/06/highlands-nc-community-education-literacy-learning-center-logo.jpg
END:VEVENT
BEGIN:VEVENT
DTSTART;TZID=America/New_York:20260217T180000
DTEND;TZID=America/New_York:20260217T190000
DTSTAMP:20260421T182446
CREATED:20250611T174026Z
LAST-MODIFIED:20260204T151104Z
UID:103602-1771351200-1771354800@thelaurelmagazine.com
SUMMARY:Free ESL Classes at The Literacy and Learning Center
DESCRIPTION:Join us for free ESL classes at The Literacy & Learning Center!  \nTuesdays\n6 – 7 pm \nAt The Literacy & Learning Center \nFavorites Count: 0
URL:https://thelaurelmagazine.com/local-event/free-esl-online-classes-with-the-literacy-and-learning-center/2026-02-17
LOCATION:The Literacy & Learning Center\, 675 S 4th Street\, Highlands\, NC\, 28741\, United States
CATEGORIES:Education
ATTACH;FMTTYPE=image/jpeg:https://thelaurelmagazine.com/wp-content/uploads/2025/06/highlands-nc-community-education-literacy-learning-center-logo.jpg
END:VEVENT
BEGIN:VEVENT
DTSTART;TZID=America/New_York:20251104T180000
DTEND;TZID=America/New_York:20251104T190000
DTSTAMP:20260421T182446
CREATED:20250611T174026Z
LAST-MODIFIED:20260204T151016Z
UID:103587-1762279200-1762282800@thelaurelmagazine.com
SUMMARY:Free ESL Classes at The Literacy and Learning Center
DESCRIPTION:Join us for free ESL classes at The Literacy & Learning Center!  \nTuesdays\n6 – 7 pm \nAt The Literacy & Learning Center \nFavorites Count: 0
URL:https://thelaurelmagazine.com/local-event/free-esl-online-classes-with-the-literacy-and-learning-center/2025-11-04
LOCATION:The Literacy & Learning Center\, 675 S 4th Street\, Highlands\, NC\, 28741\, United States
CATEGORIES:Education
ATTACH;FMTTYPE=image/jpeg:https://thelaurelmagazine.com/wp-content/uploads/2025/06/highlands-nc-community-education-literacy-learning-center-logo.jpg
END:VEVENT
BEGIN:VEVENT
DTSTART;TZID=America/New_York:20260224T180000
DTEND;TZID=America/New_York:20260224T190000
DTSTAMP:20260421T182446
CREATED:20250611T174026Z
LAST-MODIFIED:20260204T151104Z
UID:103603-1771956000-1771959600@thelaurelmagazine.com
SUMMARY:Free ESL Classes at The Literacy and Learning Center
DESCRIPTION:Join us for free ESL classes at The Literacy & Learning Center!  \nTuesdays\n6 – 7 pm \nAt The Literacy & Learning Center \nFavorites Count: 0
URL:https://thelaurelmagazine.com/local-event/free-esl-online-classes-with-the-literacy-and-learning-center/2026-02-24
LOCATION:The Literacy & Learning Center\, 675 S 4th Street\, Highlands\, NC\, 28741\, United States
CATEGORIES:Education
ATTACH;FMTTYPE=image/jpeg:https://thelaurelmagazine.com/wp-content/uploads/2025/06/highlands-nc-community-education-literacy-learning-center-logo.jpg
END:VEVENT
END:VCALENDAR