BEGIN:VCALENDAR
VERSION:2.0
PRODID:-//Laurel Magazine - ECPv6.15.16//NONSGML v1.0//EN
CALSCALE:GREGORIAN
METHOD:PUBLISH
X-ORIGINAL-URL:https://thelaurelmagazine.com
X-WR-CALDESC:Events for Laurel Magazine
REFRESH-INTERVAL;VALUE=DURATION:PT1H
X-Robots-Tag:noindex
X-PUBLISHED-TTL:PT1H
BEGIN:VTIMEZONE
TZID:America/New_York
BEGIN:DAYLIGHT
TZOFFSETFROM:-0500
TZOFFSETTO:-0400
TZNAME:EDT
DTSTART:20250309T070000
END:DAYLIGHT
BEGIN:STANDARD
TZOFFSETFROM:-0400
TZOFFSETTO:-0500
TZNAME:EST
DTSTART:20251102T060000
END:STANDARD
BEGIN:DAYLIGHT
TZOFFSETFROM:-0500
TZOFFSETTO:-0400
TZNAME:EDT
DTSTART:20260308T070000
END:DAYLIGHT
BEGIN:STANDARD
TZOFFSETFROM:-0400
TZOFFSETTO:-0500
TZNAME:EST
DTSTART:20261101T060000
END:STANDARD
BEGIN:DAYLIGHT
TZOFFSETFROM:-0500
TZOFFSETTO:-0400
TZNAME:EDT
DTSTART:20270314T070000
END:DAYLIGHT
BEGIN:STANDARD
TZOFFSETFROM:-0400
TZOFFSETTO:-0500
TZNAME:EST
DTSTART:20271107T060000
END:STANDARD
BEGIN:DAYLIGHT
TZOFFSETFROM:-0500
TZOFFSETTO:-0400
TZNAME:EDT
DTSTART:20280312T070000
END:DAYLIGHT
BEGIN:STANDARD
TZOFFSETFROM:-0400
TZOFFSETTO:-0500
TZNAME:EST
DTSTART:20281105T060000
END:STANDARD
BEGIN:DAYLIGHT
TZOFFSETFROM:-0500
TZOFFSETTO:-0400
TZNAME:EDT
DTSTART:20290311T070000
END:DAYLIGHT
BEGIN:STANDARD
TZOFFSETFROM:-0400
TZOFFSETTO:-0500
TZNAME:EST
DTSTART:20291104T060000
END:STANDARD
END:VTIMEZONE
BEGIN:VEVENT
DTSTART;TZID=America/New_York:20270608T180000
DTEND;TZID=America/New_York:20270608T190000
DTSTAMP:20260422T015106
CREATED:20250611T174026Z
LAST-MODIFIED:20260204T150457Z
UID:103670-1812477600-1812481200@thelaurelmagazine.com
SUMMARY:Free ESL Classes at The Literacy and Learning Center
DESCRIPTION:Join us for free ESL classes at The Literacy & Learning Center!  \nTuesdays\n6 – 7 pm \nAt The Literacy & Learning Center \nFavorites Count: 0
URL:https://thelaurelmagazine.com/local-event/free-esl-online-classes-with-the-literacy-and-learning-center/2027-06-08
LOCATION:The Literacy & Learning Center\, 675 S 4th Street\, Highlands\, NC\, 28741\, United States
CATEGORIES:Education
ATTACH;FMTTYPE=image/jpeg:https://thelaurelmagazine.com/wp-content/uploads/2025/06/highlands-nc-community-education-literacy-learning-center-logo.jpg
END:VEVENT
BEGIN:VEVENT
DTSTART;TZID=America/New_York:20270928T180000
DTEND;TZID=America/New_York:20270928T190000
DTSTAMP:20260422T015106
CREATED:20250611T174026Z
LAST-MODIFIED:20260204T150506Z
UID:103686-1822154400-1822158000@thelaurelmagazine.com
SUMMARY:Free ESL Classes at The Literacy and Learning Center
DESCRIPTION:Join us for free ESL classes at The Literacy & Learning Center!  \nTuesdays\n6 – 7 pm \nAt The Literacy & Learning Center \nFavorites Count: 0
URL:https://thelaurelmagazine.com/local-event/free-esl-online-classes-with-the-literacy-and-learning-center/2027-09-28
LOCATION:The Literacy & Learning Center\, 675 S 4th Street\, Highlands\, NC\, 28741\, United States
CATEGORIES:Education
ATTACH;FMTTYPE=image/jpeg:https://thelaurelmagazine.com/wp-content/uploads/2025/06/highlands-nc-community-education-literacy-learning-center-logo.jpg
END:VEVENT
BEGIN:VEVENT
DTSTART;TZID=America/New_York:20280118T180000
DTEND;TZID=America/New_York:20280118T190000
DTSTAMP:20260422T015106
CREATED:20250611T174026Z
LAST-MODIFIED:20260204T150513Z
UID:111027-1831831200-1831834800@thelaurelmagazine.com
SUMMARY:Free ESL Classes at The Literacy and Learning Center
DESCRIPTION:Join us for free ESL classes at The Literacy & Learning Center!  \nTuesdays\n6 – 7 pm \nAt The Literacy & Learning Center \nFavorites Count: 0
URL:https://thelaurelmagazine.com/local-event/free-esl-online-classes-with-the-literacy-and-learning-center/2028-01-18
LOCATION:The Literacy & Learning Center\, 675 S 4th Street\, Highlands\, NC\, 28741\, United States
CATEGORIES:Education
ATTACH;FMTTYPE=image/jpeg:https://thelaurelmagazine.com/wp-content/uploads/2025/06/highlands-nc-community-education-literacy-learning-center-logo.jpg
END:VEVENT
BEGIN:VEVENT
DTSTART;TZID=America/New_York:20260728T180000
DTEND;TZID=America/New_York:20260728T190000
DTSTAMP:20260422T015106
CREATED:20250611T174026Z
LAST-MODIFIED:20260204T151123Z
UID:103625-1785261600-1785265200@thelaurelmagazine.com
SUMMARY:Free ESL Classes at The Literacy and Learning Center
DESCRIPTION:Join us for free ESL classes at The Literacy & Learning Center!  \nTuesdays\n6 – 7 pm \nAt The Literacy & Learning Center \nFavorites Count: 0
URL:https://thelaurelmagazine.com/local-event/free-esl-online-classes-with-the-literacy-and-learning-center/2026-07-28
LOCATION:The Literacy & Learning Center\, 675 S 4th Street\, Highlands\, NC\, 28741\, United States
CATEGORIES:Education
ATTACH;FMTTYPE=image/jpeg:https://thelaurelmagazine.com/wp-content/uploads/2025/06/highlands-nc-community-education-literacy-learning-center-logo.jpg
END:VEVENT
BEGIN:VEVENT
DTSTART;TZID=America/New_York:20261117T180000
DTEND;TZID=America/New_York:20261117T190000
DTSTAMP:20260422T015106
CREATED:20250611T174026Z
LAST-MODIFIED:20260204T151127Z
UID:103641-1794938400-1794942000@thelaurelmagazine.com
SUMMARY:Free ESL Classes at The Literacy and Learning Center
DESCRIPTION:Join us for free ESL classes at The Literacy & Learning Center!  \nTuesdays\n6 – 7 pm \nAt The Literacy & Learning Center \nFavorites Count: 0
URL:https://thelaurelmagazine.com/local-event/free-esl-online-classes-with-the-literacy-and-learning-center/2026-11-17
LOCATION:The Literacy & Learning Center\, 675 S 4th Street\, Highlands\, NC\, 28741\, United States
CATEGORIES:Education
ATTACH;FMTTYPE=image/jpeg:https://thelaurelmagazine.com/wp-content/uploads/2025/06/highlands-nc-community-education-literacy-learning-center-logo.jpg
END:VEVENT
BEGIN:VEVENT
DTSTART;TZID=America/New_York:20280404T180000
DTEND;TZID=America/New_York:20280404T190000
DTSTAMP:20260422T015106
CREATED:20250611T174026Z
LAST-MODIFIED:20250611T174026Z
UID:116780-1838484000-1838487600@thelaurelmagazine.com
SUMMARY:Free ESL Classes at The Literacy and Learning Center
DESCRIPTION:Join us for free ESL classes at The Literacy & Learning Center!  \nTuesdays\n6 – 7 pm \nAt The Literacy & Learning Center \nFavorites Count: 0
URL:https://thelaurelmagazine.com/local-event/free-esl-online-classes-with-the-literacy-and-learning-center/2028-04-04
LOCATION:The Literacy & Learning Center\, 675 S 4th Street\, Highlands\, NC\, 28741\, United States
CATEGORIES:Education
ATTACH;FMTTYPE=image/jpeg:https://thelaurelmagazine.com/wp-content/uploads/2025/06/highlands-nc-community-education-literacy-learning-center-logo.jpg
END:VEVENT
BEGIN:VEVENT
DTSTART;TZID=America/New_York:20270223T180000
DTEND;TZID=America/New_York:20270223T190000
DTSTAMP:20260422T015106
CREATED:20250611T174026Z
LAST-MODIFIED:20260204T150453Z
UID:103655-1803405600-1803409200@thelaurelmagazine.com
SUMMARY:Free ESL Classes at The Literacy and Learning Center
DESCRIPTION:Join us for free ESL classes at The Literacy & Learning Center!  \nTuesdays\n6 – 7 pm \nAt The Literacy & Learning Center \nFavorites Count: 0
URL:https://thelaurelmagazine.com/local-event/free-esl-online-classes-with-the-literacy-and-learning-center/2027-02-23
LOCATION:The Literacy & Learning Center\, 675 S 4th Street\, Highlands\, NC\, 28741\, United States
CATEGORIES:Education
ATTACH;FMTTYPE=image/jpeg:https://thelaurelmagazine.com/wp-content/uploads/2025/06/highlands-nc-community-education-literacy-learning-center-logo.jpg
END:VEVENT
BEGIN:VEVENT
DTSTART;TZID=America/New_York:20270615T180000
DTEND;TZID=America/New_York:20270615T190000
DTSTAMP:20260422T015106
CREATED:20250611T174026Z
LAST-MODIFIED:20260204T150457Z
UID:103671-1813082400-1813086000@thelaurelmagazine.com
SUMMARY:Free ESL Classes at The Literacy and Learning Center
DESCRIPTION:Join us for free ESL classes at The Literacy & Learning Center!  \nTuesdays\n6 – 7 pm \nAt The Literacy & Learning Center \nFavorites Count: 0
URL:https://thelaurelmagazine.com/local-event/free-esl-online-classes-with-the-literacy-and-learning-center/2027-06-15
LOCATION:The Literacy & Learning Center\, 675 S 4th Street\, Highlands\, NC\, 28741\, United States
CATEGORIES:Education
ATTACH;FMTTYPE=image/jpeg:https://thelaurelmagazine.com/wp-content/uploads/2025/06/highlands-nc-community-education-literacy-learning-center-logo.jpg
END:VEVENT
BEGIN:VEVENT
DTSTART;TZID=America/New_York:20271005T180000
DTEND;TZID=America/New_York:20271005T190000
DTSTAMP:20260422T015106
CREATED:20250611T174026Z
LAST-MODIFIED:20260204T150506Z
UID:103687-1822759200-1822762800@thelaurelmagazine.com
SUMMARY:Free ESL Classes at The Literacy and Learning Center
DESCRIPTION:Join us for free ESL classes at The Literacy & Learning Center!  \nTuesdays\n6 – 7 pm \nAt The Literacy & Learning Center \nFavorites Count: 0
URL:https://thelaurelmagazine.com/local-event/free-esl-online-classes-with-the-literacy-and-learning-center/2027-10-05
LOCATION:The Literacy & Learning Center\, 675 S 4th Street\, Highlands\, NC\, 28741\, United States
CATEGORIES:Education
ATTACH;FMTTYPE=image/jpeg:https://thelaurelmagazine.com/wp-content/uploads/2025/06/highlands-nc-community-education-literacy-learning-center-logo.jpg
END:VEVENT
BEGIN:VEVENT
DTSTART;TZID=America/New_York:20280125T180000
DTEND;TZID=America/New_York:20280125T190000
DTSTAMP:20260422T015106
CREATED:20250611T174026Z
LAST-MODIFIED:20260204T150513Z
UID:112050-1832436000-1832439600@thelaurelmagazine.com
SUMMARY:Free ESL Classes at The Literacy and Learning Center
DESCRIPTION:Join us for free ESL classes at The Literacy & Learning Center!  \nTuesdays\n6 – 7 pm \nAt The Literacy & Learning Center \nFavorites Count: 0
URL:https://thelaurelmagazine.com/local-event/free-esl-online-classes-with-the-literacy-and-learning-center/2028-01-25
LOCATION:The Literacy & Learning Center\, 675 S 4th Street\, Highlands\, NC\, 28741\, United States
CATEGORIES:Education
ATTACH;FMTTYPE=image/jpeg:https://thelaurelmagazine.com/wp-content/uploads/2025/06/highlands-nc-community-education-literacy-learning-center-logo.jpg
END:VEVENT
BEGIN:VEVENT
DTSTART;TZID=America/New_York:20260804T180000
DTEND;TZID=America/New_York:20260804T190000
DTSTAMP:20260422T015106
CREATED:20250611T174026Z
LAST-MODIFIED:20260204T151123Z
UID:103626-1785866400-1785870000@thelaurelmagazine.com
SUMMARY:Free ESL Classes at The Literacy and Learning Center
DESCRIPTION:Join us for free ESL classes at The Literacy & Learning Center!  \nTuesdays\n6 – 7 pm \nAt The Literacy & Learning Center \nFavorites Count: 0
URL:https://thelaurelmagazine.com/local-event/free-esl-online-classes-with-the-literacy-and-learning-center/2026-08-04
LOCATION:The Literacy & Learning Center\, 675 S 4th Street\, Highlands\, NC\, 28741\, United States
CATEGORIES:Education
ATTACH;FMTTYPE=image/jpeg:https://thelaurelmagazine.com/wp-content/uploads/2025/06/highlands-nc-community-education-literacy-learning-center-logo.jpg
END:VEVENT
BEGIN:VEVENT
DTSTART;TZID=America/New_York:20261124T180000
DTEND;TZID=America/New_York:20261124T190000
DTSTAMP:20260422T015106
CREATED:20250611T174026Z
LAST-MODIFIED:20260204T151128Z
UID:103642-1795543200-1795546800@thelaurelmagazine.com
SUMMARY:Free ESL Classes at The Literacy and Learning Center
DESCRIPTION:Join us for free ESL classes at The Literacy & Learning Center!  \nTuesdays\n6 – 7 pm \nAt The Literacy & Learning Center \nFavorites Count: 0
URL:https://thelaurelmagazine.com/local-event/free-esl-online-classes-with-the-literacy-and-learning-center/2026-11-24
LOCATION:The Literacy & Learning Center\, 675 S 4th Street\, Highlands\, NC\, 28741\, United States
CATEGORIES:Education
ATTACH;FMTTYPE=image/jpeg:https://thelaurelmagazine.com/wp-content/uploads/2025/06/highlands-nc-community-education-literacy-learning-center-logo.jpg
END:VEVENT
BEGIN:VEVENT
DTSTART;TZID=America/New_York:20270302T180000
DTEND;TZID=America/New_York:20270302T190000
DTSTAMP:20260422T015106
CREATED:20250611T174026Z
LAST-MODIFIED:20260204T150453Z
UID:103656-1804010400-1804014000@thelaurelmagazine.com
SUMMARY:Free ESL Classes at The Literacy and Learning Center
DESCRIPTION:Join us for free ESL classes at The Literacy & Learning Center!  \nTuesdays\n6 – 7 pm \nAt The Literacy & Learning Center \nFavorites Count: 0
URL:https://thelaurelmagazine.com/local-event/free-esl-online-classes-with-the-literacy-and-learning-center/2027-03-02
LOCATION:The Literacy & Learning Center\, 675 S 4th Street\, Highlands\, NC\, 28741\, United States
CATEGORIES:Education
ATTACH;FMTTYPE=image/jpeg:https://thelaurelmagazine.com/wp-content/uploads/2025/06/highlands-nc-community-education-literacy-learning-center-logo.jpg
END:VEVENT
BEGIN:VEVENT
DTSTART;TZID=America/New_York:20270622T180000
DTEND;TZID=America/New_York:20270622T190000
DTSTAMP:20260422T015106
CREATED:20250611T174026Z
LAST-MODIFIED:20260204T150457Z
UID:103672-1813687200-1813690800@thelaurelmagazine.com
SUMMARY:Free ESL Classes at The Literacy and Learning Center
DESCRIPTION:Join us for free ESL classes at The Literacy & Learning Center!  \nTuesdays\n6 – 7 pm \nAt The Literacy & Learning Center \nFavorites Count: 0
URL:https://thelaurelmagazine.com/local-event/free-esl-online-classes-with-the-literacy-and-learning-center/2027-06-22
LOCATION:The Literacy & Learning Center\, 675 S 4th Street\, Highlands\, NC\, 28741\, United States
CATEGORIES:Education
ATTACH;FMTTYPE=image/jpeg:https://thelaurelmagazine.com/wp-content/uploads/2025/06/highlands-nc-community-education-literacy-learning-center-logo.jpg
END:VEVENT
BEGIN:VEVENT
DTSTART;TZID=America/New_York:20271012T180000
DTEND;TZID=America/New_York:20271012T190000
DTSTAMP:20260422T015106
CREATED:20250611T174026Z
LAST-MODIFIED:20260204T150506Z
UID:103907-1823364000-1823367600@thelaurelmagazine.com
SUMMARY:Free ESL Classes at The Literacy and Learning Center
DESCRIPTION:Join us for free ESL classes at The Literacy & Learning Center!  \nTuesdays\n6 – 7 pm \nAt The Literacy & Learning Center \nFavorites Count: 0
URL:https://thelaurelmagazine.com/local-event/free-esl-online-classes-with-the-literacy-and-learning-center/2027-10-12
LOCATION:The Literacy & Learning Center\, 675 S 4th Street\, Highlands\, NC\, 28741\, United States
CATEGORIES:Education
ATTACH;FMTTYPE=image/jpeg:https://thelaurelmagazine.com/wp-content/uploads/2025/06/highlands-nc-community-education-literacy-learning-center-logo.jpg
END:VEVENT
BEGIN:VEVENT
DTSTART;TZID=America/New_York:20280201T180000
DTEND;TZID=America/New_York:20280201T190000
DTSTAMP:20260422T015106
CREATED:20250611T174026Z
LAST-MODIFIED:20260204T150516Z
UID:113575-1833040800-1833044400@thelaurelmagazine.com
SUMMARY:Free ESL Classes at The Literacy and Learning Center
DESCRIPTION:Join us for free ESL classes at The Literacy & Learning Center!  \nTuesdays\n6 – 7 pm \nAt The Literacy & Learning Center \nFavorites Count: 0
URL:https://thelaurelmagazine.com/local-event/free-esl-online-classes-with-the-literacy-and-learning-center/2028-02-01
LOCATION:The Literacy & Learning Center\, 675 S 4th Street\, Highlands\, NC\, 28741\, United States
CATEGORIES:Education
ATTACH;FMTTYPE=image/jpeg:https://thelaurelmagazine.com/wp-content/uploads/2025/06/highlands-nc-community-education-literacy-learning-center-logo.jpg
END:VEVENT
BEGIN:VEVENT
DTSTART;TZID=America/New_York:20260811T180000
DTEND;TZID=America/New_York:20260811T190000
DTSTAMP:20260422T015106
CREATED:20250611T174026Z
LAST-MODIFIED:20260204T151123Z
UID:103627-1786471200-1786474800@thelaurelmagazine.com
SUMMARY:Free ESL Classes at The Literacy and Learning Center
DESCRIPTION:Join us for free ESL classes at The Literacy & Learning Center!  \nTuesdays\n6 – 7 pm \nAt The Literacy & Learning Center \nFavorites Count: 0
URL:https://thelaurelmagazine.com/local-event/free-esl-online-classes-with-the-literacy-and-learning-center/2026-08-11
LOCATION:The Literacy & Learning Center\, 675 S 4th Street\, Highlands\, NC\, 28741\, United States
CATEGORIES:Education
ATTACH;FMTTYPE=image/jpeg:https://thelaurelmagazine.com/wp-content/uploads/2025/06/highlands-nc-community-education-literacy-learning-center-logo.jpg
END:VEVENT
BEGIN:VEVENT
DTSTART;TZID=America/New_York:20261201T180000
DTEND;TZID=America/New_York:20261201T190000
DTSTAMP:20260422T015106
CREATED:20250611T174026Z
LAST-MODIFIED:20260204T151128Z
UID:103643-1796148000-1796151600@thelaurelmagazine.com
SUMMARY:Free ESL Classes at The Literacy and Learning Center
DESCRIPTION:Join us for free ESL classes at The Literacy & Learning Center!  \nTuesdays\n6 – 7 pm \nAt The Literacy & Learning Center \nFavorites Count: 0
URL:https://thelaurelmagazine.com/local-event/free-esl-online-classes-with-the-literacy-and-learning-center/2026-12-01
LOCATION:The Literacy & Learning Center\, 675 S 4th Street\, Highlands\, NC\, 28741\, United States
CATEGORIES:Education
ATTACH;FMTTYPE=image/jpeg:https://thelaurelmagazine.com/wp-content/uploads/2025/06/highlands-nc-community-education-literacy-learning-center-logo.jpg
END:VEVENT
BEGIN:VEVENT
DTSTART;TZID=America/New_York:20280411T180000
DTEND;TZID=America/New_York:20280411T190000
DTSTAMP:20260422T015106
CREATED:20250611T174026Z
LAST-MODIFIED:20250611T174026Z
UID:117013-1839088800-1839092400@thelaurelmagazine.com
SUMMARY:Free ESL Classes at The Literacy and Learning Center
DESCRIPTION:Join us for free ESL classes at The Literacy & Learning Center!  \nTuesdays\n6 – 7 pm \nAt The Literacy & Learning Center \nFavorites Count: 0
URL:https://thelaurelmagazine.com/local-event/free-esl-online-classes-with-the-literacy-and-learning-center/2028-04-11
LOCATION:The Literacy & Learning Center\, 675 S 4th Street\, Highlands\, NC\, 28741\, United States
CATEGORIES:Education
ATTACH;FMTTYPE=image/jpeg:https://thelaurelmagazine.com/wp-content/uploads/2025/06/highlands-nc-community-education-literacy-learning-center-logo.jpg
END:VEVENT
BEGIN:VEVENT
DTSTART;TZID=America/New_York:20270309T180000
DTEND;TZID=America/New_York:20270309T190000
DTSTAMP:20260422T015106
CREATED:20250611T174026Z
LAST-MODIFIED:20260204T150453Z
UID:103657-1804615200-1804618800@thelaurelmagazine.com
SUMMARY:Free ESL Classes at The Literacy and Learning Center
DESCRIPTION:Join us for free ESL classes at The Literacy & Learning Center!  \nTuesdays\n6 – 7 pm \nAt The Literacy & Learning Center \nFavorites Count: 0
URL:https://thelaurelmagazine.com/local-event/free-esl-online-classes-with-the-literacy-and-learning-center/2027-03-09
LOCATION:The Literacy & Learning Center\, 675 S 4th Street\, Highlands\, NC\, 28741\, United States
CATEGORIES:Education
ATTACH;FMTTYPE=image/jpeg:https://thelaurelmagazine.com/wp-content/uploads/2025/06/highlands-nc-community-education-literacy-learning-center-logo.jpg
END:VEVENT
BEGIN:VEVENT
DTSTART;TZID=America/New_York:20270629T180000
DTEND;TZID=America/New_York:20270629T190000
DTSTAMP:20260422T015106
CREATED:20250611T174026Z
LAST-MODIFIED:20260204T150458Z
UID:103673-1814292000-1814295600@thelaurelmagazine.com
SUMMARY:Free ESL Classes at The Literacy and Learning Center
DESCRIPTION:Join us for free ESL classes at The Literacy & Learning Center!  \nTuesdays\n6 – 7 pm \nAt The Literacy & Learning Center \nFavorites Count: 0
URL:https://thelaurelmagazine.com/local-event/free-esl-online-classes-with-the-literacy-and-learning-center/2027-06-29
LOCATION:The Literacy & Learning Center\, 675 S 4th Street\, Highlands\, NC\, 28741\, United States
CATEGORIES:Education
ATTACH;FMTTYPE=image/jpeg:https://thelaurelmagazine.com/wp-content/uploads/2025/06/highlands-nc-community-education-literacy-learning-center-logo.jpg
END:VEVENT
BEGIN:VEVENT
DTSTART;TZID=America/New_York:20271019T180000
DTEND;TZID=America/New_York:20271019T190000
DTSTAMP:20260422T015106
CREATED:20250611T174026Z
LAST-MODIFIED:20260204T150506Z
UID:104136-1823968800-1823972400@thelaurelmagazine.com
SUMMARY:Free ESL Classes at The Literacy and Learning Center
DESCRIPTION:Join us for free ESL classes at The Literacy & Learning Center!  \nTuesdays\n6 – 7 pm \nAt The Literacy & Learning Center \nFavorites Count: 0
URL:https://thelaurelmagazine.com/local-event/free-esl-online-classes-with-the-literacy-and-learning-center/2027-10-19
LOCATION:The Literacy & Learning Center\, 675 S 4th Street\, Highlands\, NC\, 28741\, United States
CATEGORIES:Education
ATTACH;FMTTYPE=image/jpeg:https://thelaurelmagazine.com/wp-content/uploads/2025/06/highlands-nc-community-education-literacy-learning-center-logo.jpg
END:VEVENT
BEGIN:VEVENT
DTSTART;TZID=America/New_York:20260428T180000
DTEND;TZID=America/New_York:20260428T190000
DTSTAMP:20260422T015106
CREATED:20250611T174026Z
LAST-MODIFIED:20260204T151113Z
UID:103612-1777399200-1777402800@thelaurelmagazine.com
SUMMARY:Free ESL Classes at The Literacy and Learning Center
DESCRIPTION:Join us for free ESL classes at The Literacy & Learning Center!  \nTuesdays\n6 – 7 pm \nAt The Literacy & Learning Center \nFavorites Count: 0
URL:https://thelaurelmagazine.com/local-event/free-esl-online-classes-with-the-literacy-and-learning-center/2026-04-28
LOCATION:The Literacy & Learning Center\, 675 S 4th Street\, Highlands\, NC\, 28741\, United States
CATEGORIES:Education
ATTACH;FMTTYPE=image/jpeg:https://thelaurelmagazine.com/wp-content/uploads/2025/06/highlands-nc-community-education-literacy-learning-center-logo.jpg
END:VEVENT
BEGIN:VEVENT
DTSTART;TZID=America/New_York:20260818T180000
DTEND;TZID=America/New_York:20260818T190000
DTSTAMP:20260422T015106
CREATED:20250611T174026Z
LAST-MODIFIED:20260204T151123Z
UID:103628-1787076000-1787079600@thelaurelmagazine.com
SUMMARY:Free ESL Classes at The Literacy and Learning Center
DESCRIPTION:Join us for free ESL classes at The Literacy & Learning Center!  \nTuesdays\n6 – 7 pm \nAt The Literacy & Learning Center \nFavorites Count: 0
URL:https://thelaurelmagazine.com/local-event/free-esl-online-classes-with-the-literacy-and-learning-center/2026-08-18
LOCATION:The Literacy & Learning Center\, 675 S 4th Street\, Highlands\, NC\, 28741\, United States
CATEGORIES:Education
ATTACH;FMTTYPE=image/jpeg:https://thelaurelmagazine.com/wp-content/uploads/2025/06/highlands-nc-community-education-literacy-learning-center-logo.jpg
END:VEVENT
BEGIN:VEVENT
DTSTART;TZID=America/New_York:20280208T180000
DTEND;TZID=America/New_York:20280208T190000
DTSTAMP:20260422T015106
CREATED:20250611T174026Z
LAST-MODIFIED:20250611T174026Z
UID:114756-1833645600-1833649200@thelaurelmagazine.com
SUMMARY:Free ESL Classes at The Literacy and Learning Center
DESCRIPTION:Join us for free ESL classes at The Literacy & Learning Center!  \nTuesdays\n6 – 7 pm \nAt The Literacy & Learning Center \nFavorites Count: 0
URL:https://thelaurelmagazine.com/local-event/free-esl-online-classes-with-the-literacy-and-learning-center/2028-02-08
LOCATION:The Literacy & Learning Center\, 675 S 4th Street\, Highlands\, NC\, 28741\, United States
CATEGORIES:Education
ATTACH;FMTTYPE=image/jpeg:https://thelaurelmagazine.com/wp-content/uploads/2025/06/highlands-nc-community-education-literacy-learning-center-logo.jpg
END:VEVENT
BEGIN:VEVENT
DTSTART;TZID=America/New_York:20270316T180000
DTEND;TZID=America/New_York:20270316T190000
DTSTAMP:20260422T015106
CREATED:20250611T174026Z
LAST-MODIFIED:20260204T150453Z
UID:103658-1805220000-1805223600@thelaurelmagazine.com
SUMMARY:Free ESL Classes at The Literacy and Learning Center
DESCRIPTION:Join us for free ESL classes at The Literacy & Learning Center!  \nTuesdays\n6 – 7 pm \nAt The Literacy & Learning Center \nFavorites Count: 0
URL:https://thelaurelmagazine.com/local-event/free-esl-online-classes-with-the-literacy-and-learning-center/2027-03-16
LOCATION:The Literacy & Learning Center\, 675 S 4th Street\, Highlands\, NC\, 28741\, United States
CATEGORIES:Education
ATTACH;FMTTYPE=image/jpeg:https://thelaurelmagazine.com/wp-content/uploads/2025/06/highlands-nc-community-education-literacy-learning-center-logo.jpg
END:VEVENT
BEGIN:VEVENT
DTSTART;TZID=America/New_York:20270706T180000
DTEND;TZID=America/New_York:20270706T190000
DTSTAMP:20260422T015106
CREATED:20250611T174026Z
LAST-MODIFIED:20260204T150501Z
UID:103674-1814896800-1814900400@thelaurelmagazine.com
SUMMARY:Free ESL Classes at The Literacy and Learning Center
DESCRIPTION:Join us for free ESL classes at The Literacy & Learning Center!  \nTuesdays\n6 – 7 pm \nAt The Literacy & Learning Center \nFavorites Count: 0
URL:https://thelaurelmagazine.com/local-event/free-esl-online-classes-with-the-literacy-and-learning-center/2027-07-06
LOCATION:The Literacy & Learning Center\, 675 S 4th Street\, Highlands\, NC\, 28741\, United States
CATEGORIES:Education
ATTACH;FMTTYPE=image/jpeg:https://thelaurelmagazine.com/wp-content/uploads/2025/06/highlands-nc-community-education-literacy-learning-center-logo.jpg
END:VEVENT
BEGIN:VEVENT
DTSTART;TZID=America/New_York:20271026T180000
DTEND;TZID=America/New_York:20271026T190000
DTSTAMP:20260422T015106
CREATED:20250611T174026Z
LAST-MODIFIED:20260204T150507Z
UID:104436-1824573600-1824577200@thelaurelmagazine.com
SUMMARY:Free ESL Classes at The Literacy and Learning Center
DESCRIPTION:Join us for free ESL classes at The Literacy & Learning Center!  \nTuesdays\n6 – 7 pm \nAt The Literacy & Learning Center \nFavorites Count: 0
URL:https://thelaurelmagazine.com/local-event/free-esl-online-classes-with-the-literacy-and-learning-center/2027-10-26
LOCATION:The Literacy & Learning Center\, 675 S 4th Street\, Highlands\, NC\, 28741\, United States
CATEGORIES:Education
ATTACH;FMTTYPE=image/jpeg:https://thelaurelmagazine.com/wp-content/uploads/2025/06/highlands-nc-community-education-literacy-learning-center-logo.jpg
END:VEVENT
BEGIN:VEVENT
DTSTART;TZID=America/New_York:20260505T180000
DTEND;TZID=America/New_York:20260505T190000
DTSTAMP:20260422T015106
CREATED:20250611T174026Z
LAST-MODIFIED:20260204T151113Z
UID:103613-1778004000-1778007600@thelaurelmagazine.com
SUMMARY:Free ESL Classes at The Literacy and Learning Center
DESCRIPTION:Join us for free ESL classes at The Literacy & Learning Center!  \nTuesdays\n6 – 7 pm \nAt The Literacy & Learning Center \nFavorites Count: 0
URL:https://thelaurelmagazine.com/local-event/free-esl-online-classes-with-the-literacy-and-learning-center/2026-05-05
LOCATION:The Literacy & Learning Center\, 675 S 4th Street\, Highlands\, NC\, 28741\, United States
CATEGORIES:Education
ATTACH;FMTTYPE=image/jpeg:https://thelaurelmagazine.com/wp-content/uploads/2025/06/highlands-nc-community-education-literacy-learning-center-logo.jpg
END:VEVENT
BEGIN:VEVENT
DTSTART;TZID=America/New_York:20260825T180000
DTEND;TZID=America/New_York:20260825T190000
DTSTAMP:20260422T015106
CREATED:20250611T174026Z
LAST-MODIFIED:20260204T151123Z
UID:103629-1787680800-1787684400@thelaurelmagazine.com
SUMMARY:Free ESL Classes at The Literacy and Learning Center
DESCRIPTION:Join us for free ESL classes at The Literacy & Learning Center!  \nTuesdays\n6 – 7 pm \nAt The Literacy & Learning Center \nFavorites Count: 0
URL:https://thelaurelmagazine.com/local-event/free-esl-online-classes-with-the-literacy-and-learning-center/2026-08-25
LOCATION:The Literacy & Learning Center\, 675 S 4th Street\, Highlands\, NC\, 28741\, United States
CATEGORIES:Education
ATTACH;FMTTYPE=image/jpeg:https://thelaurelmagazine.com/wp-content/uploads/2025/06/highlands-nc-community-education-literacy-learning-center-logo.jpg
END:VEVENT
END:VCALENDAR