BEGIN:VCALENDAR
VERSION:2.0
PRODID:-//Laurel Magazine - ECPv6.15.16//NONSGML v1.0//EN
CALSCALE:GREGORIAN
METHOD:PUBLISH
X-ORIGINAL-URL:https://thelaurelmagazine.com
X-WR-CALDESC:Events for Laurel Magazine
REFRESH-INTERVAL;VALUE=DURATION:PT1H
X-Robots-Tag:noindex
X-PUBLISHED-TTL:PT1H
BEGIN:VTIMEZONE
TZID:America/New_York
BEGIN:DAYLIGHT
TZOFFSETFROM:-0500
TZOFFSETTO:-0400
TZNAME:EDT
DTSTART:20250309T070000
END:DAYLIGHT
BEGIN:STANDARD
TZOFFSETFROM:-0400
TZOFFSETTO:-0500
TZNAME:EST
DTSTART:20251102T060000
END:STANDARD
BEGIN:DAYLIGHT
TZOFFSETFROM:-0500
TZOFFSETTO:-0400
TZNAME:EDT
DTSTART:20260308T070000
END:DAYLIGHT
BEGIN:STANDARD
TZOFFSETFROM:-0400
TZOFFSETTO:-0500
TZNAME:EST
DTSTART:20261101T060000
END:STANDARD
BEGIN:DAYLIGHT
TZOFFSETFROM:-0500
TZOFFSETTO:-0400
TZNAME:EDT
DTSTART:20270314T070000
END:DAYLIGHT
BEGIN:STANDARD
TZOFFSETFROM:-0400
TZOFFSETTO:-0500
TZNAME:EST
DTSTART:20271107T060000
END:STANDARD
END:VTIMEZONE
BEGIN:VEVENT
DTSTART;TZID=America/New_York:20260526T160000
DTEND;TZID=America/New_York:20260526T170000
DTSTAMP:20260420T075327
CREATED:20260417T175929Z
LAST-MODIFIED:20260417T175929Z
UID:117275-1779811200-1779814800@thelaurelmagazine.com
SUMMARY:Youth Nature Series | Map & Compass Nature Treasure Hunt at The Village Green
DESCRIPTION:This nature based map and compass scavenger hunt is an engaging adventure where participants use compasses to locate natural items and nature themed prizes. Participants will learn cardinal directions (North\, South\, East\, West)\, beginner map reading skills\, spatial awareness\, pacing\, teamwork and communication. This scavenger hunt will be a fun and exciting adventure while participants experience the benefits of connecting with the natural environment and the community around them. \nYouth of all ages are invited to participate in these educational and interactive programs!  \nAll of the Nature Series Programs\, adult and youth\, are FREE\, family-friendly\, held RAIN OR SHINE\, and no reservations are required. \nFavorites Count: 0
URL:https://thelaurelmagazine.com/local-event/youth-nature-series-map-compass-nature-treasure-hunt-at-the-village-green
LOCATION:The Village Green\, 160 Frank Allen Road\, Cashiers\, NC\, 28717\, United States
CATEGORIES:Community,Education
ATTACH;FMTTYPE=image/jpeg:https://thelaurelmagazine.com/wp-content/uploads/2026/04/cashiers-nc-village-green-youth-nature-series-nature-treasure-hunt.jpg
END:VEVENT
BEGIN:VEVENT
DTSTART;TZID=America/New_York:20260519T173000
DTEND;TZID=America/New_York:20260519T173000
DTSTAMP:20260420T075327
CREATED:20260417T181027Z
LAST-MODIFIED:20260417T181027Z
UID:117296-1779211800-1779211800@thelaurelmagazine.com
SUMMARY:Village Nature Series | Embracing the Dark at The Village Green
DESCRIPTION:Embracing the Dark- Light Pollution\, Health and the Environment with Stephan Martin \nFor more than a century\, artificial lighting has transformed our nights—brightening our homes\, streets\, and cities. But only recently have scientists begun to fully understand the hidden costs of this constant illumination. Light pollution is now recognized as a significant factor affecting wildlife behavior\, human health\, and the balance of our environment. In this talk\, we’ll explore why natural darkness is essential—not just for ecosystems\, but for our own physical\, mental\, and emotional well-being. We’ll look at how excessive nighttime lighting disrupts sleep cycles\, impacts animals\, and alters natural rhythms that have existed for millennia. We’ll also focus on practical solutions. You’ll learn simple\, effective ways to reduce light pollution at home and in your neighborhood—strategies that can improve your health\, lower energy costs\, and help restore the night sky for everyone. \nFavorites Count: 0
URL:https://thelaurelmagazine.com/local-event/village-nature-series-embracing-the-dark-at-the-village-green
LOCATION:The Village Green\, 160 Frank Allen Road\, Cashiers\, NC\, 28717\, United States
CATEGORIES:Community,Education
ATTACH;FMTTYPE=image/jpeg:https://thelaurelmagazine.com/wp-content/uploads/2026/04/cashiers-nc-village-green-nature-series-embracing-the-dark.jpg
END:VEVENT
END:VCALENDAR