BEGIN:VCALENDAR
VERSION:2.0
PRODID:-//Laurel Magazine - ECPv6.15.16//NONSGML v1.0//EN
CALSCALE:GREGORIAN
METHOD:PUBLISH
X-WR-CALNAME:Laurel Magazine
X-ORIGINAL-URL:https://thelaurelmagazine.com
X-WR-CALDESC:Events for Laurel Magazine
REFRESH-INTERVAL;VALUE=DURATION:PT1H
X-Robots-Tag:noindex
X-PUBLISHED-TTL:PT1H
BEGIN:VTIMEZONE
TZID:America/New_York
BEGIN:DAYLIGHT
TZOFFSETFROM:-0500
TZOFFSETTO:-0400
TZNAME:EDT
DTSTART:20250309T070000
END:DAYLIGHT
BEGIN:STANDARD
TZOFFSETFROM:-0400
TZOFFSETTO:-0500
TZNAME:EST
DTSTART:20251102T060000
END:STANDARD
BEGIN:DAYLIGHT
TZOFFSETFROM:-0500
TZOFFSETTO:-0400
TZNAME:EDT
DTSTART:20260308T070000
END:DAYLIGHT
BEGIN:STANDARD
TZOFFSETFROM:-0400
TZOFFSETTO:-0500
TZNAME:EST
DTSTART:20261101T060000
END:STANDARD
BEGIN:DAYLIGHT
TZOFFSETFROM:-0500
TZOFFSETTO:-0400
TZNAME:EDT
DTSTART:20270314T070000
END:DAYLIGHT
BEGIN:STANDARD
TZOFFSETFROM:-0400
TZOFFSETTO:-0500
TZNAME:EST
DTSTART:20271107T060000
END:STANDARD
BEGIN:DAYLIGHT
TZOFFSETFROM:-0500
TZOFFSETTO:-0400
TZNAME:EDT
DTSTART:20280312T070000
END:DAYLIGHT
BEGIN:STANDARD
TZOFFSETFROM:-0400
TZOFFSETTO:-0500
TZNAME:EST
DTSTART:20281105T060000
END:STANDARD
BEGIN:DAYLIGHT
TZOFFSETFROM:-0500
TZOFFSETTO:-0400
TZNAME:EDT
DTSTART:20290311T070000
END:DAYLIGHT
BEGIN:STANDARD
TZOFFSETFROM:-0400
TZOFFSETTO:-0500
TZNAME:EST
DTSTART:20291104T060000
END:STANDARD
END:VTIMEZONE
BEGIN:VEVENT
DTSTART;TZID=America/New_York:20270131T150000
DTEND;TZID=America/New_York:20270131T180000
DTSTAMP:20260419T121932
CREATED:20250905T143519Z
LAST-MODIFIED:20250905T143519Z
UID:101835-1801407600-1801418400@thelaurelmagazine.com
SUMMARY:Live Music at The Vineyard at High Holly
DESCRIPTION:Join us for live music at The Vineyard at High Holly \nVineyard open hours 12-6 PM. \nFavorites Count: 0
URL:https://thelaurelmagazine.com/local-event/live-music-at-the-vineyard-at-high-holly-9-2027-01-31-2
LOCATION:The Vineyard at High Holly\, 37 High Holly Rd\, Scaly Mountain\, NC\, 28775\, United States
CATEGORIES:Live Music
ATTACH;FMTTYPE=image/jpeg:https://thelaurelmagazine.com/wp-content/uploads/2025/07/highlands-nc-vineyard-at-high-holly-landscape.jpg
END:VEVENT
BEGIN:VEVENT
DTSTART;TZID=America/New_York:20271107T140000
DTEND;TZID=America/New_York:20271107T170000
DTSTAMP:20260419T121932
CREATED:20251003T231600Z
LAST-MODIFIED:20251003T231600Z
UID:105045-1825596000-1825606800@thelaurelmagazine.com
SUMMARY:Live Music at The Vineyard at High Holly
DESCRIPTION:Join us for live music at The Vineyard at High Holly! \nVineyard open hours 12-6 PM. \nFavorites Count: 0
URL:https://thelaurelmagazine.com/local-event/live-music-at-the-vineyard-at-high-holly-9/2027-11-07
LOCATION:The Vineyard at High Holly\, 37 High Holly Rd\, Scaly Mountain\, NC\, 28775\, United States
CATEGORIES:Live Music
ATTACH;FMTTYPE=image/jpeg:https://thelaurelmagazine.com/wp-content/uploads/2025/07/highlands-nc-vineyard-at-high-holly-landscape.jpg
END:VEVENT
BEGIN:VEVENT
DTSTART;TZID=America/New_York:20260425T140000
DTEND;TZID=America/New_York:20260425T170000
DTSTAMP:20260419T121932
CREATED:20251003T231600Z
LAST-MODIFIED:20260223T201056Z
UID:115205-1777125600-1777136400@thelaurelmagazine.com
SUMMARY:Live Music at The Vineyard at High Holly
DESCRIPTION:Join us for live music at The Vineyard at High Holly! \nVineyard open hours 12-6 PM. \nFavorites Count: 0
URL:https://thelaurelmagazine.com/local-event/live-music-at-the-vineyard-at-high-holly-9-2028-02-20/2026-04-25
LOCATION:The Vineyard at High Holly\, 37 High Holly Rd\, Scaly Mountain\, NC\, 28775\, United States
CATEGORIES:Live Music
ATTACH;FMTTYPE=image/jpeg:https://thelaurelmagazine.com/wp-content/uploads/2025/07/highlands-nc-vineyard-at-high-holly-landscape.jpg
END:VEVENT
BEGIN:VEVENT
DTSTART;TZID=America/New_York:20260620T140000
DTEND;TZID=America/New_York:20260620T170000
DTSTAMP:20260419T121932
CREATED:20251003T231600Z
LAST-MODIFIED:20260223T201101Z
UID:115213-1781964000-1781974800@thelaurelmagazine.com
SUMMARY:Live Music at The Vineyard at High Holly
DESCRIPTION:Join us for live music at The Vineyard at High Holly! \nVineyard open hours 12-6 PM. \nFavorites Count: 0
URL:https://thelaurelmagazine.com/local-event/live-music-at-the-vineyard-at-high-holly-9-2028-02-20/2026-06-20
LOCATION:The Vineyard at High Holly\, 37 High Holly Rd\, Scaly Mountain\, NC\, 28775\, United States
CATEGORIES:Live Music
ATTACH;FMTTYPE=image/jpeg:https://thelaurelmagazine.com/wp-content/uploads/2025/07/highlands-nc-vineyard-at-high-holly-landscape.jpg
END:VEVENT
BEGIN:VEVENT
DTSTART;TZID=America/New_York:20260815T140000
DTEND;TZID=America/New_York:20260815T170000
DTSTAMP:20260419T121932
CREATED:20251003T231600Z
LAST-MODIFIED:20260223T201109Z
UID:115221-1786802400-1786813200@thelaurelmagazine.com
SUMMARY:Live Music at The Vineyard at High Holly
DESCRIPTION:Join us for live music at The Vineyard at High Holly! \nVineyard open hours 12-6 PM. \nFavorites Count: 0
URL:https://thelaurelmagazine.com/local-event/live-music-at-the-vineyard-at-high-holly-9-2028-02-20/2026-08-15
LOCATION:The Vineyard at High Holly\, 37 High Holly Rd\, Scaly Mountain\, NC\, 28775\, United States
CATEGORIES:Live Music
ATTACH;FMTTYPE=image/jpeg:https://thelaurelmagazine.com/wp-content/uploads/2025/07/highlands-nc-vineyard-at-high-holly-landscape.jpg
END:VEVENT
BEGIN:VEVENT
DTSTART;TZID=America/New_York:20261010T140000
DTEND;TZID=America/New_York:20261010T170000
DTSTAMP:20260419T121932
CREATED:20251003T231600Z
LAST-MODIFIED:20260223T201118Z
UID:115229-1791640800-1791651600@thelaurelmagazine.com
SUMMARY:Live Music at The Vineyard at High Holly
DESCRIPTION:Join us for live music at The Vineyard at High Holly! \nVineyard open hours 12-6 PM. \nFavorites Count: 0
URL:https://thelaurelmagazine.com/local-event/live-music-at-the-vineyard-at-high-holly-9-2028-02-20/2026-10-10
LOCATION:The Vineyard at High Holly\, 37 High Holly Rd\, Scaly Mountain\, NC\, 28775\, United States
CATEGORIES:Live Music
ATTACH;FMTTYPE=image/jpeg:https://thelaurelmagazine.com/wp-content/uploads/2025/07/highlands-nc-vineyard-at-high-holly-landscape.jpg
END:VEVENT
BEGIN:VEVENT
DTSTART;TZID=America/New_York:20261205T140000
DTEND;TZID=America/New_York:20261205T170000
DTSTAMP:20260419T121932
CREATED:20251003T231600Z
LAST-MODIFIED:20260223T201124Z
UID:115237-1796479200-1796490000@thelaurelmagazine.com
SUMMARY:Live Music at The Vineyard at High Holly
DESCRIPTION:Join us for live music at The Vineyard at High Holly! \nVineyard open hours 12-6 PM. \nFavorites Count: 0
URL:https://thelaurelmagazine.com/local-event/live-music-at-the-vineyard-at-high-holly-9-2028-02-20/2026-12-05
LOCATION:The Vineyard at High Holly\, 37 High Holly Rd\, Scaly Mountain\, NC\, 28775\, United States
CATEGORIES:Live Music
ATTACH;FMTTYPE=image/jpeg:https://thelaurelmagazine.com/wp-content/uploads/2025/07/highlands-nc-vineyard-at-high-holly-landscape.jpg
END:VEVENT
BEGIN:VEVENT
DTSTART;TZID=America/New_York:20270130T140000
DTEND;TZID=America/New_York:20270130T170000
DTSTAMP:20260419T121932
CREATED:20251003T231600Z
LAST-MODIFIED:20260223T201132Z
UID:115245-1801317600-1801328400@thelaurelmagazine.com
SUMMARY:Live Music at The Vineyard at High Holly
DESCRIPTION:Join us for live music at The Vineyard at High Holly! \nVineyard open hours 12-6 PM. \nFavorites Count: 0
URL:https://thelaurelmagazine.com/local-event/live-music-at-the-vineyard-at-high-holly-9-2028-02-20/2027-01-30
LOCATION:The Vineyard at High Holly\, 37 High Holly Rd\, Scaly Mountain\, NC\, 28775\, United States
CATEGORIES:Live Music
ATTACH;FMTTYPE=image/jpeg:https://thelaurelmagazine.com/wp-content/uploads/2025/07/highlands-nc-vineyard-at-high-holly-landscape.jpg
END:VEVENT
BEGIN:VEVENT
DTSTART;TZID=America/New_York:20270327T140000
DTEND;TZID=America/New_York:20270327T170000
DTSTAMP:20260419T121932
CREATED:20251003T231600Z
LAST-MODIFIED:20260223T201137Z
UID:115253-1806156000-1806166800@thelaurelmagazine.com
SUMMARY:Live Music at The Vineyard at High Holly
DESCRIPTION:Join us for live music at The Vineyard at High Holly! \nVineyard open hours 12-6 PM. \nFavorites Count: 0
URL:https://thelaurelmagazine.com/local-event/live-music-at-the-vineyard-at-high-holly-9-2028-02-20/2027-03-27
LOCATION:The Vineyard at High Holly\, 37 High Holly Rd\, Scaly Mountain\, NC\, 28775\, United States
CATEGORIES:Live Music
ATTACH;FMTTYPE=image/jpeg:https://thelaurelmagazine.com/wp-content/uploads/2025/07/highlands-nc-vineyard-at-high-holly-landscape.jpg
END:VEVENT
BEGIN:VEVENT
DTSTART;TZID=America/New_York:20270522T140000
DTEND;TZID=America/New_York:20270522T170000
DTSTAMP:20260419T121932
CREATED:20251003T231600Z
LAST-MODIFIED:20260223T201146Z
UID:115264-1810994400-1811005200@thelaurelmagazine.com
SUMMARY:Live Music at The Vineyard at High Holly
DESCRIPTION:Join us for live music at The Vineyard at High Holly! \nVineyard open hours 12-6 PM. \nFavorites Count: 0
URL:https://thelaurelmagazine.com/local-event/live-music-at-the-vineyard-at-high-holly-9-2028-02-20/2027-05-22
LOCATION:The Vineyard at High Holly\, 37 High Holly Rd\, Scaly Mountain\, NC\, 28775\, United States
CATEGORIES:Live Music
ATTACH;FMTTYPE=image/jpeg:https://thelaurelmagazine.com/wp-content/uploads/2025/07/highlands-nc-vineyard-at-high-holly-landscape.jpg
END:VEVENT
BEGIN:VEVENT
DTSTART;TZID=America/New_York:20270717T140000
DTEND;TZID=America/New_York:20270717T170000
DTSTAMP:20260419T121932
CREATED:20251003T231600Z
LAST-MODIFIED:20260223T201153Z
UID:115280-1815832800-1815843600@thelaurelmagazine.com
SUMMARY:Live Music at The Vineyard at High Holly
DESCRIPTION:Join us for live music at The Vineyard at High Holly! \nVineyard open hours 12-6 PM. \nFavorites Count: 0
URL:https://thelaurelmagazine.com/local-event/live-music-at-the-vineyard-at-high-holly-9-2028-02-20/2027-07-17
LOCATION:The Vineyard at High Holly\, 37 High Holly Rd\, Scaly Mountain\, NC\, 28775\, United States
CATEGORIES:Live Music
ATTACH;FMTTYPE=image/jpeg:https://thelaurelmagazine.com/wp-content/uploads/2025/07/highlands-nc-vineyard-at-high-holly-landscape.jpg
END:VEVENT
BEGIN:VEVENT
DTSTART;TZID=America/New_York:20270911T140000
DTEND;TZID=America/New_York:20270911T170000
DTSTAMP:20260419T121932
CREATED:20251003T231600Z
LAST-MODIFIED:20260223T201157Z
UID:115296-1820671200-1820682000@thelaurelmagazine.com
SUMMARY:Live Music at The Vineyard at High Holly
DESCRIPTION:Join us for live music at The Vineyard at High Holly! \nVineyard open hours 12-6 PM. \nFavorites Count: 0
URL:https://thelaurelmagazine.com/local-event/live-music-at-the-vineyard-at-high-holly-9-2028-02-20/2027-09-11
LOCATION:The Vineyard at High Holly\, 37 High Holly Rd\, Scaly Mountain\, NC\, 28775\, United States
CATEGORIES:Live Music
ATTACH;FMTTYPE=image/jpeg:https://thelaurelmagazine.com/wp-content/uploads/2025/07/highlands-nc-vineyard-at-high-holly-landscape.jpg
END:VEVENT
BEGIN:VEVENT
DTSTART;TZID=America/New_York:20271106T140000
DTEND;TZID=America/New_York:20271106T170000
DTSTAMP:20260419T121932
CREATED:20251003T231600Z
LAST-MODIFIED:20260223T201207Z
UID:115312-1825509600-1825520400@thelaurelmagazine.com
SUMMARY:Live Music at The Vineyard at High Holly
DESCRIPTION:Join us for live music at The Vineyard at High Holly! \nVineyard open hours 12-6 PM. \nFavorites Count: 0
URL:https://thelaurelmagazine.com/local-event/live-music-at-the-vineyard-at-high-holly-9-2028-02-20/2027-11-06
LOCATION:The Vineyard at High Holly\, 37 High Holly Rd\, Scaly Mountain\, NC\, 28775\, United States
CATEGORIES:Live Music
ATTACH;FMTTYPE=image/jpeg:https://thelaurelmagazine.com/wp-content/uploads/2025/07/highlands-nc-vineyard-at-high-holly-landscape.jpg
END:VEVENT
BEGIN:VEVENT
DTSTART;TZID=America/New_York:20280101T140000
DTEND;TZID=America/New_York:20280101T170000
DTSTAMP:20260419T121932
CREATED:20251003T231600Z
LAST-MODIFIED:20260223T201211Z
UID:115328-1830348000-1830358800@thelaurelmagazine.com
SUMMARY:Live Music at The Vineyard at High Holly
DESCRIPTION:Join us for live music at The Vineyard at High Holly! \nVineyard open hours 12-6 PM. \nFavorites Count: 0
URL:https://thelaurelmagazine.com/local-event/live-music-at-the-vineyard-at-high-holly-9-2028-02-20/2028-01-01
LOCATION:The Vineyard at High Holly\, 37 High Holly Rd\, Scaly Mountain\, NC\, 28775\, United States
CATEGORIES:Live Music
ATTACH;FMTTYPE=image/jpeg:https://thelaurelmagazine.com/wp-content/uploads/2025/07/highlands-nc-vineyard-at-high-holly-landscape.jpg
END:VEVENT
BEGIN:VEVENT
DTSTART;TZID=America/New_York:20280226T140000
DTEND;TZID=America/New_York:20280226T170000
DTSTAMP:20260419T121932
CREATED:20251003T231600Z
LAST-MODIFIED:20251003T231600Z
UID:115881-1835186400-1835197200@thelaurelmagazine.com
SUMMARY:Live Music at The Vineyard at High Holly
DESCRIPTION:Join us for live music at The Vineyard at High Holly! \nVineyard open hours 12-6 PM. \nFavorites Count: 0
URL:https://thelaurelmagazine.com/local-event/live-music-at-the-vineyard-at-high-holly-9-2028-02-20/2028-02-26
LOCATION:The Vineyard at High Holly\, 37 High Holly Rd\, Scaly Mountain\, NC\, 28775\, United States
CATEGORIES:Live Music
ATTACH;FMTTYPE=image/jpeg:https://thelaurelmagazine.com/wp-content/uploads/2025/07/highlands-nc-vineyard-at-high-holly-landscape.jpg
END:VEVENT
BEGIN:VEVENT
DTSTART;TZID=America/New_York:20280401T140000
DTEND;TZID=America/New_York:20280401T170000
DTSTAMP:20260419T121932
CREATED:20251003T231600Z
LAST-MODIFIED:20251003T231600Z
UID:116740-1838210400-1838221200@thelaurelmagazine.com
SUMMARY:Live Music at The Vineyard at High Holly
DESCRIPTION:Join us for live music at The Vineyard at High Holly! \nVineyard open hours 12-6 PM. \nFavorites Count: 0
URL:https://thelaurelmagazine.com/local-event/live-music-at-the-vineyard-at-high-holly-9-2028-02-20/2028-04-01
LOCATION:The Vineyard at High Holly\, 37 High Holly Rd\, Scaly Mountain\, NC\, 28775\, United States
CATEGORIES:Live Music
ATTACH;FMTTYPE=image/jpeg:https://thelaurelmagazine.com/wp-content/uploads/2025/07/highlands-nc-vineyard-at-high-holly-landscape.jpg
END:VEVENT
BEGIN:VEVENT
DTSTART;TZID=America/New_York:20271114T140000
DTEND;TZID=America/New_York:20271114T170000
DTSTAMP:20260419T121932
CREATED:20251003T231600Z
LAST-MODIFIED:20251003T231600Z
UID:105308-1826200800-1826211600@thelaurelmagazine.com
SUMMARY:Live Music at The Vineyard at High Holly
DESCRIPTION:Join us for live music at The Vineyard at High Holly! \nVineyard open hours 12-6 PM. \nFavorites Count: 0
URL:https://thelaurelmagazine.com/local-event/live-music-at-the-vineyard-at-high-holly-9/2027-11-14
LOCATION:The Vineyard at High Holly\, 37 High Holly Rd\, Scaly Mountain\, NC\, 28775\, United States
CATEGORIES:Live Music
ATTACH;FMTTYPE=image/jpeg:https://thelaurelmagazine.com/wp-content/uploads/2025/07/highlands-nc-vineyard-at-high-holly-landscape.jpg
END:VEVENT
BEGIN:VEVENT
DTSTART;TZID=America/New_York:20260426T140000
DTEND;TZID=America/New_York:20260426T170000
DTSTAMP:20260419T121932
CREATED:20251003T231600Z
LAST-MODIFIED:20260223T201057Z
UID:115092-1777212000-1777222800@thelaurelmagazine.com
SUMMARY:Live Music at The Vineyard at High Holly
DESCRIPTION:Join us for live music at The Vineyard at High Holly! \nVineyard open hours 12-6 PM. \nFavorites Count: 0
URL:https://thelaurelmagazine.com/local-event/live-music-at-the-vineyard-at-high-holly-9-2028-02-20/2026-04-26
LOCATION:The Vineyard at High Holly\, 37 High Holly Rd\, Scaly Mountain\, NC\, 28775\, United States
CATEGORIES:Live Music
ATTACH;FMTTYPE=image/jpeg:https://thelaurelmagazine.com/wp-content/uploads/2025/07/highlands-nc-vineyard-at-high-holly-landscape.jpg
END:VEVENT
BEGIN:VEVENT
DTSTART;TZID=America/New_York:20260621T140000
DTEND;TZID=America/New_York:20260621T170000
DTSTAMP:20260419T121932
CREATED:20251003T231600Z
LAST-MODIFIED:20260223T201104Z
UID:115108-1782050400-1782061200@thelaurelmagazine.com
SUMMARY:Live Music at The Vineyard at High Holly
DESCRIPTION:Join us for live music at The Vineyard at High Holly! \nVineyard open hours 12-6 PM. \nFavorites Count: 0
URL:https://thelaurelmagazine.com/local-event/live-music-at-the-vineyard-at-high-holly-9-2028-02-20/2026-06-21
LOCATION:The Vineyard at High Holly\, 37 High Holly Rd\, Scaly Mountain\, NC\, 28775\, United States
CATEGORIES:Live Music
ATTACH;FMTTYPE=image/jpeg:https://thelaurelmagazine.com/wp-content/uploads/2025/07/highlands-nc-vineyard-at-high-holly-landscape.jpg
END:VEVENT
BEGIN:VEVENT
DTSTART;TZID=America/New_York:20260816T140000
DTEND;TZID=America/New_York:20260816T170000
DTSTAMP:20260419T121932
CREATED:20251003T231600Z
LAST-MODIFIED:20260223T201110Z
UID:115124-1786888800-1786899600@thelaurelmagazine.com
SUMMARY:Live Music at The Vineyard at High Holly
DESCRIPTION:Join us for live music at The Vineyard at High Holly! \nVineyard open hours 12-6 PM. \nFavorites Count: 0
URL:https://thelaurelmagazine.com/local-event/live-music-at-the-vineyard-at-high-holly-9-2028-02-20/2026-08-16
LOCATION:The Vineyard at High Holly\, 37 High Holly Rd\, Scaly Mountain\, NC\, 28775\, United States
CATEGORIES:Live Music
ATTACH;FMTTYPE=image/jpeg:https://thelaurelmagazine.com/wp-content/uploads/2025/07/highlands-nc-vineyard-at-high-holly-landscape.jpg
END:VEVENT
BEGIN:VEVENT
DTSTART;TZID=America/New_York:20261011T140000
DTEND;TZID=America/New_York:20261011T170000
DTSTAMP:20260419T121932
CREATED:20251003T231600Z
LAST-MODIFIED:20260223T201118Z
UID:115140-1791727200-1791738000@thelaurelmagazine.com
SUMMARY:Live Music at The Vineyard at High Holly
DESCRIPTION:Join us for live music at The Vineyard at High Holly! \nVineyard open hours 12-6 PM. \nFavorites Count: 0
URL:https://thelaurelmagazine.com/local-event/live-music-at-the-vineyard-at-high-holly-9-2028-02-20/2026-10-11
LOCATION:The Vineyard at High Holly\, 37 High Holly Rd\, Scaly Mountain\, NC\, 28775\, United States
CATEGORIES:Live Music
ATTACH;FMTTYPE=image/jpeg:https://thelaurelmagazine.com/wp-content/uploads/2025/07/highlands-nc-vineyard-at-high-holly-landscape.jpg
END:VEVENT
BEGIN:VEVENT
DTSTART;TZID=America/New_York:20261206T140000
DTEND;TZID=America/New_York:20261206T170000
DTSTAMP:20260419T121932
CREATED:20251003T231600Z
LAST-MODIFIED:20260223T201124Z
UID:115156-1796565600-1796576400@thelaurelmagazine.com
SUMMARY:Live Music at The Vineyard at High Holly
DESCRIPTION:Join us for live music at The Vineyard at High Holly! \nVineyard open hours 12-6 PM. \nFavorites Count: 0
URL:https://thelaurelmagazine.com/local-event/live-music-at-the-vineyard-at-high-holly-9-2028-02-20/2026-12-06
LOCATION:The Vineyard at High Holly\, 37 High Holly Rd\, Scaly Mountain\, NC\, 28775\, United States
CATEGORIES:Live Music
ATTACH;FMTTYPE=image/jpeg:https://thelaurelmagazine.com/wp-content/uploads/2025/07/highlands-nc-vineyard-at-high-holly-landscape.jpg
END:VEVENT
BEGIN:VEVENT
DTSTART;TZID=America/New_York:20270131T140000
DTEND;TZID=America/New_York:20270131T170000
DTSTAMP:20260419T121932
CREATED:20251003T231600Z
LAST-MODIFIED:20260223T201132Z
UID:115173-1801404000-1801414800@thelaurelmagazine.com
SUMMARY:Live Music at The Vineyard at High Holly
DESCRIPTION:Join us for live music at The Vineyard at High Holly! \nVineyard open hours 12-6 PM. \nFavorites Count: 0
URL:https://thelaurelmagazine.com/local-event/live-music-at-the-vineyard-at-high-holly-9-2028-02-20/2027-01-31
LOCATION:The Vineyard at High Holly\, 37 High Holly Rd\, Scaly Mountain\, NC\, 28775\, United States
CATEGORIES:Live Music
ATTACH;FMTTYPE=image/jpeg:https://thelaurelmagazine.com/wp-content/uploads/2025/07/highlands-nc-vineyard-at-high-holly-landscape.jpg
END:VEVENT
BEGIN:VEVENT
DTSTART;TZID=America/New_York:20270328T140000
DTEND;TZID=America/New_York:20270328T170000
DTSTAMP:20260419T121932
CREATED:20251003T231600Z
LAST-MODIFIED:20260223T201141Z
UID:115189-1806242400-1806253200@thelaurelmagazine.com
SUMMARY:Live Music at The Vineyard at High Holly
DESCRIPTION:Join us for live music at The Vineyard at High Holly! \nVineyard open hours 12-6 PM. \nFavorites Count: 0
URL:https://thelaurelmagazine.com/local-event/live-music-at-the-vineyard-at-high-holly-9-2028-02-20/2027-03-28
LOCATION:The Vineyard at High Holly\, 37 High Holly Rd\, Scaly Mountain\, NC\, 28775\, United States
CATEGORIES:Live Music
ATTACH;FMTTYPE=image/jpeg:https://thelaurelmagazine.com/wp-content/uploads/2025/07/highlands-nc-vineyard-at-high-holly-landscape.jpg
END:VEVENT
BEGIN:VEVENT
DTSTART;TZID=America/New_York:20270523T140000
DTEND;TZID=America/New_York:20270523T170000
DTSTAMP:20260419T121932
CREATED:20251003T231600Z
LAST-MODIFIED:20260223T201146Z
UID:115265-1811080800-1811091600@thelaurelmagazine.com
SUMMARY:Live Music at The Vineyard at High Holly
DESCRIPTION:Join us for live music at The Vineyard at High Holly! \nVineyard open hours 12-6 PM. \nFavorites Count: 0
URL:https://thelaurelmagazine.com/local-event/live-music-at-the-vineyard-at-high-holly-9-2028-02-20/2027-05-23
LOCATION:The Vineyard at High Holly\, 37 High Holly Rd\, Scaly Mountain\, NC\, 28775\, United States
CATEGORIES:Live Music
ATTACH;FMTTYPE=image/jpeg:https://thelaurelmagazine.com/wp-content/uploads/2025/07/highlands-nc-vineyard-at-high-holly-landscape.jpg
END:VEVENT
BEGIN:VEVENT
DTSTART;TZID=America/New_York:20270718T140000
DTEND;TZID=America/New_York:20270718T170000
DTSTAMP:20260419T121932
CREATED:20251003T231600Z
LAST-MODIFIED:20260223T201153Z
UID:115281-1815919200-1815930000@thelaurelmagazine.com
SUMMARY:Live Music at The Vineyard at High Holly
DESCRIPTION:Join us for live music at The Vineyard at High Holly! \nVineyard open hours 12-6 PM. \nFavorites Count: 0
URL:https://thelaurelmagazine.com/local-event/live-music-at-the-vineyard-at-high-holly-9-2028-02-20/2027-07-18
LOCATION:The Vineyard at High Holly\, 37 High Holly Rd\, Scaly Mountain\, NC\, 28775\, United States
CATEGORIES:Live Music
ATTACH;FMTTYPE=image/jpeg:https://thelaurelmagazine.com/wp-content/uploads/2025/07/highlands-nc-vineyard-at-high-holly-landscape.jpg
END:VEVENT
BEGIN:VEVENT
DTSTART;TZID=America/New_York:20270912T140000
DTEND;TZID=America/New_York:20270912T170000
DTSTAMP:20260419T121932
CREATED:20251003T231600Z
LAST-MODIFIED:20260223T201157Z
UID:115297-1820757600-1820768400@thelaurelmagazine.com
SUMMARY:Live Music at The Vineyard at High Holly
DESCRIPTION:Join us for live music at The Vineyard at High Holly! \nVineyard open hours 12-6 PM. \nFavorites Count: 0
URL:https://thelaurelmagazine.com/local-event/live-music-at-the-vineyard-at-high-holly-9-2028-02-20/2027-09-12
LOCATION:The Vineyard at High Holly\, 37 High Holly Rd\, Scaly Mountain\, NC\, 28775\, United States
CATEGORIES:Live Music
ATTACH;FMTTYPE=image/jpeg:https://thelaurelmagazine.com/wp-content/uploads/2025/07/highlands-nc-vineyard-at-high-holly-landscape.jpg
END:VEVENT
BEGIN:VEVENT
DTSTART;TZID=America/New_York:20271107T140000
DTEND;TZID=America/New_York:20271107T170000
DTSTAMP:20260419T121932
CREATED:20251003T231600Z
LAST-MODIFIED:20260223T201207Z
UID:115313-1825596000-1825606800@thelaurelmagazine.com
SUMMARY:Live Music at The Vineyard at High Holly
DESCRIPTION:Join us for live music at The Vineyard at High Holly! \nVineyard open hours 12-6 PM. \nFavorites Count: 0
URL:https://thelaurelmagazine.com/local-event/live-music-at-the-vineyard-at-high-holly-9-2028-02-20/2027-11-07
LOCATION:The Vineyard at High Holly\, 37 High Holly Rd\, Scaly Mountain\, NC\, 28775\, United States
CATEGORIES:Live Music
ATTACH;FMTTYPE=image/jpeg:https://thelaurelmagazine.com/wp-content/uploads/2025/07/highlands-nc-vineyard-at-high-holly-landscape.jpg
END:VEVENT
BEGIN:VEVENT
DTSTART;TZID=America/New_York:20280102T140000
DTEND;TZID=America/New_York:20280102T170000
DTSTAMP:20260419T121932
CREATED:20251003T231600Z
LAST-MODIFIED:20260223T201214Z
UID:115329-1830434400-1830445200@thelaurelmagazine.com
SUMMARY:Live Music at The Vineyard at High Holly
DESCRIPTION:Join us for live music at The Vineyard at High Holly! \nVineyard open hours 12-6 PM. \nFavorites Count: 0
URL:https://thelaurelmagazine.com/local-event/live-music-at-the-vineyard-at-high-holly-9-2028-02-20/2028-01-02
LOCATION:The Vineyard at High Holly\, 37 High Holly Rd\, Scaly Mountain\, NC\, 28775\, United States
CATEGORIES:Live Music
ATTACH;FMTTYPE=image/jpeg:https://thelaurelmagazine.com/wp-content/uploads/2025/07/highlands-nc-vineyard-at-high-holly-landscape.jpg
END:VEVENT
BEGIN:VEVENT
DTSTART;TZID=America/New_York:20280227T140000
DTEND;TZID=America/New_York:20280227T170000
DTSTAMP:20260419T121932
CREATED:20251003T231600Z
LAST-MODIFIED:20251003T231600Z
UID:115888-1835272800-1835283600@thelaurelmagazine.com
SUMMARY:Live Music at The Vineyard at High Holly
DESCRIPTION:Join us for live music at The Vineyard at High Holly! \nVineyard open hours 12-6 PM. \nFavorites Count: 0
URL:https://thelaurelmagazine.com/local-event/live-music-at-the-vineyard-at-high-holly-9/2028-02-27
LOCATION:The Vineyard at High Holly\, 37 High Holly Rd\, Scaly Mountain\, NC\, 28775\, United States
CATEGORIES:Live Music
ATTACH;FMTTYPE=image/jpeg:https://thelaurelmagazine.com/wp-content/uploads/2025/07/highlands-nc-vineyard-at-high-holly-landscape.jpg
END:VEVENT
END:VCALENDAR