BEGIN:VCALENDAR
VERSION:2.0
PRODID:-//Laurel Magazine - ECPv6.15.16//NONSGML v1.0//EN
CALSCALE:GREGORIAN
METHOD:PUBLISH
X-WR-CALNAME:Laurel Magazine
X-ORIGINAL-URL:https://thelaurelmagazine.com
X-WR-CALDESC:Events for Laurel Magazine
REFRESH-INTERVAL;VALUE=DURATION:PT1H
X-Robots-Tag:noindex
X-PUBLISHED-TTL:PT1H
BEGIN:VTIMEZONE
TZID:America/New_York
BEGIN:DAYLIGHT
TZOFFSETFROM:-0500
TZOFFSETTO:-0400
TZNAME:EDT
DTSTART:20240310T070000
END:DAYLIGHT
BEGIN:STANDARD
TZOFFSETFROM:-0400
TZOFFSETTO:-0500
TZNAME:EST
DTSTART:20241103T060000
END:STANDARD
BEGIN:DAYLIGHT
TZOFFSETFROM:-0500
TZOFFSETTO:-0400
TZNAME:EDT
DTSTART:20250309T070000
END:DAYLIGHT
BEGIN:STANDARD
TZOFFSETFROM:-0400
TZOFFSETTO:-0500
TZNAME:EST
DTSTART:20251102T060000
END:STANDARD
BEGIN:DAYLIGHT
TZOFFSETFROM:-0500
TZOFFSETTO:-0400
TZNAME:EDT
DTSTART:20260308T070000
END:DAYLIGHT
BEGIN:STANDARD
TZOFFSETFROM:-0400
TZOFFSETTO:-0500
TZNAME:EST
DTSTART:20261101T060000
END:STANDARD
BEGIN:DAYLIGHT
TZOFFSETFROM:-0500
TZOFFSETTO:-0400
TZNAME:EDT
DTSTART:20270314T070000
END:DAYLIGHT
BEGIN:STANDARD
TZOFFSETFROM:-0400
TZOFFSETTO:-0500
TZNAME:EST
DTSTART:20271107T060000
END:STANDARD
END:VTIMEZONE
BEGIN:VEVENT
DTSTART;TZID=America/New_York:20251207T140000
DTEND;TZID=America/New_York:20251207T170000
DTSTAMP:20260420T062824
CREATED:20251003T231600Z
LAST-MODIFIED:20251003T231600Z
UID:102648-1765116000-1765126800@thelaurelmagazine.com
SUMMARY:Live Music at The Vineyard at High Holly
DESCRIPTION:Join us for live music at The Vineyard at High Holly! \nVineyard open hours 12-6 PM. \nFavorites Count: 0
URL:https://thelaurelmagazine.com/local-event/live-music-at-the-vineyard-at-high-holly-9/2025-12-07
LOCATION:The Vineyard at High Holly\, 37 High Holly Rd\, Scaly Mountain\, NC\, 28775\, United States
CATEGORIES:Live Music
ATTACH;FMTTYPE=image/jpeg:https://thelaurelmagazine.com/wp-content/uploads/2025/07/highlands-nc-vineyard-at-high-holly-landscape.jpg
END:VEVENT
BEGIN:VEVENT
DTSTART;TZID=America/New_York:20260405T140000
DTEND;TZID=America/New_York:20260405T170000
DTSTAMP:20260420T062824
CREATED:20251003T231600Z
LAST-MODIFIED:20260223T201027Z
UID:115086-1775397600-1775408400@thelaurelmagazine.com
SUMMARY:Live Music at The Vineyard at High Holly
DESCRIPTION:Join us for live music at The Vineyard at High Holly! \nVineyard open hours 12-6 PM. \nFavorites Count: 0
URL:https://thelaurelmagazine.com/local-event/live-music-at-the-vineyard-at-high-holly-9-2028-02-20/2026-04-05
LOCATION:The Vineyard at High Holly\, 37 High Holly Rd\, Scaly Mountain\, NC\, 28775\, United States
CATEGORIES:Live Music
ATTACH;FMTTYPE=image/jpeg:https://thelaurelmagazine.com/wp-content/uploads/2025/07/highlands-nc-vineyard-at-high-holly-landscape.jpg
END:VEVENT
BEGIN:VEVENT
DTSTART;TZID=America/New_York:20251017T150000
DTEND;TZID=America/New_York:20251017T180000
DTSTAMP:20260420T062825
CREATED:20251003T231600Z
LAST-MODIFIED:20251003T231600Z
UID:101963-1760713200-1760724000@thelaurelmagazine.com
SUMMARY:Live Music at The Vineyard at High Holly
DESCRIPTION:Join us for live music at The Vineyard at High Holly! \nVineyard open hours 12-6 PM. \nFavorites Count: 0
URL:https://thelaurelmagazine.com/local-event/live-music-at-the-vineyard-at-high-holly-9/2025-10-17
LOCATION:The Vineyard at High Holly\, 37 High Holly Rd\, Scaly Mountain\, NC\, 28775\, United States
CATEGORIES:Live Music
ATTACH;FMTTYPE=image/jpeg:https://thelaurelmagazine.com/wp-content/uploads/2025/07/highlands-nc-vineyard-at-high-holly-landscape.jpg
END:VEVENT
BEGIN:VEVENT
DTSTART;TZID=America/New_York:20251212T150000
DTEND;TZID=America/New_York:20251212T180000
DTSTAMP:20260420T062825
CREATED:20251003T231600Z
LAST-MODIFIED:20251003T231600Z
UID:102649-1765551600-1765562400@thelaurelmagazine.com
SUMMARY:Live Music at The Vineyard at High Holly
DESCRIPTION:Join us for live music at The Vineyard at High Holly! \nVineyard open hours 12-6 PM. \nFavorites Count: 0
URL:https://thelaurelmagazine.com/local-event/live-music-at-the-vineyard-at-high-holly-9/2025-12-12
LOCATION:The Vineyard at High Holly\, 37 High Holly Rd\, Scaly Mountain\, NC\, 28775\, United States
CATEGORIES:Live Music
ATTACH;FMTTYPE=image/jpeg:https://thelaurelmagazine.com/wp-content/uploads/2025/07/highlands-nc-vineyard-at-high-holly-landscape.jpg
END:VEVENT
BEGIN:VEVENT
DTSTART;TZID=America/New_York:20260411T140000
DTEND;TZID=America/New_York:20260411T170000
DTSTAMP:20260420T062825
CREATED:20251003T231600Z
LAST-MODIFIED:20260223T201028Z
UID:115203-1775916000-1775926800@thelaurelmagazine.com
SUMMARY:Live Music at The Vineyard at High Holly
DESCRIPTION:Join us for live music at The Vineyard at High Holly! \nVineyard open hours 12-6 PM. \nFavorites Count: 0
URL:https://thelaurelmagazine.com/local-event/live-music-at-the-vineyard-at-high-holly-9-2028-02-20/2026-04-11
LOCATION:The Vineyard at High Holly\, 37 High Holly Rd\, Scaly Mountain\, NC\, 28775\, United States
CATEGORIES:Live Music
ATTACH;FMTTYPE=image/jpeg:https://thelaurelmagazine.com/wp-content/uploads/2025/07/highlands-nc-vineyard-at-high-holly-landscape.jpg
END:VEVENT
BEGIN:VEVENT
DTSTART;TZID=America/New_York:20251019T140000
DTEND;TZID=America/New_York:20251019T170000
DTSTAMP:20260420T062825
CREATED:20251003T231600Z
LAST-MODIFIED:20251003T231600Z
UID:101966-1760882400-1760893200@thelaurelmagazine.com
SUMMARY:Live Music at The Vineyard at High Holly
DESCRIPTION:Join us for live music at The Vineyard at High Holly! \nVineyard open hours 12-6 PM. \nFavorites Count: 0
URL:https://thelaurelmagazine.com/local-event/live-music-at-the-vineyard-at-high-holly-9/2025-10-19
LOCATION:The Vineyard at High Holly\, 37 High Holly Rd\, Scaly Mountain\, NC\, 28775\, United States
CATEGORIES:Live Music
ATTACH;FMTTYPE=image/jpeg:https://thelaurelmagazine.com/wp-content/uploads/2025/07/highlands-nc-vineyard-at-high-holly-landscape.jpg
END:VEVENT
BEGIN:VEVENT
DTSTART;TZID=America/New_York:20251214T140000
DTEND;TZID=America/New_York:20251214T170000
DTSTAMP:20260420T062825
CREATED:20251003T231600Z
LAST-MODIFIED:20251003T231600Z
UID:102650-1765720800-1765731600@thelaurelmagazine.com
SUMMARY:Live Music at The Vineyard at High Holly
DESCRIPTION:Join us for live music at The Vineyard at High Holly! \nVineyard open hours 12-6 PM. \nFavorites Count: 0
URL:https://thelaurelmagazine.com/local-event/live-music-at-the-vineyard-at-high-holly-9/2025-12-14
LOCATION:The Vineyard at High Holly\, 37 High Holly Rd\, Scaly Mountain\, NC\, 28775\, United States
CATEGORIES:Live Music
ATTACH;FMTTYPE=image/jpeg:https://thelaurelmagazine.com/wp-content/uploads/2025/07/highlands-nc-vineyard-at-high-holly-landscape.jpg
END:VEVENT
BEGIN:VEVENT
DTSTART;TZID=America/New_York:20260412T140000
DTEND;TZID=America/New_York:20260412T170000
DTSTAMP:20260420T062825
CREATED:20251003T231600Z
LAST-MODIFIED:20260223T201056Z
UID:115088-1776002400-1776013200@thelaurelmagazine.com
SUMMARY:Live Music at The Vineyard at High Holly
DESCRIPTION:Join us for live music at The Vineyard at High Holly! \nVineyard open hours 12-6 PM. \nFavorites Count: 0
URL:https://thelaurelmagazine.com/local-event/live-music-at-the-vineyard-at-high-holly-9-2028-02-20/2026-04-12
LOCATION:The Vineyard at High Holly\, 37 High Holly Rd\, Scaly Mountain\, NC\, 28775\, United States
CATEGORIES:Live Music
ATTACH;FMTTYPE=image/jpeg:https://thelaurelmagazine.com/wp-content/uploads/2025/07/highlands-nc-vineyard-at-high-holly-landscape.jpg
END:VEVENT
BEGIN:VEVENT
DTSTART;TZID=America/New_York:20251024T150000
DTEND;TZID=America/New_York:20251024T180000
DTSTAMP:20260420T062825
CREATED:20251003T231600Z
LAST-MODIFIED:20251003T231600Z
UID:101967-1761318000-1761328800@thelaurelmagazine.com
SUMMARY:Live Music at The Vineyard at High Holly
DESCRIPTION:Join us for live music at The Vineyard at High Holly! \nVineyard open hours 12-6 PM. \nFavorites Count: 0
URL:https://thelaurelmagazine.com/local-event/live-music-at-the-vineyard-at-high-holly-9/2025-10-24
LOCATION:The Vineyard at High Holly\, 37 High Holly Rd\, Scaly Mountain\, NC\, 28775\, United States
CATEGORIES:Live Music
ATTACH;FMTTYPE=image/jpeg:https://thelaurelmagazine.com/wp-content/uploads/2025/07/highlands-nc-vineyard-at-high-holly-landscape.jpg
END:VEVENT
BEGIN:VEVENT
DTSTART;TZID=America/New_York:20251219T150000
DTEND;TZID=America/New_York:20251219T180000
DTSTAMP:20260420T062825
CREATED:20251003T231600Z
LAST-MODIFIED:20251003T231600Z
UID:102651-1766156400-1766167200@thelaurelmagazine.com
SUMMARY:Live Music at The Vineyard at High Holly
DESCRIPTION:Join us for live music at The Vineyard at High Holly! \nVineyard open hours 12-6 PM. \nFavorites Count: 0
URL:https://thelaurelmagazine.com/local-event/live-music-at-the-vineyard-at-high-holly-9/2025-12-19
LOCATION:The Vineyard at High Holly\, 37 High Holly Rd\, Scaly Mountain\, NC\, 28775\, United States
CATEGORIES:Live Music
ATTACH;FMTTYPE=image/jpeg:https://thelaurelmagazine.com/wp-content/uploads/2025/07/highlands-nc-vineyard-at-high-holly-landscape.jpg
END:VEVENT
BEGIN:VEVENT
DTSTART;TZID=America/New_York:20260418T140000
DTEND;TZID=America/New_York:20260418T170000
DTSTAMP:20260420T062825
CREATED:20251003T231600Z
LAST-MODIFIED:20260223T201056Z
UID:115204-1776520800-1776531600@thelaurelmagazine.com
SUMMARY:Live Music at The Vineyard at High Holly
DESCRIPTION:Join us for live music at The Vineyard at High Holly! \nVineyard open hours 12-6 PM. \nFavorites Count: 0
URL:https://thelaurelmagazine.com/local-event/live-music-at-the-vineyard-at-high-holly-9-2028-02-20/2026-04-18
LOCATION:The Vineyard at High Holly\, 37 High Holly Rd\, Scaly Mountain\, NC\, 28775\, United States
CATEGORIES:Live Music
ATTACH;FMTTYPE=image/jpeg:https://thelaurelmagazine.com/wp-content/uploads/2025/07/highlands-nc-vineyard-at-high-holly-landscape.jpg
END:VEVENT
BEGIN:VEVENT
DTSTART;TZID=America/New_York:20250926T150000
DTEND;TZID=America/New_York:20250926T180000
DTSTAMP:20260420T062825
CREATED:20250905T143046Z
LAST-MODIFIED:20250905T143046Z
UID:96188-1758898800-1758909600@thelaurelmagazine.com
SUMMARY:Live Music at The Vineyard at High Holly
DESCRIPTION:Join us for live music with RA Nightengale! \nVineyard open hours 12-6 PM. \nFavorites Count: 0
URL:https://thelaurelmagazine.com/local-event/live-music-at-the-vineyard-at-high-holly-8
LOCATION:The Vineyard at High Holly\, 37 High Holly Rd\, Scaly Mountain\, NC\, 28775\, United States
CATEGORIES:Live Music
ATTACH;FMTTYPE=image/jpeg:https://thelaurelmagazine.com/wp-content/uploads/2025/07/highlands-nc-vineyard-at-high-holly-landscape.jpg
END:VEVENT
BEGIN:VEVENT
DTSTART;TZID=America/New_York:20250921T140000
DTEND;TZID=America/New_York:20250921T170000
DTSTAMP:20260420T062825
CREATED:20250905T142741Z
LAST-MODIFIED:20250905T142741Z
UID:96184-1758463200-1758474000@thelaurelmagazine.com
SUMMARY:Live Music at The Vineyard at High Holly
DESCRIPTION:Join us for live music with Jordan Denton! \nVineyard open hours 12-6 PM. \nFavorites Count: 0
URL:https://thelaurelmagazine.com/local-event/live-music-at-the-vineyard-at-high-holly-7
LOCATION:The Vineyard at High Holly\, 37 High Holly Rd\, Scaly Mountain\, NC\, 28775\, United States
CATEGORIES:Live Music
ATTACH;FMTTYPE=image/jpeg:https://thelaurelmagazine.com/wp-content/uploads/2025/07/highlands-nc-vineyard-at-high-holly-landscape.jpg
END:VEVENT
BEGIN:VEVENT
DTSTART;TZID=America/New_York:20250919T150000
DTEND;TZID=America/New_York:20250919T180000
DTSTAMP:20260420T062825
CREATED:20250905T142503Z
LAST-MODIFIED:20250905T142503Z
UID:96183-1758294000-1758304800@thelaurelmagazine.com
SUMMARY:Live Music at The Vineyard at High Holly
DESCRIPTION:Join us for live music with Breeze Cable! \nVineyard open hours 12-6 PM. \nFavorites Count: 0
URL:https://thelaurelmagazine.com/local-event/live-music-at-the-vineyard-at-high-holly-6
LOCATION:The Vineyard at High Holly\, 37 High Holly Rd\, Scaly Mountain\, NC\, 28775\, United States
CATEGORIES:Live Music
ATTACH;FMTTYPE=image/jpeg:https://thelaurelmagazine.com/wp-content/uploads/2025/07/highlands-nc-vineyard-at-high-holly-landscape.jpg
END:VEVENT
BEGIN:VEVENT
DTSTART;TZID=America/New_York:20250914T140000
DTEND;TZID=America/New_York:20250914T170000
DTSTAMP:20260420T062825
CREATED:20250905T142200Z
LAST-MODIFIED:20250905T142200Z
UID:96181-1757858400-1757869200@thelaurelmagazine.com
SUMMARY:Live Music at The Vineyard at High Holly
DESCRIPTION:Join us for live music with Tim Austin! \nVineyard open hours 12-6 PM. \nFavorites Count: 0
URL:https://thelaurelmagazine.com/local-event/live-music-at-the-vineyard-at-high-holly-5
LOCATION:The Vineyard at High Holly\, 37 High Holly Rd\, Scaly Mountain\, NC\, 28775\, United States
CATEGORIES:Live Music
ATTACH;FMTTYPE=image/jpeg:https://thelaurelmagazine.com/wp-content/uploads/2025/07/highlands-nc-vineyard-at-high-holly-landscape.jpg
END:VEVENT
BEGIN:VEVENT
DTSTART;TZID=America/New_York:20250912T150000
DTEND;TZID=America/New_York:20250912T180000
DTSTAMP:20260420T062825
CREATED:20250905T141816Z
LAST-MODIFIED:20250905T141816Z
UID:96179-1757689200-1757700000@thelaurelmagazine.com
SUMMARY:Live Music at The Vineyard at High Holly
DESCRIPTION:Join us for live music with RA Nightengale! \nVineyard open hours 12-6 PM. \nFavorites Count: 0
URL:https://thelaurelmagazine.com/local-event/live-music-at-the-vineyard-at-high-holly-4
LOCATION:The Vineyard at High Holly\, 37 High Holly Rd\, Scaly Mountain\, NC\, 28775\, United States
CATEGORIES:Live Music
ATTACH;FMTTYPE=image/jpeg:https://thelaurelmagazine.com/wp-content/uploads/2025/07/highlands-nc-vineyard-at-high-holly-landscape.jpg
END:VEVENT
BEGIN:VEVENT
DTSTART;TZID=America/New_York:20250907T140000
DTEND;TZID=America/New_York:20250907T170000
DTSTAMP:20260420T062825
CREATED:20250905T133758Z
LAST-MODIFIED:20250905T133758Z
UID:96177-1757253600-1757264400@thelaurelmagazine.com
SUMMARY:Live Music at The Vineyard at High Holly
DESCRIPTION:Join us for live music with Monica Spears! \nVineyard open hours 12-6 PM. \nFavorites Count: 0
URL:https://thelaurelmagazine.com/local-event/live-music-at-the-vineyard-at-high-holly-3
LOCATION:The Vineyard at High Holly\, 37 High Holly Rd\, Scaly Mountain\, NC\, 28775\, United States
CATEGORIES:Live Music
ATTACH;FMTTYPE=image/jpeg:https://thelaurelmagazine.com/wp-content/uploads/2025/07/highlands-nc-vineyard-at-high-holly-landscape.jpg
END:VEVENT
BEGIN:VEVENT
DTSTART;TZID=America/New_York:20250905T150000
DTEND;TZID=America/New_York:20250905T180000
DTSTAMP:20260420T062825
CREATED:20250905T132938Z
LAST-MODIFIED:20250905T132938Z
UID:96175-1757084400-1757095200@thelaurelmagazine.com
SUMMARY:Live Music at The Vineyard at High Holly
DESCRIPTION:Join us for live music with Breeze Cable! \nVineyard open hours 12-6 PM. \nFavorites Count: 0
URL:https://thelaurelmagazine.com/local-event/live-music-at-the-vineyard-at-high-holly-2
LOCATION:The Vineyard at High Holly\, 37 High Holly Rd\, Scaly Mountain\, NC\, 28775\, United States
CATEGORIES:Live Music
ATTACH;FMTTYPE=image/jpeg:https://thelaurelmagazine.com/wp-content/uploads/2025/07/highlands-nc-vineyard-at-high-holly-landscape.jpg
END:VEVENT
BEGIN:VEVENT
DTSTART;TZID=America/New_York:20250706T140000
DTEND;TZID=America/New_York:20250706T170000
DTSTAMP:20260420T062825
CREATED:20250731T143158Z
LAST-MODIFIED:20250731T143158Z
UID:94237-1751810400-1751821200@thelaurelmagazine.com
SUMMARY:Live Music at The Vineyard at High Holly
DESCRIPTION:Join The Vineyard at High Holly for live Music every Sunday. \nVineyard open 12-6pm \nFavorites Count: 0
URL:https://thelaurelmagazine.com/local-event/live-music-at-the-vineyard-at-high-holly/2025-07-06
LOCATION:The Vineyard at High Holly\, 37 High Holly Rd\, Scaly Mountain\, NC\, 28775\, United States
CATEGORIES:Live Music
ATTACH;FMTTYPE=image/jpeg:https://thelaurelmagazine.com/wp-content/uploads/2025/07/highlands-nc-vineyard-at-high-holly-landscape.jpg
END:VEVENT
BEGIN:VEVENT
DTSTART;TZID=America/New_York:20250713T140000
DTEND;TZID=America/New_York:20250713T170000
DTSTAMP:20260420T062825
CREATED:20250731T143158Z
LAST-MODIFIED:20250731T143158Z
UID:94248-1752415200-1752426000@thelaurelmagazine.com
SUMMARY:Live Music at The Vineyard at High Holly
DESCRIPTION:Join The Vineyard at High Holly for live Music every Sunday. \nVineyard open 12-6pm \nFavorites Count: 0
URL:https://thelaurelmagazine.com/local-event/live-music-at-the-vineyard-at-high-holly/2025-07-13
LOCATION:The Vineyard at High Holly\, 37 High Holly Rd\, Scaly Mountain\, NC\, 28775\, United States
CATEGORIES:Live Music
ATTACH;FMTTYPE=image/jpeg:https://thelaurelmagazine.com/wp-content/uploads/2025/07/highlands-nc-vineyard-at-high-holly-landscape.jpg
END:VEVENT
BEGIN:VEVENT
DTSTART;TZID=America/New_York:20250720T140000
DTEND;TZID=America/New_York:20250720T170000
DTSTAMP:20260420T062825
CREATED:20250731T143158Z
LAST-MODIFIED:20250731T143158Z
UID:94249-1753020000-1753030800@thelaurelmagazine.com
SUMMARY:Live Music at The Vineyard at High Holly
DESCRIPTION:Join The Vineyard at High Holly for live Music every Sunday. \nVineyard open 12-6pm \nFavorites Count: 0
URL:https://thelaurelmagazine.com/local-event/live-music-at-the-vineyard-at-high-holly/2025-07-20
LOCATION:The Vineyard at High Holly\, 37 High Holly Rd\, Scaly Mountain\, NC\, 28775\, United States
CATEGORIES:Live Music
ATTACH;FMTTYPE=image/jpeg:https://thelaurelmagazine.com/wp-content/uploads/2025/07/highlands-nc-vineyard-at-high-holly-landscape.jpg
END:VEVENT
BEGIN:VEVENT
DTSTART;TZID=America/New_York:20250727T140000
DTEND;TZID=America/New_York:20250727T170000
DTSTAMP:20260420T062825
CREATED:20250731T143158Z
LAST-MODIFIED:20250731T143158Z
UID:94250-1753624800-1753635600@thelaurelmagazine.com
SUMMARY:Live Music at The Vineyard at High Holly
DESCRIPTION:Join The Vineyard at High Holly for live Music every Sunday. \nVineyard open 12-6pm \nFavorites Count: 0
URL:https://thelaurelmagazine.com/local-event/live-music-at-the-vineyard-at-high-holly/2025-07-27
LOCATION:The Vineyard at High Holly\, 37 High Holly Rd\, Scaly Mountain\, NC\, 28775\, United States
CATEGORIES:Live Music
ATTACH;FMTTYPE=image/jpeg:https://thelaurelmagazine.com/wp-content/uploads/2025/07/highlands-nc-vineyard-at-high-holly-landscape.jpg
END:VEVENT
BEGIN:VEVENT
DTSTART;TZID=America/New_York:20250702T120000
DTEND;TZID=America/New_York:20250702T180000
DTSTAMP:20260420T062825
CREATED:20250702T150622Z
LAST-MODIFIED:20250702T150622Z
UID:92268-1751457600-1751479200@thelaurelmagazine.com
SUMMARY:Star-Spangled Celebration at The Vineyard at High Holly
DESCRIPTION:Join The Vineyard at High Holly for wine\, live music & food from July 2–6\, 12-6pm. \nLive Music Thurs\, Fri.\, and Sun 2-5pm.\n(closed Saturday) \nFavorites Count: 0
URL:https://thelaurelmagazine.com/local-event/star-spangled-celebration-at-the-vineyard-at-high-holly/2025-07-02
LOCATION:The Vineyard at High Holly\, 37 High Holly Rd\, Scaly Mountain\, NC\, 28775\, United States
CATEGORIES:Dining,Live Music
ATTACH;FMTTYPE=image/jpeg:https://thelaurelmagazine.com/wp-content/uploads/2025/07/highlands-nc-vineyard-at-high-holly-landscape.jpg
END:VEVENT
BEGIN:VEVENT
DTSTART;TZID=America/New_York:20250703T120000
DTEND;TZID=America/New_York:20250703T180000
DTSTAMP:20260420T062825
CREATED:20250702T150622Z
LAST-MODIFIED:20250702T150622Z
UID:92271-1751544000-1751565600@thelaurelmagazine.com
SUMMARY:Star-Spangled Celebration at The Vineyard at High Holly
DESCRIPTION:Join The Vineyard at High Holly for wine\, live music & food from July 2–6\, 12-6pm. \nLive Music Thurs\, Fri.\, and Sun 2-5pm.\n(closed Saturday) \nFavorites Count: 0
URL:https://thelaurelmagazine.com/local-event/star-spangled-celebration-at-the-vineyard-at-high-holly/2025-07-03
LOCATION:The Vineyard at High Holly\, 37 High Holly Rd\, Scaly Mountain\, NC\, 28775\, United States
CATEGORIES:Dining,Live Music
ATTACH;FMTTYPE=image/jpeg:https://thelaurelmagazine.com/wp-content/uploads/2025/07/highlands-nc-vineyard-at-high-holly-landscape.jpg
END:VEVENT
BEGIN:VEVENT
DTSTART;TZID=America/New_York:20250704T120000
DTEND;TZID=America/New_York:20250704T180000
DTSTAMP:20260420T062825
CREATED:20250702T150622Z
LAST-MODIFIED:20250702T150622Z
UID:92272-1751630400-1751652000@thelaurelmagazine.com
SUMMARY:Star-Spangled Celebration at The Vineyard at High Holly
DESCRIPTION:Join The Vineyard at High Holly for wine\, live music & food from July 2–6\, 12-6pm. \nLive Music Thurs\, Fri.\, and Sun 2-5pm.\n(closed Saturday) \nFavorites Count: 0
URL:https://thelaurelmagazine.com/local-event/star-spangled-celebration-at-the-vineyard-at-high-holly/2025-07-04
LOCATION:The Vineyard at High Holly\, 37 High Holly Rd\, Scaly Mountain\, NC\, 28775\, United States
CATEGORIES:Dining,Live Music
ATTACH;FMTTYPE=image/jpeg:https://thelaurelmagazine.com/wp-content/uploads/2025/07/highlands-nc-vineyard-at-high-holly-landscape.jpg
END:VEVENT
BEGIN:VEVENT
DTSTART;TZID=America/New_York:20250706T120000
DTEND;TZID=America/New_York:20250706T180000
DTSTAMP:20260420T062825
CREATED:20250702T150622Z
LAST-MODIFIED:20250702T150622Z
UID:92273-1751803200-1751824800@thelaurelmagazine.com
SUMMARY:Star-Spangled Celebration at The Vineyard at High Holly
DESCRIPTION:Join The Vineyard at High Holly for wine\, live music & food from July 2–6\, 12-6pm. \nLive Music Thurs\, Fri.\, and Sun 2-5pm.\n(closed Saturday) \nFavorites Count: 0
URL:https://thelaurelmagazine.com/local-event/star-spangled-celebration-at-the-vineyard-at-high-holly/2025-07-06
LOCATION:The Vineyard at High Holly\, 37 High Holly Rd\, Scaly Mountain\, NC\, 28775\, United States
CATEGORIES:Dining,Live Music
ATTACH;FMTTYPE=image/jpeg:https://thelaurelmagazine.com/wp-content/uploads/2025/07/highlands-nc-vineyard-at-high-holly-landscape.jpg
END:VEVENT
BEGIN:VEVENT
DTSTART;TZID=America/New_York:20250615T140000
DTEND;TZID=America/New_York:20250615T170000
DTSTAMP:20260420T062825
CREATED:20250609T164113Z
LAST-MODIFIED:20250609T164113Z
UID:90605-1749996000-1750006800@thelaurelmagazine.com
SUMMARY:Live Music with Blue Jazz at The Vineyard at High Holly
DESCRIPTION:Join The Vineyard at High Holly for live Music with Blue Jazz. \nVineyard open 12-6pm \nFavorites Count: 0
URL:https://thelaurelmagazine.com/local-event/live-music-with-blue-jazz-at-the-vineyard-at-high-holly
LOCATION:The Vineyard at High Holly\, 37 High Holly Rd\, Scaly Mountain\, NC\, 28775\, United States
CATEGORIES:Live Music
ATTACH;FMTTYPE=image/jpeg:https://thelaurelmagazine.com/wp-content/uploads/2023/08/highlands-nc-vineyard-at-high-holly-view.jpg
END:VEVENT
BEGIN:VEVENT
DTSTART;TZID=America/New_York:20250608T140000
DTEND;TZID=America/New_York:20250608T170000
DTSTAMP:20260420T062825
CREATED:20250605T205925Z
LAST-MODIFIED:20250605T205925Z
UID:90455-1749391200-1749402000@thelaurelmagazine.com
SUMMARY:Live Music with Tim Austin at The Vineyard at High Holly
DESCRIPTION:Join The Vineyard at High Holly for live music with Tim Austin 2-5 PM. \nVineyard open 12-6pm \nFavorites Count: 0
URL:https://thelaurelmagazine.com/local-event/live-music-with-tim-austin-at-the-vineyard-at-high-holly-2
LOCATION:The Vineyard at High Holly\, 37 High Holly Rd\, Scaly Mountain\, NC\, 28775\, United States
CATEGORIES:Live Music
END:VEVENT
END:VCALENDAR