BEGIN:VCALENDAR
VERSION:2.0
PRODID:-//Laurel Magazine - ECPv6.15.16//NONSGML v1.0//EN
CALSCALE:GREGORIAN
METHOD:PUBLISH
X-ORIGINAL-URL:https://thelaurelmagazine.com
X-WR-CALDESC:Events for Laurel Magazine
REFRESH-INTERVAL;VALUE=DURATION:PT1H
X-Robots-Tag:noindex
X-PUBLISHED-TTL:PT1H
BEGIN:VTIMEZONE
TZID:America/New_York
BEGIN:DAYLIGHT
TZOFFSETFROM:-0500
TZOFFSETTO:-0400
TZNAME:EDT
DTSTART:20240310T070000
END:DAYLIGHT
BEGIN:STANDARD
TZOFFSETFROM:-0400
TZOFFSETTO:-0500
TZNAME:EST
DTSTART:20241103T060000
END:STANDARD
BEGIN:DAYLIGHT
TZOFFSETFROM:-0500
TZOFFSETTO:-0400
TZNAME:EDT
DTSTART:20250309T070000
END:DAYLIGHT
BEGIN:STANDARD
TZOFFSETFROM:-0400
TZOFFSETTO:-0500
TZNAME:EST
DTSTART:20251102T060000
END:STANDARD
BEGIN:DAYLIGHT
TZOFFSETFROM:-0500
TZOFFSETTO:-0400
TZNAME:EDT
DTSTART:20260308T070000
END:DAYLIGHT
BEGIN:STANDARD
TZOFFSETFROM:-0400
TZOFFSETTO:-0500
TZNAME:EST
DTSTART:20261101T060000
END:STANDARD
BEGIN:DAYLIGHT
TZOFFSETFROM:-0500
TZOFFSETTO:-0400
TZNAME:EDT
DTSTART:20270314T070000
END:DAYLIGHT
BEGIN:STANDARD
TZOFFSETFROM:-0400
TZOFFSETTO:-0500
TZNAME:EST
DTSTART:20271107T060000
END:STANDARD
END:VTIMEZONE
BEGIN:VEVENT
DTSTART;TZID=America/New_York:20250705T160000
DTEND;TZID=America/New_York:20250705T160000
DTSTAMP:20260422T005512
CREATED:20250806T140744Z
LAST-MODIFIED:20251215T174900Z
UID:94698-1751731200-1751731200@thelaurelmagazine.com
SUMMARY:Saturday Sound Bath at Unfurl Wellness Spa
DESCRIPTION:Join us each Saturday at 4:00 pm for Unfurl Wellness Spa’s Sound Bath\, a serene experience designed to help you reset and reconnect. Through the soothing vibrations of crystal singing bowls and gentle percussion\, sound baths encourage deep relaxation and promote mental clarity. These harmonic tones help slow brain waves\, reduce stress\, and foster a meditative state\, allowing your body and mind to unwind from the pressures of daily life. \nTake this time to nurture your well-being in a calm\, supportive environment. \nFavorites Count: 0
URL:https://thelaurelmagazine.com/local-event/saturday-sound-bath-at-unfurl-wellness-spa/2025-07-05
LOCATION:Unfurl Wellness Spa\, 454 Dillard Rd\, Highlands\, NC\, 28741\, United States
CATEGORIES:Community,Health
ATTACH;FMTTYPE=image/jpeg:https://thelaurelmagazine.com/wp-content/uploads/2025/08/highlands-nc-unfurl-wellness-spa-sound-bath.jpg
END:VEVENT
BEGIN:VEVENT
DTSTART;TZID=America/New_York:20250802T160000
DTEND;TZID=America/New_York:20250802T160000
DTSTAMP:20260422T005512
CREATED:20250806T140744Z
LAST-MODIFIED:20251215T175004Z
UID:94706-1754150400-1754150400@thelaurelmagazine.com
SUMMARY:Saturday Sound Bath at Unfurl Wellness Spa
DESCRIPTION:Join us each Saturday at 4:00 pm for Unfurl Wellness Spa’s Sound Bath\, a serene experience designed to help you reset and reconnect. Through the soothing vibrations of crystal singing bowls and gentle percussion\, sound baths encourage deep relaxation and promote mental clarity. These harmonic tones help slow brain waves\, reduce stress\, and foster a meditative state\, allowing your body and mind to unwind from the pressures of daily life. \nTake this time to nurture your well-being in a calm\, supportive environment. \nFavorites Count: 0
URL:https://thelaurelmagazine.com/local-event/saturday-sound-bath-at-unfurl-wellness-spa/2025-08-02
LOCATION:Unfurl Wellness Spa\, 454 Dillard Rd\, Highlands\, NC\, 28741\, United States
CATEGORIES:Community,Health
ATTACH;FMTTYPE=image/jpeg:https://thelaurelmagazine.com/wp-content/uploads/2025/08/highlands-nc-unfurl-wellness-spa-sound-bath.jpg
END:VEVENT
BEGIN:VEVENT
DTSTART;TZID=America/New_York:20250906T160000
DTEND;TZID=America/New_York:20250906T160000
DTSTAMP:20260422T005512
CREATED:20250806T140744Z
LAST-MODIFIED:20251215T175005Z
UID:94711-1757174400-1757174400@thelaurelmagazine.com
SUMMARY:Saturday Sound Bath at Unfurl Wellness Spa
DESCRIPTION:Join us each Saturday at 4:00 pm for Unfurl Wellness Spa’s Sound Bath\, a serene experience designed to help you reset and reconnect. Through the soothing vibrations of crystal singing bowls and gentle percussion\, sound baths encourage deep relaxation and promote mental clarity. These harmonic tones help slow brain waves\, reduce stress\, and foster a meditative state\, allowing your body and mind to unwind from the pressures of daily life. \nTake this time to nurture your well-being in a calm\, supportive environment. \nFavorites Count: 0
URL:https://thelaurelmagazine.com/local-event/saturday-sound-bath-at-unfurl-wellness-spa/2025-09-06
LOCATION:Unfurl Wellness Spa\, 454 Dillard Rd\, Highlands\, NC\, 28741\, United States
CATEGORIES:Community,Health
ATTACH;FMTTYPE=image/jpeg:https://thelaurelmagazine.com/wp-content/uploads/2025/08/highlands-nc-unfurl-wellness-spa-sound-bath.jpg
END:VEVENT
BEGIN:VEVENT
DTSTART;TZID=America/New_York:20251004T160000
DTEND;TZID=America/New_York:20251004T160000
DTSTAMP:20260422T005512
CREATED:20250806T140744Z
LAST-MODIFIED:20251215T175010Z
UID:94716-1759593600-1759593600@thelaurelmagazine.com
SUMMARY:Saturday Sound Bath at Unfurl Wellness Spa
DESCRIPTION:Join us each Saturday at 4:00 pm for Unfurl Wellness Spa’s Sound Bath\, a serene experience designed to help you reset and reconnect. Through the soothing vibrations of crystal singing bowls and gentle percussion\, sound baths encourage deep relaxation and promote mental clarity. These harmonic tones help slow brain waves\, reduce stress\, and foster a meditative state\, allowing your body and mind to unwind from the pressures of daily life. \nTake this time to nurture your well-being in a calm\, supportive environment. \nFavorites Count: 0
URL:https://thelaurelmagazine.com/local-event/saturday-sound-bath-at-unfurl-wellness-spa/2025-10-04
LOCATION:Unfurl Wellness Spa\, 454 Dillard Rd\, Highlands\, NC\, 28741\, United States
CATEGORIES:Community,Health
ATTACH;FMTTYPE=image/jpeg:https://thelaurelmagazine.com/wp-content/uploads/2025/08/highlands-nc-unfurl-wellness-spa-sound-bath.jpg
END:VEVENT
BEGIN:VEVENT
DTSTART;TZID=America/New_York:20251101T160000
DTEND;TZID=America/New_York:20251101T160000
DTSTAMP:20260422T005512
CREATED:20250806T140744Z
LAST-MODIFIED:20251215T175011Z
UID:94720-1762012800-1762012800@thelaurelmagazine.com
SUMMARY:Saturday Sound Bath at Unfurl Wellness Spa
DESCRIPTION:Join us each Saturday at 4:00 pm for Unfurl Wellness Spa’s Sound Bath\, a serene experience designed to help you reset and reconnect. Through the soothing vibrations of crystal singing bowls and gentle percussion\, sound baths encourage deep relaxation and promote mental clarity. These harmonic tones help slow brain waves\, reduce stress\, and foster a meditative state\, allowing your body and mind to unwind from the pressures of daily life. \nTake this time to nurture your well-being in a calm\, supportive environment. \nFavorites Count: 0
URL:https://thelaurelmagazine.com/local-event/saturday-sound-bath-at-unfurl-wellness-spa/2025-11-01
LOCATION:Unfurl Wellness Spa\, 454 Dillard Rd\, Highlands\, NC\, 28741\, United States
CATEGORIES:Community,Health
ATTACH;FMTTYPE=image/jpeg:https://thelaurelmagazine.com/wp-content/uploads/2025/08/highlands-nc-unfurl-wellness-spa-sound-bath.jpg
END:VEVENT
BEGIN:VEVENT
DTSTART;TZID=America/New_York:20251206T160000
DTEND;TZID=America/New_York:20251206T160000
DTSTAMP:20260422T005512
CREATED:20250806T140744Z
LAST-MODIFIED:20251215T175011Z
UID:107281-1765036800-1765036800@thelaurelmagazine.com
SUMMARY:Saturday Sound Bath at Unfurl Wellness Spa
DESCRIPTION:Join us each Saturday at 4:00 pm for Unfurl Wellness Spa’s Sound Bath\, a serene experience designed to help you reset and reconnect. Through the soothing vibrations of crystal singing bowls and gentle percussion\, sound baths encourage deep relaxation and promote mental clarity. These harmonic tones help slow brain waves\, reduce stress\, and foster a meditative state\, allowing your body and mind to unwind from the pressures of daily life. \nTake this time to nurture your well-being in a calm\, supportive environment. \nFavorites Count: 0
URL:https://thelaurelmagazine.com/local-event/saturday-sound-bath-at-unfurl-wellness-spa/2025-12-06
LOCATION:Unfurl Wellness Spa\, 454 Dillard Rd\, Highlands\, NC\, 28741\, United States
CATEGORIES:Community,Health
ATTACH;FMTTYPE=image/jpeg:https://thelaurelmagazine.com/wp-content/uploads/2025/08/highlands-nc-unfurl-wellness-spa-sound-bath.jpg
END:VEVENT
BEGIN:VEVENT
DTSTART;TZID=America/New_York:20260103T160000
DTEND;TZID=America/New_York:20260103T160000
DTSTAMP:20260422T005512
CREATED:20250806T140744Z
LAST-MODIFIED:20251215T175011Z
UID:107285-1767456000-1767456000@thelaurelmagazine.com
SUMMARY:Saturday Sound Bath at Unfurl Wellness Spa
DESCRIPTION:Join us each Saturday at 4:00 pm for Unfurl Wellness Spa’s Sound Bath\, a serene experience designed to help you reset and reconnect. Through the soothing vibrations of crystal singing bowls and gentle percussion\, sound baths encourage deep relaxation and promote mental clarity. These harmonic tones help slow brain waves\, reduce stress\, and foster a meditative state\, allowing your body and mind to unwind from the pressures of daily life. \nTake this time to nurture your well-being in a calm\, supportive environment. \nFavorites Count: 0
URL:https://thelaurelmagazine.com/local-event/saturday-sound-bath-at-unfurl-wellness-spa/2026-01-03
LOCATION:Unfurl Wellness Spa\, 454 Dillard Rd\, Highlands\, NC\, 28741\, United States
CATEGORIES:Community,Health
ATTACH;FMTTYPE=image/jpeg:https://thelaurelmagazine.com/wp-content/uploads/2025/08/highlands-nc-unfurl-wellness-spa-sound-bath.jpg
END:VEVENT
BEGIN:VEVENT
DTSTART;TZID=America/New_York:20260207T160000
DTEND;TZID=America/New_York:20260207T160000
DTSTAMP:20260422T005512
CREATED:20250806T140744Z
LAST-MODIFIED:20251215T175011Z
UID:107290-1770480000-1770480000@thelaurelmagazine.com
SUMMARY:Saturday Sound Bath at Unfurl Wellness Spa
DESCRIPTION:Join us each Saturday at 4:00 pm for Unfurl Wellness Spa’s Sound Bath\, a serene experience designed to help you reset and reconnect. Through the soothing vibrations of crystal singing bowls and gentle percussion\, sound baths encourage deep relaxation and promote mental clarity. These harmonic tones help slow brain waves\, reduce stress\, and foster a meditative state\, allowing your body and mind to unwind from the pressures of daily life. \nTake this time to nurture your well-being in a calm\, supportive environment. \nFavorites Count: 0
URL:https://thelaurelmagazine.com/local-event/saturday-sound-bath-at-unfurl-wellness-spa/2026-02-07
LOCATION:Unfurl Wellness Spa\, 454 Dillard Rd\, Highlands\, NC\, 28741\, United States
CATEGORIES:Community,Health
ATTACH;FMTTYPE=image/jpeg:https://thelaurelmagazine.com/wp-content/uploads/2025/08/highlands-nc-unfurl-wellness-spa-sound-bath.jpg
END:VEVENT
BEGIN:VEVENT
DTSTART;TZID=America/New_York:20260307T160000
DTEND;TZID=America/New_York:20260307T160000
DTSTAMP:20260422T005512
CREATED:20250806T140744Z
LAST-MODIFIED:20251215T175011Z
UID:107294-1772899200-1772899200@thelaurelmagazine.com
SUMMARY:Saturday Sound Bath at Unfurl Wellness Spa
DESCRIPTION:Join us each Saturday at 4:00 pm for Unfurl Wellness Spa’s Sound Bath\, a serene experience designed to help you reset and reconnect. Through the soothing vibrations of crystal singing bowls and gentle percussion\, sound baths encourage deep relaxation and promote mental clarity. These harmonic tones help slow brain waves\, reduce stress\, and foster a meditative state\, allowing your body and mind to unwind from the pressures of daily life. \nTake this time to nurture your well-being in a calm\, supportive environment. \nFavorites Count: 0
URL:https://thelaurelmagazine.com/local-event/saturday-sound-bath-at-unfurl-wellness-spa/2026-03-07
LOCATION:Unfurl Wellness Spa\, 454 Dillard Rd\, Highlands\, NC\, 28741\, United States
CATEGORIES:Community,Health
ATTACH;FMTTYPE=image/jpeg:https://thelaurelmagazine.com/wp-content/uploads/2025/08/highlands-nc-unfurl-wellness-spa-sound-bath.jpg
END:VEVENT
BEGIN:VEVENT
DTSTART;TZID=America/New_York:20260404T160000
DTEND;TZID=America/New_York:20260404T160000
DTSTAMP:20260422T005512
CREATED:20250806T140744Z
LAST-MODIFIED:20251215T175011Z
UID:107298-1775318400-1775318400@thelaurelmagazine.com
SUMMARY:Saturday Sound Bath at Unfurl Wellness Spa
DESCRIPTION:Join us each Saturday at 4:00 pm for Unfurl Wellness Spa’s Sound Bath\, a serene experience designed to help you reset and reconnect. Through the soothing vibrations of crystal singing bowls and gentle percussion\, sound baths encourage deep relaxation and promote mental clarity. These harmonic tones help slow brain waves\, reduce stress\, and foster a meditative state\, allowing your body and mind to unwind from the pressures of daily life. \nTake this time to nurture your well-being in a calm\, supportive environment. \nFavorites Count: 0
URL:https://thelaurelmagazine.com/local-event/saturday-sound-bath-at-unfurl-wellness-spa/2026-04-04
LOCATION:Unfurl Wellness Spa\, 454 Dillard Rd\, Highlands\, NC\, 28741\, United States
CATEGORIES:Community,Health
ATTACH;FMTTYPE=image/jpeg:https://thelaurelmagazine.com/wp-content/uploads/2025/08/highlands-nc-unfurl-wellness-spa-sound-bath.jpg
END:VEVENT
END:VCALENDAR